BEGIN:VCALENDAR
VERSION:2.0
PRODID:-//The Coonamble Times - ECPv6.13.2.1//NONSGML v1.0//EN
CALSCALE:GREGORIAN
METHOD:PUBLISH
X-WR-CALNAME:The Coonamble Times
X-ORIGINAL-URL:https://www.coonambletimes.com.au
X-WR-CALDESC:Events for The Coonamble Times
REFRESH-INTERVAL;VALUE=DURATION:PT1H
X-Robots-Tag:noindex
X-PUBLISHED-TTL:PT1H
BEGIN:VTIMEZONE
TZID:Australia/Sydney
BEGIN:STANDARD
TZOFFSETFROM:+1100
TZOFFSETTO:+1000
TZNAME:AEST
DTSTART:20190406T160000
END:STANDARD
BEGIN:DAYLIGHT
TZOFFSETFROM:+1000
TZOFFSETTO:+1100
TZNAME:AEDT
DTSTART:20191005T160000
END:DAYLIGHT
END:VTIMEZONE
BEGIN:VEVENT
DTSTART;TZID=Australia/Sydney:20190205T043000
DTEND;TZID=Australia/Sydney:20190301T043000
DTSTAMP:20260425T044807
CREATED:20190129T153349Z
LAST-MODIFIED:20190129T153349Z
UID:4788-1549341000-1551414600@www.coonambletimes.com.au
SUMMARY:Land and Light Exhibition
DESCRIPTION:The Land and light exhibition is a 4-week tribute to the life of Volker Leder. \nOpening night is Monday 4th Februray 2019 @ 5pm. Come along and immerse yourself into the wondrous work and life of Volker Leder.
URL:https://www.coonambletimes.com.au/event/land-and-light-exhibition/
ATTACH;FMTTYPE=image/jpeg:https://www.coonambletimes.com.au/wp-content/uploads/2019/01/Land-and-Light_outback-Arts.jpg
END:VEVENT
BEGIN:VEVENT
DTSTART;TZID=Australia/Sydney:20190223T110000
DTEND;TZID=Australia/Sydney:20190223T110000
DTSTAMP:20260425T044807
CREATED:20181203T182541Z
LAST-MODIFIED:20181203T182541Z
UID:4653-1550919600-1550919600@www.coonambletimes.com.au
SUMMARY:Welcome to Coonamble Dinner
DESCRIPTION:Have you just moved to Coonamble? Do you want to know more information about the community and what we offer. Well SAVE THE DATE the  ‘Welcome to Coonamble Dinner’ will be held on February 23 2019. The dinner is an annual event where the township invites all new arrivals to meet some of the people of Coonamble and the local business owners.
URL:https://www.coonambletimes.com.au/event/welcome-to-coonamble-dinner/
END:VEVENT
BEGIN:VEVENT
DTSTART;TZID=Australia/Sydney:20190223T230000
DTEND;TZID=Australia/Sydney:20190223T230000
DTSTAMP:20260425T044807
CREATED:20190218T152705Z
LAST-MODIFIED:20190218T152705Z
UID:4855-1550962800-1550962800@www.coonambletimes.com.au
SUMMARY:Time to Turn up - Community Meeting
DESCRIPTION:Riase your questions before voting in the March election. Make the right decision for you and your Family. 
URL:https://www.coonambletimes.com.au/event/time-to-turn-up-community-meeting/
ATTACH;FMTTYPE=image/jpeg:https://www.coonambletimes.com.au/wp-content/uploads/2019/02/Time-to-turn-up_Community-Meeting_-Events.jpg
END:VEVENT
END:VCALENDAR