BEGIN:VCALENDAR
VERSION:2.0
PRODID:-//The Coonamble Times - ECPv6.13.2.1//NONSGML v1.0//EN
CALSCALE:GREGORIAN
METHOD:PUBLISH
X-ORIGINAL-URL:https://www.coonambletimes.com.au
X-WR-CALDESC:Events for The Coonamble Times
REFRESH-INTERVAL;VALUE=DURATION:PT1H
X-Robots-Tag:noindex
X-PUBLISHED-TTL:PT1H
BEGIN:VTIMEZONE
TZID:Australia/Sydney
BEGIN:STANDARD
TZOFFSETFROM:+1100
TZOFFSETTO:+1000
TZNAME:AEST
DTSTART:20190406T160000
END:STANDARD
BEGIN:DAYLIGHT
TZOFFSETFROM:+1000
TZOFFSETTO:+1100
TZNAME:AEDT
DTSTART:20191005T160000
END:DAYLIGHT
END:VTIMEZONE
BEGIN:VEVENT
DTSTART;TZID=Australia/Sydney:20190315T190000
DTEND;TZID=Australia/Sydney:20190316T040000
DTSTAMP:20260425T073627
CREATED:20190314T161021Z
LAST-MODIFIED:20190314T161021Z
UID:4930-1552676400-1552708800@www.coonambletimes.com.au
SUMMARY:Chamber plans D-I-Y drought support for local businesses
DESCRIPTION:AS THE drought drags on the drain on incomes is taking a toll on all types of businesses around the region.\nSome local business owners have been asking sitting members\, visiting political candidates and staff of various government agencies what their strategies are for assisting non-farm businesses to remain viable in these extreme conditions.\nApart from small-scale initiatives like the Coonamble Drought Buster Dollars and taxation deferrals from the Australian Tax Office\, it has become clear that no substantial external help is available from any quarter for businesses outside the agricultural sector.\nWith this in mind\, the Coonamble Chamber of Commerce applied for a $10\,000 grant from the Western NSW Primary Health Network to bring local businesses together to build their survival skills and sustain their businesses during dry times.\nThe application was made under the PHN’s Community Wellbeing and Drought Support program as part of their push to support community education sessions that develop sustainability in natural disasters.\nLast week the organisation received notice that their application was successful and they are now surveying members as to the topics they would most like to discuss.\n“We will be working to find the best presenters on the topics that our members feel are critical to helping them strengthen their business and out-last this drought\,” said Chamber President Mark Vaughan.”Things are very tough for businesses in these communities.”\n“Everyone is getting pretty exhausted\,” Mr Vaughan said. “There is just not enough money going around and our businesses are constantly thinking about how they can keep their staff and continue to provide goods and services to their customers.”\nNon-farm businesses are responsible for employing a large proportion of the region’s population and unless they can continue to operate profitably\, the district will see a further contraction in both employment and population.\nAt the last census there were 1416 people employed in the local government area\, with at least 450 of those employed in non-agricultural and non-government businesses.\nWhen surveyed by the NSW Business Chamber in August 2018\, approximately one in three regional businesses stated that the viability of their business was at risk due to drought conditions.\nThe survey included large regional centres so it is expected that businesses in agriculture-reliant communities such as Coonamble\, Baradine and Gulargambone would be at least two in three.\nIn additional\, four in five affected businesses indicated cash flow had been impacted and these businesses stated they may need to reduce staffing levels by an average of 1.5 employees.\n“There are many challenges being thrown up by the drought\,” Mr Vaughan said.\n“We hope that bringing people together to support each other and to take home some new skills and strategies will be a big help to those who need it.”\nBusinesses around the district who are not members of the Chamber of Commerce will also be invited to participate.
URL:https://www.coonambletimes.com.au/event/chamber-plans-d-i-y-drought-support-for-local-businesses/
ATTACH;FMTTYPE=image/gif:https://www.coonambletimes.com.au/wp-content/uploads/2019/03/chamber-exec-mar19.gif
END:VEVENT
BEGIN:VEVENT
DTSTART;VALUE=DATE:20190316
DTEND;VALUE=DATE:20190318
DTSTAMP:20260425T073627
CREATED:20190225T164539Z
LAST-MODIFIED:20190225T164539Z
UID:4874-1552734000-1552820399@www.coonambletimes.com.au
SUMMARY:Baradine Show
DESCRIPTION:It’s that time of the year again\, Baradine Show is only a few weeks away. Come along and enjoy a fun filled day at the Baradine showground.
URL:https://www.coonambletimes.com.au/event/baradine-show/
ATTACH;FMTTYPE=image/jpeg:https://www.coonambletimes.com.au/wp-content/uploads/2019/02/Baradine-SHow.jpg
END:VEVENT
BEGIN:VEVENT
DTSTART;TZID=Australia/Sydney:20190324T030000
DTEND;TZID=Australia/Sydney:20190324T030000
DTSTAMP:20260425T073627
CREATED:20190318T145128Z
LAST-MODIFIED:20190318T145128Z
UID:4939-1553396400-1553396400@www.coonambletimes.com.au
SUMMARY:Coonamble v Walgett in Rugby
DESCRIPTION:
URL:https://www.coonambletimes.com.au/event/coonamble-v-walgett-in-rugby/
LOCATION:Coonamble Sportsground\, Castlereagh Highway\, Coonamble\, New South Wales\, 2829\, Australia
ATTACH;FMTTYPE=image/jpeg:https://www.coonambletimes.com.au/wp-content/uploads/2019/03/RAMS-RUGBY.jpg
END:VEVENT
BEGIN:VEVENT
DTSTART;VALUE=DATE:20190328
DTEND;VALUE=DATE:20190402
DTSTAMP:20260425T073627
CREATED:20190325T165651Z
LAST-MODIFIED:20190325T165651Z
UID:4964-1553770800-1554116399@www.coonambletimes.com.au
SUMMARY:Coonamble Challenge & Campdraft
DESCRIPTION:THIS weekenc Coonamble is hosting its 3-day Challenge and campdraft event. Entry is FREE so come along and check out the talent. Food and Drinks will be available for purchase.
URL:https://www.coonambletimes.com.au/event/coonamble-challenge-campdraft/
ATTACH;FMTTYPE=image/jpeg:https://www.coonambletimes.com.au/wp-content/uploads/2019/03/Challenge-Campdraft.jpg
END:VEVENT
BEGIN:VEVENT
DTSTART;TZID=Australia/Sydney:20190406T000000
DTEND;TZID=Australia/Sydney:20190406T000000
DTSTAMP:20260425T073627
CREATED:20190325T171427Z
LAST-MODIFIED:20190325T171427Z
UID:4967-1554508800-1554508800@www.coonambletimes.com.au
SUMMARY:"Get off the Farm" Golf Day
DESCRIPTION:Novelty Ambrose golf day. “Get off the farm” and enjoy a day on the green.
URL:https://www.coonambletimes.com.au/event/get-off-the-farm-golf-day/
ATTACH;FMTTYPE=image/jpeg:https://www.coonambletimes.com.au/wp-content/uploads/2019/03/Farmers-Golf-Day.jpg
END:VEVENT
BEGIN:VEVENT
DTSTART;TZID=Australia/Sydney:20190406T210000
DTEND;TZID=Australia/Sydney:20190407T010000
DTSTAMP:20260425T073627
CREATED:20190325T165358Z
LAST-MODIFIED:20190325T165358Z
UID:4961-1554584400-1554598800@www.coonambletimes.com.au
SUMMARY:Wick Garden Workshop
DESCRIPTION:Come along and learn how to grow nutritious\, dense foods in hostile environments.
URL:https://www.coonambletimes.com.au/event/wick-garden-workshop/
ATTACH;FMTTYPE=image/jpeg:https://www.coonambletimes.com.au/wp-content/uploads/2019/03/Wick-Garden-Workshop.jpg
END:VEVENT
BEGIN:VEVENT
DTSTART;TZID=Australia/Sydney:20190407T190000
DTEND;TZID=Australia/Sydney:20190407T190000
DTSTAMP:20260425T073627
CREATED:20190325T171928Z
LAST-MODIFIED:20190325T180922Z
UID:4970-1554663600-1554663600@www.coonambletimes.com.au
SUMMARY:Wanderers Tennis Club Doubles Tournament
DESCRIPTION:Enjoy a day of tennis\, Male\, Female and mixed teams.
URL:https://www.coonambletimes.com.au/event/wanderers-tennis-club-doubles-tournament/
ATTACH;FMTTYPE=image/jpeg:https://www.coonambletimes.com.au/wp-content/uploads/2019/03/Wanders-Tennis-Comp.jpg
END:VEVENT
BEGIN:VEVENT
DTSTART;TZID=Australia/Sydney:20190410T190000
DTEND;TZID=Australia/Sydney:20190411T010000
DTSTAMP:20260425T073627
CREATED:20190325T161127Z
LAST-MODIFIED:20190325T161127Z
UID:4958-1554922800-1554944400@www.coonambletimes.com.au
SUMMARY:Accidental Councillor
DESCRIPTION:Are you an Accidental Councillor? Come along and learn the tools to help your community.
URL:https://www.coonambletimes.com.au/event/accidental-councillor/
ATTACH;FMTTYPE=image/jpeg:https://www.coonambletimes.com.au/wp-content/uploads/2019/03/Accidental-Councilling.jpg
END:VEVENT
BEGIN:VEVENT
DTSTART;VALUE=DATE:20190413
DTEND;VALUE=DATE:20190415
DTSTAMP:20260425T073627
CREATED:20190408T154734Z
LAST-MODIFIED:20190408T154734Z
UID:4996-1555149600-1555235999@www.coonambletimes.com.au
SUMMARY:Bowling Club Celebrate Winx
DESCRIPTION:Come and celebrate Winx Saturday 13th April. Don’t forget to dress in your best races outfit! 
URL:https://www.coonambletimes.com.au/event/bowling-club-celebrate-winx/
LOCATION:Coonamble Bowling Club\, Aberford Street\, Coonamble\, New South Wales\, 2829\, Australia
ATTACH;FMTTYPE=image/jpeg:https://www.coonambletimes.com.au/wp-content/uploads/2019/04/Bowlo-Winx-Day.jpg
END:VEVENT
BEGIN:VEVENT
DTSTART;TZID=Australia/Sydney:20190417T040000
DTEND;TZID=Australia/Sydney:20190417T040000
DTSTAMP:20260425T073627
CREATED:20190325T172848Z
LAST-MODIFIED:20190325T172848Z
UID:4977-1555473600-1555473600@www.coonambletimes.com.au
SUMMARY:Neville Peter
DESCRIPTION:Singer\,Composer and pianist Neville Peter is coming to Coonamble for ONE NIGHT ONLY.
URL:https://www.coonambletimes.com.au/event/neville-peter/
LOCATION:Coonamble Bowling Club\, Aberford Street\, Coonamble\, New South Wales\, 2829\, Australia
ATTACH;FMTTYPE=image/jpeg:https://www.coonambletimes.com.au/wp-content/uploads/2019/03/Neville-Peter-Concert.jpg
END:VEVENT
BEGIN:VEVENT
DTSTART;TZID=Australia/Sydney:20190421T180000
DTEND;TZID=Australia/Sydney:20190421T180000
DTSTAMP:20260425T073627
CREATED:20190408T154414Z
LAST-MODIFIED:20190408T154414Z
UID:4992-1555869600-1555869600@www.coonambletimes.com.au
SUMMARY:Quambone Family Sports & Fun Day
DESCRIPTION:Quambone is hold a fun filled day for all the family at the local sports ground\, their are plenty of prizes to be won. 
URL:https://www.coonambletimes.com.au/event/quambone-family-sports-fun-day/
LOCATION:Quambone Sportsground\, Quambone\, NSW\, Australia
ATTACH;FMTTYPE=image/jpeg:https://www.coonambletimes.com.au/wp-content/uploads/2019/04/Quambone-Fun-Day.jpg
END:VEVENT
BEGIN:VEVENT
DTSTART;TZID=Australia/Sydney:20190428T010000
DTEND;TZID=Australia/Sydney:20190428T010000
DTSTAMP:20260425T073627
CREATED:20190415T195342Z
LAST-MODIFIED:20190415T195342Z
UID:5012-1556413200-1556413200@www.coonambletimes.com.au
SUMMARY:Launch Party
DESCRIPTION:Come and celebrate the move with Myrtel. They will be a book launch\, live music\,CD launch\, and guest speakers\, and of course the opening of Castlereagh Photographics and Framing!
URL:https://www.coonambletimes.com.au/event/launch-party/
ATTACH;FMTTYPE=image/png:https://www.coonambletimes.com.au/wp-content/uploads/2019/04/Invite-1.png
END:VEVENT
BEGIN:VEVENT
DTSTART;TZID=Australia/Sydney:20190428T010000
DTEND;TZID=Australia/Sydney:20190428T010000
DTSTAMP:20260425T073627
CREATED:20190423T202847Z
LAST-MODIFIED:20190423T202847Z
UID:5024-1556413200-1556413200@www.coonambletimes.com.au
SUMMARY:Coonamble Rams VS Bourke Rams
DESCRIPTION:Support the Coonamble Rams THIS Saturday\, when they play against the Bourke Rams.
URL:https://www.coonambletimes.com.au/event/coonamble-rams-vs-bourke-rams/
LOCATION:Coonamble Sportsground\, Castlereagh Highway\, Coonamble\, New South Wales\, 2829\, Australia
ATTACH;FMTTYPE=image/png:https://www.coonambletimes.com.au/wp-content/uploads/2019/04/Rams-v-Bourke_27th-April.png
END:VEVENT
BEGIN:VEVENT
DTSTART;TZID=Australia/Sydney:20190503T040000
DTEND;TZID=Australia/Sydney:20190503T040000
DTSTAMP:20260425T073627
CREATED:20190429T210538Z
LAST-MODIFIED:20190429T210538Z
UID:5045-1556856000-1556856000@www.coonambletimes.com.au
SUMMARY:Royal Far West Trivia Night
DESCRIPTION:Come along and test your knowledge in this fun filled night. 
URL:https://www.coonambletimes.com.au/event/royal-far-west-trivia-night/
LOCATION:Coonamble Golf Club\, Caswell Street\, Coonamble\, New South Wales\, 2829\, Australia
ATTACH;FMTTYPE=image/jpeg:https://www.coonambletimes.com.au/wp-content/uploads/2019/04/Trivia-Night.jpg
END:VEVENT
BEGIN:VEVENT
DTSTART;VALUE=DATE:20190504
DTEND;VALUE=DATE:20190506
DTSTAMP:20260425T073627
CREATED:20190429T203451Z
LAST-MODIFIED:20190429T203451Z
UID:5032-1556964000-1557050399@www.coonambletimes.com.au
SUMMARY:Reworking Still Life
DESCRIPTION:Arts Alive are holding Acrylic and oil workshops over four Saturdays. RSVP now to secure your spot. 
URL:https://www.coonambletimes.com.au/event/reworking-still-life/
LOCATION:Coonamble Scouts Hall\, Coonamble\, NSW\, 2829\, Australia
ATTACH;FMTTYPE=image/jpeg:https://www.coonambletimes.com.au/wp-content/uploads/2019/04/Reworking-Still-Life.jpg
END:VEVENT
BEGIN:VEVENT
DTSTART;TZID=Australia/Sydney:20190505T033000
DTEND;TZID=Australia/Sydney:20190505T033000
DTSTAMP:20260425T073627
CREATED:20190429T211220Z
LAST-MODIFIED:20190429T211220Z
UID:5050-1557027000-1557027000@www.coonambletimes.com.au
SUMMARY:Sacrifice Zone - GABP
DESCRIPTION:
URL:https://www.coonambletimes.com.au/event/sacrifice-zone-gabp/
LOCATION:Coonamble Golf Club\, Caswell Street\, Coonamble\, New South Wales\, 2829\, Australia
ATTACH;FMTTYPE=image/jpeg:https://www.coonambletimes.com.au/wp-content/uploads/2019/04/GABP.jpg
END:VEVENT
BEGIN:VEVENT
DTSTART;TZID=Australia/Sydney:20190510T210000
DTEND;TZID=Australia/Sydney:20190510T210000
DTSTAMP:20260425T073627
CREATED:20190506T182211Z
LAST-MODIFIED:20190506T182211Z
UID:5091-1557522000-1557522000@www.coonambletimes.com.au
SUMMARY:Australia's Biggest Morning Tea
DESCRIPTION:Join the Coonamble Bowling Club for the Biggest Morning Tea. 
URL:https://www.coonambletimes.com.au/event/australias-biggest-morning-tea/
LOCATION:Coonamble Bowling Club\, Aberford Street\, Coonamble\, New South Wales\, 2829\, Australia
ATTACH;FMTTYPE=image/png:https://www.coonambletimes.com.au/wp-content/uploads/2019/05/Bowling-Club_Morning-Tea.png
END:VEVENT
BEGIN:VEVENT
DTSTART;VALUE=DATE:20190511
DTEND;VALUE=DATE:20190513
DTSTAMP:20260425T073627
CREATED:20190429T203710Z
LAST-MODIFIED:20190429T203710Z
UID:5037-1557568800-1557655199@www.coonambletimes.com.au
SUMMARY:Reworking Still Life
DESCRIPTION:Arts Alive are holding Acrylic and oil workshops over four Saturdays. RSVP now to secure your spot. 
URL:https://www.coonambletimes.com.au/event/reworking-still-life-2/
ATTACH;FMTTYPE=image/jpeg:https://www.coonambletimes.com.au/wp-content/uploads/2019/04/Reworking-Still-Life.jpg
END:VEVENT
BEGIN:VEVENT
DTSTART;TZID=Australia/Sydney:20190511T210000
DTEND;TZID=Australia/Sydney:20190511T210000
DTSTAMP:20260425T073627
CREATED:20190325T172435Z
LAST-MODIFIED:20190325T172435Z
UID:4974-1557608400-1557608400@www.coonambletimes.com.au
SUMMARY:Marthaguy Picnic Races
DESCRIPTION:
URL:https://www.coonambletimes.com.au/event/marthaguy-picnic-races/
ATTACH;FMTTYPE=image/jpeg:https://www.coonambletimes.com.au/wp-content/uploads/2019/03/Marthaguy-Races.jpg
END:VEVENT
BEGIN:VEVENT
DTSTART;TZID=Australia/Sydney:20190511T230000
DTEND;TZID=Australia/Sydney:20190511T230000
DTSTAMP:20260425T073627
CREATED:20190506T192406Z
LAST-MODIFIED:20190506T192406Z
UID:5099-1557615600-1557615600@www.coonambletimes.com.au
SUMMARY:Coonamble Rams VS Cobar Camels
DESCRIPTION:
URL:https://www.coonambletimes.com.au/event/coonamble-rams-vs-cobar-camels/
LOCATION:Coonamble Sportsground\, Castlereagh Highway\, Coonamble\, New South Wales\, 2829\, Australia
ATTACH;FMTTYPE=image/png:https://www.coonambletimes.com.au/wp-content/uploads/2019/05/Rams.png
END:VEVENT
BEGIN:VEVENT
DTSTART;VALUE=DATE:20190520
DTEND;VALUE=DATE:20190623
DTSTAMP:20260425T073627
CREATED:20190423T203053Z
LAST-MODIFIED:20190423T203053Z
UID:5026-1558346400-1561197599@www.coonambletimes.com.au
SUMMARY:Waste2Art
DESCRIPTION:Turn your everyday waste into Art\, in this exhibition. Enter of come and see the display of resourceful creations.
URL:https://www.coonambletimes.com.au/event/waste2art/
LOCATION:Outback Arts\, 26/30 Castleregh Street\, Coonamble\, New South Wales\, 2829\, Australia
ATTACH;FMTTYPE=image/png:https://www.coonambletimes.com.au/wp-content/uploads/2019/04/Waste2Art.png
END:VEVENT
BEGIN:VEVENT
DTSTART;TZID=Australia/Sydney:20190523T200000
DTEND;TZID=Australia/Sydney:20190523T213000
DTSTAMP:20260425T073627
CREATED:20190506T192045Z
LAST-MODIFIED:20190506T192045Z
UID:5095-1558641600-1558647000@www.coonambletimes.com.au
SUMMARY:National Volunteers Week Morning Tea
DESCRIPTION:Lets celebrate our amazing volunteers with a community morning tea. 
URL:https://www.coonambletimes.com.au/event/national-volunteers-week-morning-tea/
LOCATION:Coonamble Bowling Club\, Aberford Street\, Coonamble\, New South Wales\, 2829\, Australia
ATTACH;FMTTYPE=image/png:https://www.coonambletimes.com.au/wp-content/uploads/2019/05/Morning-Tea.png
ORGANIZER;CN="Coonamble Council":MAILTO:Jill@coonambleshire.nsw.au
END:VEVENT
BEGIN:VEVENT
DTSTART;TZID=Australia/Sydney:20190601T220000
DTEND;TZID=Australia/Sydney:20190601T220000
DTSTAMP:20260425T073627
CREATED:20190520T210538Z
LAST-MODIFIED:20190520T210538Z
UID:5116-1559426400-1559426400@www.coonambletimes.com.au
SUMMARY:Greyhound Racing Club Family Fun Day
DESCRIPTION:The Coonamble Greyhound Club are hosting a Family Fun day on the 1st of June. 
URL:https://www.coonambletimes.com.au/event/greyhound-racing-club-family-fun-day/
LOCATION:Coonamble Greyhound Club\, Castlereagh highway\, Coonamble\, NSW\, 2829\, Australia
ATTACH;FMTTYPE=image/png:https://www.coonambletimes.com.au/wp-content/uploads/2019/05/Greyhound.png
END:VEVENT
BEGIN:VEVENT
DTSTART;VALUE=DATE:20190608
DTEND;VALUE=DATE:20190610
DTSTAMP:20260425T073627
CREATED:20190429T203817Z
LAST-MODIFIED:20190429T203817Z
UID:5040-1559988000-1560074399@www.coonambletimes.com.au
SUMMARY:Reworking Still Life
DESCRIPTION:Arts Alive are holding Acrylic and oil workshops over four Saturdays. RSVP now to secure your spot. 
URL:https://www.coonambletimes.com.au/event/reworking-still-life-3/
ATTACH;FMTTYPE=image/jpeg:https://www.coonambletimes.com.au/wp-content/uploads/2019/04/Reworking-Still-Life.jpg
END:VEVENT
BEGIN:VEVENT
DTSTART;VALUE=DATE:20190615
DTEND;VALUE=DATE:20190617
DTSTAMP:20260425T073627
CREATED:20190429T203916Z
LAST-MODIFIED:20190429T203928Z
UID:5042-1560592800-1560679199@www.coonambletimes.com.au
SUMMARY:Reworking Still Life
DESCRIPTION:Arts Alive are holding Acrylic and oil workshops over four Saturdays. RSVP now to secure your spot. 
URL:https://www.coonambletimes.com.au/event/reworkign-still-life/
ATTACH;FMTTYPE=image/jpeg:https://www.coonambletimes.com.au/wp-content/uploads/2019/04/Reworking-Still-Life.jpg
END:VEVENT
BEGIN:VEVENT
DTSTART;TZID=Australia/Sydney:20190621T033000
DTEND;TZID=Australia/Sydney:20190621T033000
DTSTAMP:20260425T073627
CREATED:20190617T205635Z
LAST-MODIFIED:20190617T205635Z
UID:5139-1561087800-1561087800@www.coonambletimes.com.au
SUMMARY:Drought but not out
DESCRIPTION:come along to this fun filled workshop\, lets learn how to survive this drought 
URL:https://www.coonambletimes.com.au/event/drought-but-not-out/
LOCATION:Coonamble Bowling Club\, Aberford Street\, Coonamble\, New South Wales\, 2829\, Australia
ATTACH;FMTTYPE=image/png:https://www.coonambletimes.com.au/wp-content/uploads/2019/06/Drought-but-not-out.png
END:VEVENT
BEGIN:VEVENT
DTSTART;TZID=Australia/Sydney:20190623T210000
DTEND;TZID=Australia/Sydney:20190623T210000
DTSTAMP:20260425T073627
CREATED:20190617T205257Z
LAST-MODIFIED:20190617T205257Z
UID:5134-1561323600-1561323600@www.coonambletimes.com.au
SUMMARY:June showcase meeting
DESCRIPTION:June showcase meeting this Sunday make sure you are there
URL:https://www.coonambletimes.com.au/event/june-showcase-meeting/
LOCATION:Coonamble Jockey Club\, Australia
ATTACH;FMTTYPE=image/png:https://www.coonambletimes.com.au/wp-content/uploads/2019/06/June-Race-Meeting.png
ORGANIZER;CN="Coonamble Jockey Club":MAILTO:racing@coonamblejockeyclub.com.au
END:VEVENT
BEGIN:VEVENT
DTSTART;TZID=Australia/Sydney:20190628T033000
DTEND;TZID=Australia/Sydney:20190628T033000
DTSTAMP:20260425T073627
CREATED:20190624T204130Z
LAST-MODIFIED:20190624T204130Z
UID:5365-1561692600-1561692600@www.coonambletimes.com.au
SUMMARY:Outback Arts talk
DESCRIPTION:Come along to listen to Penny Evans talk about art and enjoy a social evening
URL:https://www.coonambletimes.com.au/event/outback-arts-talk/
LOCATION:Talent Scout Hall Coonamble
ATTACH;FMTTYPE=image/png:https://www.coonambletimes.com.au/wp-content/uploads/2019/06/Artist-Talk_Penny-Evans-Residency-June_2019_Social-Media.png
END:VEVENT
BEGIN:VEVENT
DTSTART;TZID=Australia/Sydney:20190629T233000
DTEND;TZID=Australia/Sydney:20190629T233000
DTSTAMP:20260425T073627
CREATED:20190624T204908Z
LAST-MODIFIED:20190624T204908Z
UID:5373-1561851000-1561851000@www.coonambletimes.com.au
SUMMARY:Coonamble Bears
DESCRIPTION:Come along to support the Coonamble Bears on Saturday!
URL:https://www.coonambletimes.com.au/event/coonamble-bears/
LOCATION:Coonamble Sportsground\, Castlereagh Highway\, Coonamble\, New South Wales\, 2829\, Australia
ATTACH;FMTTYPE=image/jpeg:https://www.coonambletimes.com.au/wp-content/uploads/2019/06/Coonamble-Bears.jpg
END:VEVENT
BEGIN:VEVENT
DTSTART;TZID=Australia/Sydney:20190630T010000
DTEND;TZID=Australia/Sydney:20190630T010000
DTSTAMP:20260425T073627
CREATED:20190624T203704Z
LAST-MODIFIED:20190624T203704Z
UID:5361-1561856400-1561856400@www.coonambletimes.com.au
SUMMARY:Coonamble Rams
DESCRIPTION:Come and support the Coonamble Rams this Saturday!
URL:https://www.coonambletimes.com.au/event/coonamble-rams/
LOCATION:Coonamble Sportsground\, Castlereagh Highway\, Coonamble\, New South Wales\, 2829\, Australia
ATTACH;FMTTYPE=image/png:https://www.coonambletimes.com.au/wp-content/uploads/2019/06/Nyngan-v-rams-29-June.png
END:VEVENT
END:VCALENDAR