BEGIN:VCALENDAR
VERSION:2.0
PRODID:-//The Coonamble Times - ECPv6.13.2.1//NONSGML v1.0//EN
CALSCALE:GREGORIAN
METHOD:PUBLISH
X-ORIGINAL-URL:https://www.coonambletimes.com.au
X-WR-CALDESC:Events for The Coonamble Times
REFRESH-INTERVAL;VALUE=DURATION:PT1H
X-Robots-Tag:noindex
X-PUBLISHED-TTL:PT1H
BEGIN:VTIMEZONE
TZID:Australia/Sydney
BEGIN:STANDARD
TZOFFSETFROM:+1100
TZOFFSETTO:+1000
TZNAME:AEST
DTSTART:20240406T160000
END:STANDARD
BEGIN:DAYLIGHT
TZOFFSETFROM:+1000
TZOFFSETTO:+1100
TZNAME:AEDT
DTSTART:20241005T160000
END:DAYLIGHT
END:VTIMEZONE
BEGIN:VEVENT
DTSTART;TZID=Australia/Sydney:20240712T193000
DTEND;TZID=Australia/Sydney:20240712T193000
DTSTAMP:20260425T054734
CREATED:20240710T013301Z
LAST-MODIFIED:20240710T013301Z
UID:57900-1720812600-1720812600@www.coonambletimes.com.au
SUMMARY:Bears Home Game- Reserve Grade
DESCRIPTION:
URL:https://www.coonambletimes.com.au/event/bears-home-game-reserve-grade/
LOCATION:Coonamble Sportsground\, Castlereagh Highway\, Coonamble\, New South Wales\, 2829\, Australia
END:VEVENT
BEGIN:VEVENT
DTSTART;TZID=Australia/Sydney:20240712T130000
DTEND;TZID=Australia/Sydney:20240712T130000
DTSTAMP:20260425T054734
CREATED:20240705T015819Z
LAST-MODIFIED:20240705T015819Z
UID:57784-1720789200-1720789200@www.coonambletimes.com.au
SUMMARY:Bull & Female Sale
DESCRIPTION:
URL:https://www.coonambletimes.com.au/event/bull-female-sale/
LOCATION:‘Kombali’ Narrabri
END:VEVENT
BEGIN:VEVENT
DTSTART;TZID=Australia/Sydney:20240708T100000
DTEND;TZID=Australia/Sydney:20240708T100000
DTSTAMP:20260425T054734
CREATED:20240626T061844Z
LAST-MODIFIED:20240626T061844Z
UID:57475-1720432800-1720432800@www.coonambletimes.com.au
SUMMARY:NAIDOC Week Launch
DESCRIPTION:
URL:https://www.coonambletimes.com.au/event/naidoc-week-launch/
LOCATION:CLALC Office\, 16 Castlereagh St\, Coonamble\, NSW\, 2829\, Australia
ATTACH;FMTTYPE=application/pdf:https://www.coonambletimes.com.au/wp-content/uploads/2024/06/CLALC_Naidoc-week_2024-1.pdf
END:VEVENT
BEGIN:VEVENT
DTSTART;TZID=Australia/Sydney:20240706T190000
DTEND;TZID=Australia/Sydney:20240706T190000
DTSTAMP:20260425T054734
CREATED:20240705T015930Z
LAST-MODIFIED:20240705T015930Z
UID:57788-1720292400-1720292400@www.coonambletimes.com.au
SUMMARY:Karaoke
DESCRIPTION:
URL:https://www.coonambletimes.com.au/event/karaoke/
LOCATION:Coonamble Bowling Club\, Aberford Street\, Coonamble\, New South Wales\, 2829\, Australia
END:VEVENT
BEGIN:VEVENT
DTSTART;TZID=Australia/Sydney:20240706T131500
DTEND;TZID=Australia/Sydney:20240706T131500
DTSTAMP:20260425T054734
CREATED:20240705T020821Z
LAST-MODIFIED:20240705T020821Z
UID:57791-1720271700-1720271700@www.coonambletimes.com.au
SUMMARY:Bears Home Game
DESCRIPTION:
URL:https://www.coonambletimes.com.au/event/bears-home-game/
LOCATION:Coonamble Sportsground\, Castlereagh Highway\, Coonamble\, New South Wales\, 2829\, Australia
END:VEVENT
BEGIN:VEVENT
DTSTART;TZID=Australia/Sydney:20240629T190000
DTEND;TZID=Australia/Sydney:20240629T190000
DTSTAMP:20260425T054734
CREATED:20240626T062057Z
LAST-MODIFIED:20240626T062057Z
UID:57479-1719687600-1719687600@www.coonambletimes.com.au
SUMMARY:BJC Music
DESCRIPTION:
URL:https://www.coonambletimes.com.au/event/bjc-music/
LOCATION:Coonamble Bowling Club\, Aberford Street\, Coonamble\, New South Wales\, 2829\, Australia
END:VEVENT
BEGIN:VEVENT
DTSTART;VALUE=DATE:20240629
DTEND;VALUE=DATE:20240630
DTSTAMP:20260425T054734
CREATED:20240621T011551Z
LAST-MODIFIED:20240621T011551Z
UID:57364-1719619200-1719705599@www.coonambletimes.com.au
SUMMARY:Man O Man Competition
DESCRIPTION:
URL:https://www.coonambletimes.com.au/event/man-o-man-competition/
LOCATION:Smith Park Netball Courts
ATTACH;FMTTYPE=application/pdf:https://www.coonambletimes.com.au/wp-content/uploads/2024/06/MAN-O-MAN-2024-2.pdf
END:VEVENT
BEGIN:VEVENT
DTSTART;VALUE=DATE:20240629
DTEND;VALUE=DATE:20240630
DTSTAMP:20260425T054734
CREATED:20240131T005338Z
LAST-MODIFIED:20240508T061810Z
UID:53514-1719619200-1719705599@www.coonambletimes.com.au
SUMMARY:Marthaguy Races
DESCRIPTION:
URL:https://www.coonambletimes.com.au/event/marthaguy-races-3/
LOCATION:Quambone Racecourse
ATTACH;FMTTYPE=application/pdf:https://www.coonambletimes.com.au/wp-content/uploads/2024/01/08.05.24-4.pdf
END:VEVENT
BEGIN:VEVENT
DTSTART;TZID=Australia/Sydney:20240628T110000
DTEND;TZID=Australia/Sydney:20240628T110000
DTSTAMP:20260425T054734
CREATED:20240605T010551Z
LAST-MODIFIED:20240605T010551Z
UID:56816-1719572400-1719572400@www.coonambletimes.com.au
SUMMARY:Rivergum Auction
DESCRIPTION:
URL:https://www.coonambletimes.com.au/event/rivergum-auction/
LOCATION:Coonamble Bowling Club\, Aberford Street\, Coonamble\, New South Wales\, 2829\, Australia
END:VEVENT
BEGIN:VEVENT
DTSTART;TZID=Australia/Sydney:20240626T193000
DTEND;TZID=Australia/Sydney:20240626T193000
DTSTAMP:20260425T054734
CREATED:20240621T010346Z
LAST-MODIFIED:20240621T010346Z
UID:57354-1719430200-1719430200@www.coonambletimes.com.au
SUMMARY:Terminus Hotel Coonamble State of Origin Game II
DESCRIPTION:
URL:https://www.coonambletimes.com.au/event/terminus-hotel-coonamble-state-of-origin-game-ii/
LOCATION:New South Wales
ATTACH;FMTTYPE=application/pdf:https://www.coonambletimes.com.au/wp-content/uploads/2024/06/Termo_19.06.24.pdf
END:VEVENT
BEGIN:VEVENT
DTSTART;TZID=Australia/Sydney:20240624T110000
DTEND;TZID=Australia/Sydney:20240624T110000
DTSTAMP:20260425T054734
CREATED:20240613T064427Z
LAST-MODIFIED:20240613T064427Z
UID:57077-1719226800-1719226800@www.coonambletimes.com.au
SUMMARY:Coonamble Family History Society Annual General Meeting
DESCRIPTION:
URL:https://www.coonambletimes.com.au/event/coonamble-family-history-society-annual-general-meeting/
LOCATION:CSC Administration Building- Committee Room\, 80 Castlereagh St\, Coonamble\, NSW\, 2829\, Australia
END:VEVENT
BEGIN:VEVENT
DTSTART;TZID=Australia/Sydney:20240622T130000
DTEND;TZID=Australia/Sydney:20240622T130000
DTSTAMP:20260425T054734
CREATED:20240621T012315Z
LAST-MODIFIED:20240621T012315Z
UID:57368-1719061200-1719061200@www.coonambletimes.com.au
SUMMARY:Bring a Mate to the Footy Day
DESCRIPTION:
URL:https://www.coonambletimes.com.au/event/bring-a-mate-to-the-footy-day/
LOCATION:Coonamble Sportsground\, Castlereagh Highway\, Coonamble\, New South Wales\, 2829\, Australia
ATTACH;FMTTYPE=application/pdf:https://www.coonambletimes.com.au/wp-content/uploads/2024/06/Bring-a-mate-to-the-footy_190624-2.pdf
END:VEVENT
BEGIN:VEVENT
DTSTART;TZID=Australia/Sydney:20240622T130000
DTEND;TZID=Australia/Sydney:20240622T130000
DTSTAMP:20260425T054734
CREATED:20240621T010644Z
LAST-MODIFIED:20240621T010644Z
UID:57358-1719061200-1719061200@www.coonambletimes.com.au
SUMMARY:Coonamble Rams vs Walgett Rams
DESCRIPTION:
URL:https://www.coonambletimes.com.au/event/coonamble-rams-vs-walgett-rams/
LOCATION:Coonamble Sportsground\, Castlereagh Highway\, Coonamble\, New South Wales\, 2829\, Australia
END:VEVENT
BEGIN:VEVENT
DTSTART;VALUE=DATE:20240622
DTEND;VALUE=DATE:20240623
DTSTAMP:20260425T054734
CREATED:20240621T011056Z
LAST-MODIFIED:20240621T011056Z
UID:57361-1719014400-1719100799@www.coonambletimes.com.au
SUMMARY:LIVE- Alana Potter
DESCRIPTION:
URL:https://www.coonambletimes.com.au/event/live-alana-potter/
LOCATION:Coonamble Golf Club\, Caswell Street\, Coonamble\, New South Wales\, 2829\, Australia
END:VEVENT
BEGIN:VEVENT
DTSTART;VALUE=DATE:20240622
DTEND;VALUE=DATE:20240623
DTSTAMP:20260425T054734
CREATED:20240605T010134Z
LAST-MODIFIED:20240605T010134Z
UID:56813-1719014400-1719100799@www.coonambletimes.com.au
SUMMARY:The Great Country Songbook
DESCRIPTION:
URL:https://www.coonambletimes.com.au/event/the-great-country-songbook/
LOCATION:Coonamble Bowling Club\, Aberford Street\, Coonamble\, New South Wales\, 2829\, Australia
END:VEVENT
BEGIN:VEVENT
DTSTART;TZID=Australia/Sydney:20240618T173000
DTEND;TZID=Australia/Sydney:20240618T173000
DTSTAMP:20260425T054734
CREATED:20240613T063448Z
LAST-MODIFIED:20240613T063549Z
UID:57073-1718731800-1718731800@www.coonambletimes.com.au
SUMMARY:Community Scrum
DESCRIPTION:
URL:https://www.coonambletimes.com.au/event/community-scrum/
LOCATION:Coonamble Golf Club\, Caswell Street\, Coonamble\, New South Wales\, 2829\, Australia
ATTACH;FMTTYPE=application/pdf:https://www.coonambletimes.com.au/wp-content/uploads/2024/06/Community-Scrum_130624.pdf
END:VEVENT
BEGIN:VEVENT
DTSTART;VALUE=DATE:20240617
DTEND;VALUE=DATE:20240702
DTSTAMP:20260425T054734
CREATED:20240613T063140Z
LAST-MODIFIED:20240613T063140Z
UID:57069-1718582400-1719878399@www.coonambletimes.com.au
SUMMARY:Breast Screen
DESCRIPTION:
URL:https://www.coonambletimes.com.au/event/breast-screen/
LOCATION:Smith Park\, Castlereagh Highway\, Coonamble\, NSW\, 2829\, Australia
ATTACH;FMTTYPE=application/pdf:https://www.coonambletimes.com.au/wp-content/uploads/2024/06/BreastScreening_130624-1.pdf
END:VEVENT
BEGIN:VEVENT
DTSTART;VALUE=DATE:20240616
DTEND;VALUE=DATE:20240617
DTSTAMP:20260425T054734
CREATED:20240605T010023Z
LAST-MODIFIED:20240613T062817Z
UID:56810-1718496000-1718582399@www.coonambletimes.com.au
SUMMARY:Coonamble June Showcase Races
DESCRIPTION:
URL:https://www.coonambletimes.com.au/event/coonamble-june-showcase-races/
LOCATION:Coonamble Race track
ATTACH;FMTTYPE=application/pdf:https://www.coonambletimes.com.au/wp-content/uploads/2024/06/2024-June-CT-120624-wk4.pdf
END:VEVENT
BEGIN:VEVENT
DTSTART;TZID=Australia/Sydney:20240613T180000
DTEND;TZID=Australia/Sydney:20240613T180000
DTSTAMP:20260425T054734
CREATED:20240605T005810Z
LAST-MODIFIED:20240605T005810Z
UID:56806-1718301600-1718301600@www.coonambletimes.com.au
SUMMARY:FREE Business Counselling
DESCRIPTION:
URL:https://www.coonambletimes.com.au/event/free-business-counselling/
LOCATION:Coonamble Bowling Club\, Aberford Street\, Coonamble\, New South Wales\, 2829\, Australia
ATTACH;FMTTYPE=application/pdf:https://www.coonambletimes.com.au/wp-content/uploads/2024/06/CCOC_050624-2.pdf
END:VEVENT
BEGIN:VEVENT
DTSTART;VALUE=DATE:20240607
DTEND;VALUE=DATE:20240611
DTSTAMP:20260425T054734
CREATED:20240510T020452Z
LAST-MODIFIED:20240510T020452Z
UID:56069-1717718400-1718063999@www.coonambletimes.com.au
SUMMARY:Coonamble Rodeo & Campdraft
DESCRIPTION:
URL:https://www.coonambletimes.com.au/event/coonamble-rodeo-campdraft-5/
LOCATION:Coonamble Showground
ATTACH;FMTTYPE=application/pdf:https://www.coonambletimes.com.au/wp-content/uploads/2024/05/C22_Rodeo-ad.pdf
END:VEVENT
BEGIN:VEVENT
DTSTART;VALUE=DATE:20240604
DTEND;VALUE=DATE:20240606
DTSTAMP:20260425T054734
CREATED:20240501T030756Z
LAST-MODIFIED:20240501T030756Z
UID:55790-1717459200-1717631999@www.coonambletimes.com.au
SUMMARY:The Science & Art of Trading Cattle
DESCRIPTION:
URL:https://www.coonambletimes.com.au/event/the-science-art-of-trading-cattle/
LOCATION:Coonamble Bowling Club\, Aberford Street\, Coonamble\, New South Wales\, 2829\, Australia
ATTACH;FMTTYPE=image/png:https://www.coonambletimes.com.au/wp-content/uploads/2024/05/QuarterPage_Ad_v1.png
END:VEVENT
BEGIN:VEVENT
DTSTART;VALUE=DATE:20240602
DTEND;VALUE=DATE:20240603
DTSTAMP:20260425T054734
CREATED:20240517T021928Z
LAST-MODIFIED:20240517T021928Z
UID:56285-1717286400-1717372799@www.coonambletimes.com.au
SUMMARY:LIVE UFC Fight
DESCRIPTION:
URL:https://www.coonambletimes.com.au/event/live-ufc-fight/
LOCATION:Coonamble Bowling Club\, Aberford Street\, Coonamble\, New South Wales\, 2829\, Australia
END:VEVENT
BEGIN:VEVENT
DTSTART;TZID=Australia/Sydney:20240523T100000
DTEND;TZID=Australia/Sydney:20240523T100000
DTSTAMP:20260425T054734
CREATED:20240517T021434Z
LAST-MODIFIED:20240517T021531Z
UID:56282-1716458400-1716458400@www.coonambletimes.com.au
SUMMARY:Biggest Morning Tea
DESCRIPTION:
URL:https://www.coonambletimes.com.au/event/biggest-morning-tea/
LOCATION:Coonamble Bowling Club\, Aberford Street\, Coonamble\, New South Wales\, 2829\, Australia
END:VEVENT
BEGIN:VEVENT
DTSTART;TZID=Australia/Sydney:20240520T170000
DTEND;TZID=Australia/Sydney:20240520T170000
DTSTAMP:20260425T054734
CREATED:20240510T020840Z
LAST-MODIFIED:20240510T020955Z
UID:56073-1716224400-1716224400@www.coonambletimes.com.au
SUMMARY:Coonamble Little Athletics Club Annual General Meeting
DESCRIPTION:
URL:https://www.coonambletimes.com.au/event/coonamble-little-athletics-club-annual-general-meeting/
LOCATION:Coonamble Bowling Club\, Aberford Street\, Coonamble\, New South Wales\, 2829\, Australia
END:VEVENT
BEGIN:VEVENT
DTSTART;TZID=Australia/Sydney:20240519T110000
DTEND;TZID=Australia/Sydney:20240519T110000
DTSTAMP:20260425T054734
CREATED:20240501T025204Z
LAST-MODIFIED:20240501T025204Z
UID:55772-1716116400-1716116400@www.coonambletimes.com.au
SUMMARY:Camp Oven Cook Off
DESCRIPTION:
URL:https://www.coonambletimes.com.au/event/camp-oven-cook-off-3/
LOCATION:Terminus Hotel Coonamble\, 25/27 Railway St\, Coonamble\, NSW\, 2829\, Australia
ATTACH;FMTTYPE=application/pdf:https://www.coonambletimes.com.au/wp-content/uploads/2024/05/Termo_01.05.24-1.pdf
END:VEVENT
BEGIN:VEVENT
DTSTART;TZID=Australia/Sydney:20240518T200000
DTEND;TZID=Australia/Sydney:20240518T200000
DTSTAMP:20260425T054734
CREATED:20240410T065808Z
LAST-MODIFIED:20240410T065808Z
UID:55199-1716062400-1716062400@www.coonambletimes.com.au
SUMMARY:Tanya Andrews- LIVE Music
DESCRIPTION:
URL:https://www.coonambletimes.com.au/event/tanya-andrews-live-music/
LOCATION:Coonamble Golf Club\, Caswell Street\, Coonamble\, New South Wales\, 2829\, Australia
END:VEVENT
BEGIN:VEVENT
DTSTART;VALUE=DATE:20240518
DTEND;VALUE=DATE:20240519
DTSTAMP:20260425T054734
CREATED:20240510T020053Z
LAST-MODIFIED:20240510T020053Z
UID:56064-1715990400-1716076799@www.coonambletimes.com.au
SUMMARY:Gulargambone Show
DESCRIPTION:
URL:https://www.coonambletimes.com.au/event/gulargambone-show-2/
LOCATION:Gulargambone Show
ATTACH;FMTTYPE=application/pdf:https://www.coonambletimes.com.au/wp-content/uploads/2024/05/Gular-Show_080524-1.pdf
END:VEVENT
BEGIN:VEVENT
DTSTART;VALUE=DATE:20240514
DTEND;VALUE=DATE:20240516
DTSTAMP:20260425T054734
CREATED:20240405T024334Z
LAST-MODIFIED:20240405T024334Z
UID:55068-1715644800-1715817599@www.coonambletimes.com.au
SUMMARY:Coonamble Show
DESCRIPTION:
URL:https://www.coonambletimes.com.au/event/coonamble-show-3/
LOCATION:Coonamble Showground
ATTACH;FMTTYPE=application/pdf:https://www.coonambletimes.com.au/wp-content/uploads/2024/04/FP_Cble-Show_2024-3.pdf
END:VEVENT
BEGIN:VEVENT
DTSTART;TZID=Australia/Sydney:20240512T120000
DTEND;TZID=Australia/Sydney:20240512T120000
DTSTAMP:20260425T054734
CREATED:20240426T054734Z
LAST-MODIFIED:20240426T054734Z
UID:55657-1715515200-1715515200@www.coonambletimes.com.au
SUMMARY:Mothers Day Buffet
DESCRIPTION:
URL:https://www.coonambletimes.com.au/event/mothers-day-buffet/
LOCATION:Coonamble Bowling Club\, Aberford Street\, Coonamble\, New South Wales\, 2829\, Australia
END:VEVENT
BEGIN:VEVENT
DTSTART;VALUE=DATE:20240512
DTEND;VALUE=DATE:20240513
DTSTAMP:20260425T054734
CREATED:20240501T030046Z
LAST-MODIFIED:20240501T030046Z
UID:55787-1715472000-1715558399@www.coonambletimes.com.au
SUMMARY:Mothers Day Bingo
DESCRIPTION:
URL:https://www.coonambletimes.com.au/event/mothers-day-bingo/
LOCATION:Gulargambone Bowling Club\, 41 Armitree St\, Gulargambone\, NSW\, 2828\, Australia
END:VEVENT
END:VCALENDAR