BEGIN:VCALENDAR
VERSION:2.0
PRODID:-//The Coonamble Times - ECPv6.13.2.1//NONSGML v1.0//EN
CALSCALE:GREGORIAN
METHOD:PUBLISH
X-ORIGINAL-URL:https://www.coonambletimes.com.au
X-WR-CALDESC:Events for The Coonamble Times
REFRESH-INTERVAL;VALUE=DURATION:PT1H
X-Robots-Tag:noindex
X-PUBLISHED-TTL:PT1H
BEGIN:VTIMEZONE
TZID:Australia/Sydney
BEGIN:STANDARD
TZOFFSETFROM:+1100
TZOFFSETTO:+1000
TZNAME:AEST
DTSTART:20200404T160000
END:STANDARD
BEGIN:DAYLIGHT
TZOFFSETFROM:+1000
TZOFFSETTO:+1100
TZNAME:AEDT
DTSTART:20201003T160000
END:DAYLIGHT
BEGIN:STANDARD
TZOFFSETFROM:+1100
TZOFFSETTO:+1000
TZNAME:AEST
DTSTART:20210403T160000
END:STANDARD
BEGIN:DAYLIGHT
TZOFFSETFROM:+1000
TZOFFSETTO:+1100
TZNAME:AEDT
DTSTART:20211002T160000
END:DAYLIGHT
END:VTIMEZONE
BEGIN:VEVENT
DTSTART;TZID=Australia/Sydney:20200313T040000
DTEND;TZID=Australia/Sydney:20200313T040000
DTSTAMP:20260426T031200
CREATED:20200226T145005Z
LAST-MODIFIED:20200226T145005Z
UID:7696-1584072000-1584072000@www.coonambletimes.com.au
SUMMARY:AGM - Coonamble Jnr Rugby Club
DESCRIPTION:At the Coonamble Bowling Club  \nPH: Jo (02) 6823 8237
URL:https://www.coonambletimes.com.au/event/agm-coonamble-jnr-rugby-club/
LOCATION:New South Wales
END:VEVENT
BEGIN:VEVENT
DTSTART;TZID=Australia/Sydney:20200313T050000
DTEND;TZID=Australia/Sydney:20200313T050000
DTSTAMP:20260426T031200
CREATED:20200226T145154Z
LAST-MODIFIED:20200226T145154Z
UID:7698-1584075600-1584075600@www.coonambletimes.com.au
SUMMARY:AGM - Coonamble Netball Association
DESCRIPTION:At the Coonamble Bowling Club \nApologies contact 0417 470 306
URL:https://www.coonambletimes.com.au/event/agm-coonamble-netball-association/
LOCATION:New South Wales
END:VEVENT
BEGIN:VEVENT
DTSTART;TZID=Australia/Sydney:20200314T060000
DTEND;TZID=Australia/Sydney:20200314T090000
DTSTAMP:20260426T031200
CREATED:20200205T191027Z
LAST-MODIFIED:20200205T191027Z
UID:7425-1584165600-1584176400@www.coonambletimes.com.au
SUMMARY:Drag Queen Bingo Starring Timberlina
DESCRIPTION:The fabulous Timberlina is coming to Coonamble Bowling club to host a Drag Queen themed bingo night to remember\, with 3 rounds of bingo and Best Dressed Prizes for those who wish to dress up. For a night filled with outrageous entertainment and pure joy\, just book your table\, BYO basket or pre-order platters and pizzas from the bistro. Tickets are available at the Club or book online at timberproductions.com.au
URL:https://www.coonambletimes.com.au/event/drag-queen-bingo-starring-timberlina/
LOCATION:Coonamble Bowling Club\, Aberford Street\, Coonamble\, New South Wales\, 2829\, Australia
END:VEVENT
BEGIN:VEVENT
DTSTART;TZID=Australia/Sydney:20200315T190000
DTEND;TZID=Australia/Sydney:20200316T090000
DTSTAMP:20260426T031200
CREATED:20200211T174027Z
LAST-MODIFIED:20200211T174027Z
UID:7524-1584298800-1584349200@www.coonambletimes.com.au
SUMMARY:The Country Championship- Coonamble Jockey Club
DESCRIPTION:On Sunday 15 March 2020 The Country Championships come to the Coonamble Jockey Club for the first time – the biggest social race day on the Coonamble Calendar. \nThis prestigious race carries prize money of $150\,000\, with the prize money on the eight race day totalling $610\,000. \nWe are aiming not only for a great day of racing this year\, but also the chance for a fantastic social family day out. With live music during the day\, jumping castle\, novelty races and Fashions on the Field. There will be group marquees\, a luncheon marquee and of course a full bar and TAB facilities.
URL:https://www.coonambletimes.com.au/event/the-country-championship-coonamble-jockey-club/
LOCATION:New South Wales
END:VEVENT
BEGIN:VEVENT
DTSTART;VALUE=DATE:20200321
DTEND;VALUE=DATE:20200323
DTSTAMP:20260426T031200
CREATED:20191209T182257Z
LAST-MODIFIED:20191209T182257Z
UID:6903-1584788400-1584874799@www.coonambletimes.com.au
SUMMARY:Royal Far West - Coonamble branch
DESCRIPTION:
URL:https://www.coonambletimes.com.au/event/royal-far-west-coonamble-branch/
LOCATION:Coonamble Bowling Club\, Aberford Street\, Coonamble\, New South Wales\, 2829\, Australia
ATTACH;FMTTYPE=image/jpeg:https://www.coonambletimes.com.au/wp-content/uploads/2019/12/Save-the-date.jpg
END:VEVENT
BEGIN:VEVENT
DTSTART;TZID=Australia/Sydney:20200325T050000
DTEND;TZID=Australia/Sydney:20200325T050000
DTSTAMP:20260426T031200
CREATED:20200226T144754Z
LAST-MODIFIED:20200226T144754Z
UID:7694-1585112400-1585112400@www.coonambletimes.com.au
SUMMARY:AGM - St. Brigid's School P & F
DESCRIPTION:At St. Brigid’s School Staffroom  \nNew members needed\, all welcome. \nNibbles provided.
URL:https://www.coonambletimes.com.au/event/agm-st-brigids-school-p-f/
LOCATION:New South Wales
END:VEVENT
BEGIN:VEVENT
DTSTART;TZID=Australia/Sydney:20200329T010000
DTEND;TZID=Australia/Sydney:20200329T010000
DTSTAMP:20260426T031200
CREATED:20200305T112540Z
LAST-MODIFIED:20200305T112540Z
UID:7781-1585443600-1585443600@www.coonambletimes.com.au
SUMMARY:Tracks @ the Tree - Armatree Hotel
DESCRIPTION:
URL:https://www.coonambletimes.com.au/event/tracks-the-tree-armatree-hotel/
LOCATION:New South Wales
ATTACH;FMTTYPE=image/jpeg:https://www.coonambletimes.com.au/wp-content/uploads/2020/03/tracks.jpg
END:VEVENT
BEGIN:VEVENT
DTSTART;VALUE=DATE:20200418
DTEND;VALUE=DATE:20200420
DTSTAMP:20260426T031200
CREATED:20200205T185121Z
LAST-MODIFIED:20200205T185121Z
UID:7421-1587204000-1587290399@www.coonambletimes.com.au
SUMMARY:Classic Wallabies Out West
DESCRIPTION:A group of Wallabies legends are coming to the bush for a football event to top all football events. In support of Coonamble and the District Education Foundation\, many current and past Wallabies and Wallaroos players will be taking to the field in 2 separate matches against the Western Plains Barbarians and Western Plains Women’s. The event will include a VIP marquee\, free kids coaching clinic and much more. For more information & tickets\, visit: classicwallabies.com.au
URL:https://www.coonambletimes.com.au/event/classic-wallabies/
LOCATION:Coonamble Sportsground\, Castlereagh Highway\, Coonamble\, New South Wales\, 2829\, Australia
END:VEVENT
BEGIN:VEVENT
DTSTART;TZID=Australia/Sydney:20200621T123000
DTEND;TZID=Australia/Sydney:20200621T170000
DTSTAMP:20260426T031201
CREATED:20200619T001826Z
LAST-MODIFIED:20200619T001826Z
UID:8242-1592742600-1592758800@www.coonambletimes.com.au
SUMMARY:Coonamble Showcase Race Meeting
DESCRIPTION:First race starts at 12:30pm 
URL:https://www.coonambletimes.com.au/event/coonamble-showcase-race-meeting/
LOCATION:Coonamble Jockey Club\, Australia
END:VEVENT
BEGIN:VEVENT
DTSTART;TZID=Australia/Sydney:20200623T173000
DTEND;TZID=Australia/Sydney:20200623T173000
DTSTAMP:20260426T031201
CREATED:20200619T001023Z
LAST-MODIFIED:20200619T001023Z
UID:8233-1592933400-1592933400@www.coonambletimes.com.au
SUMMARY:AGM - Coonamble High School P&C
DESCRIPTION:
URL:https://www.coonambletimes.com.au/event/agm-coonamble-high-school-pc/
LOCATION:Coonamble Bowling Club Board room
END:VEVENT
BEGIN:VEVENT
DTSTART;TZID=Australia/Sydney:20200704T100000
DTEND;TZID=Australia/Sydney:20200704T100000
DTSTAMP:20260426T031201
CREATED:20200619T001352Z
LAST-MODIFIED:20200619T001352Z
UID:8236-1593856800-1593856800@www.coonambletimes.com.au
SUMMARY:Auction - "Trenton South"
DESCRIPTION:
URL:https://www.coonambletimes.com.au/event/auction-trenton-south/
LOCATION:Onsite
END:VEVENT
BEGIN:VEVENT
DTSTART;VALUE=DATE:20200709
DTEND;VALUE=DATE:20200710
DTSTAMP:20260426T031201
CREATED:20200709T030857Z
LAST-MODIFIED:20200709T030857Z
UID:8364-1594252800-1594339199@www.coonambletimes.com.au
SUMMARY:Coonamble Bears VS Baradine Magpies
DESCRIPTION:
URL:https://www.coonambletimes.com.au/event/coonamble-bears-vs-baradine-magpies/
LOCATION:Coonamble Sportsground\, Castlereagh Highway\, Coonamble\, New South Wales\, 2829\, Australia
END:VEVENT
BEGIN:VEVENT
DTSTART;TZID=Australia/Sydney:20200711T140000
DTEND;TZID=Australia/Sydney:20200711T140000
DTSTAMP:20260426T031201
CREATED:20200709T030437Z
LAST-MODIFIED:20200709T030437Z
UID:8361-1594476000-1594476000@www.coonambletimes.com.au
SUMMARY:Bubbles & Brushes
DESCRIPTION:Tickets available at Front desk at Coonamble Bowling Club
URL:https://www.coonambletimes.com.au/event/bubbles-brushes/
LOCATION:Coonamble Bowling Club\, Aberford Street\, Coonamble\, New South Wales\, 2829\, Australia
END:VEVENT
BEGIN:VEVENT
DTSTART;VALUE=DATE:20200720
DTEND;VALUE=DATE:20200721
DTSTAMP:20260426T031201
CREATED:20200709T031755Z
LAST-MODIFIED:20200709T031755Z
UID:8366-1595203200-1595289599@www.coonambletimes.com.au
SUMMARY:Mad Monday Mixed Netball
DESCRIPTION: 
URL:https://www.coonambletimes.com.au/event/mad-monday-mixed-netball/
LOCATION:Coonamble Sportsground\, Castlereagh Highway\, Coonamble\, New South Wales\, 2829\, Australia
END:VEVENT
BEGIN:VEVENT
DTSTART;TZID=Australia/Sydney:20200723T173000
DTEND;TZID=Australia/Sydney:20200723T173000
DTSTAMP:20260426T031201
CREATED:20200709T031956Z
LAST-MODIFIED:20200709T031956Z
UID:8370-1595525400-1595525400@www.coonambletimes.com.au
SUMMARY:AGM CPS P&C
DESCRIPTION:
URL:https://www.coonambletimes.com.au/event/agm-cps-pc/
LOCATION:CPS Staff Room
END:VEVENT
BEGIN:VEVENT
DTSTART;TZID=Australia/Sydney:20200726T130000
DTEND;TZID=Australia/Sydney:20200726T130000
DTSTAMP:20260426T031201
CREATED:20200619T001512Z
LAST-MODIFIED:20200619T001512Z
UID:8240-1595768400-1595768400@www.coonambletimes.com.au
SUMMARY:BBQ + AGM - Coonamable Areo Club
DESCRIPTION:
URL:https://www.coonambletimes.com.au/event/bbq-agm-coonamable-areo-club/
LOCATION:New South Wales
END:VEVENT
BEGIN:VEVENT
DTSTART;TZID=Australia/Sydney:20200808T130000
DTEND;TZID=Australia/Sydney:20200808T130000
DTSTAMP:20260426T031201
CREATED:20200806T050149Z
LAST-MODIFIED:20200806T050149Z
UID:11068-1596891600-1596891600@www.coonambletimes.com.au
SUMMARY:Coonamble Bears VS Cobar
DESCRIPTION:
URL:https://www.coonambletimes.com.au/event/coonamble-bears-vs-cobar/
LOCATION:New South Wales
END:VEVENT
BEGIN:VEVENT
DTSTART;TZID=Australia/Sydney:20200822T130000
DTEND;TZID=Australia/Sydney:20200822T150000
DTSTAMP:20260426T031201
CREATED:20200821T012949Z
LAST-MODIFIED:20200821T012949Z
UID:11310-1598101200-1598108400@www.coonambletimes.com.au
SUMMARY:Bearettes League Tag vs Baradine Magpies
DESCRIPTION:
URL:https://www.coonambletimes.com.au/event/bearettes-league-tag-vs-baradine-magpies/
LOCATION:Coonamble Sportsground\, Castlereagh Highway\, Coonamble\, New South Wales\, 2829\, Australia
END:VEVENT
BEGIN:VEVENT
DTSTART;TZID=Australia/Sydney:20200827T080000
DTEND;TZID=Australia/Sydney:20200827T170000
DTSTAMP:20260426T031201
CREATED:20200821T013158Z
LAST-MODIFIED:20200821T013158Z
UID:11313-1598515200-1598547600@www.coonambletimes.com.au
SUMMARY:Coonamble Associated Agents Fat Sale
DESCRIPTION:
URL:https://www.coonambletimes.com.au/event/coonamble-associated-agents-fat-sale/
LOCATION:Coonamble Sale Yards\, Railway Street\, Coonamble\, Australia
END:VEVENT
BEGIN:VEVENT
DTSTART;TZID=Australia/Sydney:20200828T100000
DTEND;TZID=Australia/Sydney:20200828T170000
DTSTAMP:20260426T031201
CREATED:20200821T013522Z
LAST-MODIFIED:20200821T013522Z
UID:11320-1598608800-1598634000@www.coonambletimes.com.au
SUMMARY:Domestic Violence Collective - Safer and Stronger Information Day
DESCRIPTION:
URL:https://www.coonambletimes.com.au/event/domestic-violence-collective-safer-and-stronger-information-day/
LOCATION:Coonamble Local Aboriginal Lands Council
END:VEVENT
BEGIN:VEVENT
DTSTART;TZID=Australia/Sydney:20200828T130000
DTEND;TZID=Australia/Sydney:20200828T170000
DTSTAMP:20260426T031201
CREATED:20200821T013344Z
LAST-MODIFIED:20200821T013344Z
UID:11317-1598619600-1598634000@www.coonambletimes.com.au
SUMMARY:New Armatree Border Leicester Stud Open Day
DESCRIPTION:
URL:https://www.coonambletimes.com.au/event/new-armatree-border-leicester-stud-open-day/
LOCATION:New Armatree
END:VEVENT
BEGIN:VEVENT
DTSTART;TZID=Australia/Sydney:20200902T170000
DTEND;TZID=Australia/Sydney:20200902T183000
DTSTAMP:20260426T031201
CREATED:20200821T013838Z
LAST-MODIFIED:20200821T013838Z
UID:11325-1599066000-1599071400@www.coonambletimes.com.au
SUMMARY:AGM - Royal Far West
DESCRIPTION:
URL:https://www.coonambletimes.com.au/event/agm-royal-far-west/
LOCATION:Coonamble Bowling Club\, Aberford Street\, Coonamble\, New South Wales\, 2829\, Australia
END:VEVENT
BEGIN:VEVENT
DTSTART;TZID=Australia/Sydney:20200902T190000
DTEND;TZID=Australia/Sydney:20200902T203000
DTSTAMP:20260426T031201
CREATED:20200821T013638Z
LAST-MODIFIED:20200821T013638Z
UID:11323-1599073200-1599078600@www.coonambletimes.com.au
SUMMARY:AGM - Coonamble Show Society
DESCRIPTION:
URL:https://www.coonambletimes.com.au/event/agm-coonamble-show-society/
LOCATION:Coonamble Bowling Club\, Aberford Street\, Coonamble\, New South Wales\, 2829\, Australia
END:VEVENT
BEGIN:VEVENT
DTSTART;TZID=Australia/Sydney:20200903T170000
DTEND;TZID=Australia/Sydney:20200903T180000
DTSTAMP:20260426T031201
CREATED:20200902T041823Z
LAST-MODIFIED:20200902T041823Z
UID:11568-1599152400-1599156000@www.coonambletimes.com.au
SUMMARY:Little Athletics Registrations
DESCRIPTION:
URL:https://www.coonambletimes.com.au/event/little-athletics-registrations/
LOCATION:Coonamble Sportsground\, Castlereagh Highway\, Coonamble\, New South Wales\, 2829\, Australia
END:VEVENT
BEGIN:VEVENT
DTSTART;TZID=Australia/Sydney:20200905T103000
DTEND;TZID=Australia/Sydney:20200905T130000
DTSTAMP:20260426T031201
CREATED:20200902T042027Z
LAST-MODIFIED:20200902T042027Z
UID:11571-1599301800-1599310800@www.coonambletimes.com.au
SUMMARY:AGM Marthaguy Picnic Race Club
DESCRIPTION:
URL:https://www.coonambletimes.com.au/event/agm-marthaguy-picnic-race-club/
LOCATION:Quambone Racecourse
END:VEVENT
BEGIN:VEVENT
DTSTART;TZID=Australia/Sydney:20200905T113000
DTEND;TZID=Australia/Sydney:20200905T163000
DTSTAMP:20260426T031201
CREATED:20200902T042416Z
LAST-MODIFIED:20200902T042539Z
UID:11580-1599305400-1599323400@www.coonambletimes.com.au
SUMMARY:Coonamble Bears vs Gilgandra Home Game
DESCRIPTION:
URL:https://www.coonambletimes.com.au/event/fathers-day/
LOCATION:Coonamble Sportsground\, Castlereagh Highway\, Coonamble\, New South Wales\, 2829\, Australia
END:VEVENT
BEGIN:VEVENT
DTSTART;TZID=Australia/Sydney:20200916T080000
DTEND;TZID=Australia/Sydney:20200916T170000
DTSTAMP:20260426T031201
CREATED:20200902T042119Z
LAST-MODIFIED:20200902T042119Z
UID:11574-1600243200-1600275600@www.coonambletimes.com.au
SUMMARY:Calga Dohne Sale
DESCRIPTION:
URL:https://www.coonambletimes.com.au/event/calga-dohne-sale/
LOCATION:Coonamble Showground
END:VEVENT
BEGIN:VEVENT
DTSTART;TZID=Australia/Sydney:20200917T180000
DTEND;TZID=Australia/Sydney:20200917T193000
DTSTAMP:20260426T031201
CREATED:20200902T042204Z
LAST-MODIFIED:20200902T042204Z
UID:11576-1600365600-1600371000@www.coonambletimes.com.au
SUMMARY:AGM Coonamble Junior Cricket
DESCRIPTION:
URL:https://www.coonambletimes.com.au/event/agm-coonamble-junior-cricket/
LOCATION:Terminus Hotel Coonamble\, 25/27 Railway St\, Coonamble\, NSW\, 2829\, Australia
END:VEVENT
BEGIN:VEVENT
DTSTART;TZID=Australia/Sydney:20200920T103000
DTEND;TZID=Australia/Sydney:20200920T123000
DTSTAMP:20260426T031201
CREATED:20200902T042257Z
LAST-MODIFIED:20200902T042257Z
UID:11578-1600597800-1600605000@www.coonambletimes.com.au
SUMMARY:AGM Coonamble Bowling Club Committee
DESCRIPTION:
URL:https://www.coonambletimes.com.au/event/agm-coonamble-bowling-club-committee/
LOCATION:Coonamble Bowling Club\, Aberford Street\, Coonamble\, New South Wales\, 2829\, Australia
END:VEVENT
BEGIN:VEVENT
DTSTART;TZID=Australia/Sydney:20210209T153000
DTEND;TZID=Australia/Sydney:20210209T163000
DTSTAMP:20260426T031201
CREATED:20210204T003045Z
LAST-MODIFIED:20210204T003045Z
UID:14403-1612884600-1612888200@www.coonambletimes.com.au
SUMMARY:Let's Play League
DESCRIPTION:Where: Coonamble Sports Ground \nWhen: 9th February 2021 \nTime:3.30pm – 4.30pm  \nAges: 5-16 \nCost: $0 \nParents need to be there to sign children in due to covid regulations  \n 
URL:https://www.coonambletimes.com.au/event/lets-play-league/
LOCATION:New South Wales
END:VEVENT
END:VCALENDAR