BEGIN:VCALENDAR
VERSION:2.0
PRODID:-//The Coonamble Times - ECPv6.13.2.1//NONSGML v1.0//EN
CALSCALE:GREGORIAN
METHOD:PUBLISH
X-WR-CALNAME:The Coonamble Times
X-ORIGINAL-URL:https://www.coonambletimes.com.au
X-WR-CALDESC:Events for The Coonamble Times
REFRESH-INTERVAL;VALUE=DURATION:PT1H
X-Robots-Tag:noindex
X-PUBLISHED-TTL:PT1H
BEGIN:VTIMEZONE
TZID:Australia/Sydney
BEGIN:STANDARD
TZOFFSETFROM:+1100
TZOFFSETTO:+1000
TZNAME:AEST
DTSTART:20180331T160000
END:STANDARD
BEGIN:DAYLIGHT
TZOFFSETFROM:+1000
TZOFFSETTO:+1100
TZNAME:AEDT
DTSTART:20181006T160000
END:DAYLIGHT
END:VTIMEZONE
BEGIN:VEVENT
DTSTART;TZID=Australia/Sydney:20181220T043000
DTEND;TZID=Australia/Sydney:20181220T043000
DTSTAMP:20260425T102128
CREATED:20181111T194509Z
LAST-MODIFIED:20181111T194509Z
UID:4430-1545280200-1545280200@www.coonambletimes.com.au
SUMMARY:Christmas Carnival
DESCRIPTION:It’s that time of the year again. Come down and join the biggest community market of the year!!
URL:https://www.coonambletimes.com.au/event/christmas-carnival/
LOCATION:Coonamble Mainstreet\, Castlereagh Street\, Coonamble\, NSW\, 2829\, Australia
ATTACH;FMTTYPE=image/png:https://www.coonambletimes.com.au/wp-content/uploads/2018/11/Christmas-Carnivale-front-page-ad-2018.png
END:VEVENT
BEGIN:VEVENT
DTSTART;TZID=Australia/Sydney:20181214T050000
DTEND;TZID=Australia/Sydney:20181214T050000
DTSTAMP:20260425T102128
CREATED:20181203T183328Z
LAST-MODIFIED:20181203T183328Z
UID:4655-1544763600-1544763600@www.coonambletimes.com.au
SUMMARY:Chamber of Commerce General Meeting
DESCRIPTION:Come along to our Annual general meeting and Christmas drinks for the year of 2018.
URL:https://www.coonambletimes.com.au/event/chamber-of-commerce-general-meeting/
LOCATION:Coonamble Bowling Club\, Aberford Street\, Coonamble\, New South Wales\, 2829\, Australia
ATTACH;FMTTYPE=image/jpeg:https://www.coonambletimes.com.au/wp-content/uploads/2018/12/Chamber-Meeting-Drinks.jpg
END:VEVENT
BEGIN:VEVENT
DTSTART;TZID=Australia/Sydney:20181124T220000
DTEND;TZID=Australia/Sydney:20181125T040000
DTSTAMP:20260425T102128
CREATED:20181119T170317Z
LAST-MODIFIED:20181119T170317Z
UID:4500-1543096800-1543118400@www.coonambletimes.com.au
SUMMARY:MTM FM 91.9 20th Birthday
DESCRIPTION:
URL:https://www.coonambletimes.com.au/event/mtm-fm-91-9-20th-birthday/
ATTACH;FMTTYPE=image/jpeg:https://www.coonambletimes.com.au/wp-content/uploads/2018/11/Radio.jpg
END:VEVENT
BEGIN:VEVENT
DTSTART;TZID=Australia/Sydney:20181124T220000
DTEND;TZID=Australia/Sydney:20181125T030000
DTSTAMP:20260425T102128
CREATED:20181119T165538Z
LAST-MODIFIED:20181119T165538Z
UID:4481-1543096800-1543114800@www.coonambletimes.com.au
SUMMARY:Coonamble Fun Day
DESCRIPTION:Join us in the coonamble ‘Fun Day’  fundraising for drought relief.
URL:https://www.coonambletimes.com.au/event/coonamble-fun-day/
LOCATION:Coonamble Showground
ATTACH;FMTTYPE=image/jpeg:https://www.coonambletimes.com.au/wp-content/uploads/2018/11/Fun-Day-times-ad.jpg
END:VEVENT
BEGIN:VEVENT
DTSTART;VALUE=DATE:20181124
DTEND;VALUE=DATE:20181126
DTSTAMP:20260425T102128
CREATED:20181029T154325Z
LAST-MODIFIED:20181029T154325Z
UID:4418-1543057200-1543143599@www.coonambletimes.com.au
SUMMARY:Busby Marou
DESCRIPTION:Busby and Marou are coming back to Armatree. Don’t miss out!!
URL:https://www.coonambletimes.com.au/event/busby-marou/
LOCATION:Armatree Hotel\, Armatree
ATTACH;FMTTYPE=image/jpeg:https://www.coonambletimes.com.au/wp-content/uploads/2018/10/FST006_BusbyMarou_A3-Poster_NSW_FINAL.jpg
END:VEVENT
BEGIN:VEVENT
DTSTART;TZID=Australia/Sydney:20181122T043000
DTEND;TZID=Australia/Sydney:20181122T043000
DTSTAMP:20260425T102128
CREATED:20181119T163122Z
LAST-MODIFIED:20181119T163157Z
UID:4477-1542861000-1542861000@www.coonambletimes.com.au
SUMMARY:Art4Ag Exhibition Opening Night
DESCRIPTION:Come see the local talent in this exhibition. Come for the Art\, stay for the wine!
URL:https://www.coonambletimes.com.au/event/art4ag-exhibition-opening-night/
LOCATION:Outback Arts\, 26/30 Castleregh Street\, Coonamble\, New South Wales\, 2829\, Australia
ATTACH;FMTTYPE=image/png:https://www.coonambletimes.com.au/wp-content/uploads/2018/11/ART4AG_Opening_211118.png
END:VEVENT
BEGIN:VEVENT
DTSTART;VALUE=DATE:20181121
DTEND;VALUE=DATE:20181123
DTSTAMP:20260425T102128
CREATED:20180910T192637Z
LAST-MODIFIED:20180910T192637Z
UID:3836-1542798000-1542884399@www.coonambletimes.com.au
SUMMARY:ART4AG
DESCRIPTION:Get creative and enter ART4AG. Entries  close 2pm Monday 29th October.
URL:https://www.coonambletimes.com.au/event/art4ag/
LOCATION:Outback Arts\, 26/30 Castleregh Street\, Coonamble\, New South Wales\, 2829\, Australia
ATTACH;FMTTYPE=image/jpeg:https://www.coonambletimes.com.au/wp-content/uploads/2018/09/Art4Ag.jpg
END:VEVENT
BEGIN:VEVENT
DTSTART;TZID=Australia/Sydney:20181114T163000
DTEND;TZID=Australia/Sydney:20181115T070000
DTSTAMP:20260425T102128
CREATED:20181022T165317Z
LAST-MODIFIED:20181022T165342Z
UID:4216-1542213000-1542265200@www.coonambletimes.com.au
SUMMARY:Coonamble Clontarf Academy awards night
DESCRIPTION:Join Clontarf on Wednesday 144th of November in looking back at the boys achievements for they year of 2018.
URL:https://www.coonambletimes.com.au/event/coonamble-contarf-academy-awards-night/
LOCATION:Coonamble Bowling Club\, Aberford Street\, Coonamble\, New South Wales\, 2829\, Australia
ATTACH;FMTTYPE=image/jpeg:https://www.coonambletimes.com.au/wp-content/uploads/2018/10/Contarf.jpg
END:VEVENT
BEGIN:VEVENT
DTSTART;TZID=Australia/Sydney:20181110T050000
DTEND;TZID=Australia/Sydney:20181110T050000
DTSTAMP:20260425T102128
CREATED:20181015T122731Z
LAST-MODIFIED:20181029T183544Z
UID:4026-1541826000-1541826000@www.coonambletimes.com.au
SUMMARY:Business Awards
DESCRIPTION:Join us for the 2018 Business Awards night.
URL:https://www.coonambletimes.com.au/event/business-awards/
LOCATION:Coonamble Bowling Club\, Aberford Street\, Coonamble\, New South Wales\, 2829\, Australia
ATTACH;FMTTYPE=image/jpeg:https://www.coonambletimes.com.au/wp-content/uploads/2018/10/BusinessAwards_GalaDinner_171018_2.jpg
END:VEVENT
BEGIN:VEVENT
DTSTART;TZID=Australia/Sydney:20181107T000000
DTEND;TZID=Australia/Sydney:20181107T000000
DTSTAMP:20260425T102128
CREATED:20181022T170645Z
LAST-MODIFIED:20181022T170645Z
UID:4225-1541548800-1541548800@www.coonambletimes.com.au
SUMMARY:Melbourne Cup High Tea
DESCRIPTION:
URL:https://www.coonambletimes.com.au/event/melbourne-cup-high-tea/
LOCATION:Coonamble Bowling Club\, Aberford Street\, Coonamble\, New South Wales\, 2829\, Australia
ATTACH;FMTTYPE=image/jpeg:https://www.coonambletimes.com.au/wp-content/uploads/2018/10/quota_melbourne_cup_poster-final.jpg
END:VEVENT
BEGIN:VEVENT
DTSTART;TZID=Australia/Sydney:20181105T053000
DTEND;TZID=Australia/Sydney:20181105T053000
DTSTAMP:20260425T102128
CREATED:20181022T165832Z
LAST-MODIFIED:20181022T165832Z
UID:4221-1541395800-1541395800@www.coonambletimes.com.au
SUMMARY:Melbourne Cup Calcutta
DESCRIPTION:
URL:https://www.coonambletimes.com.au/event/melbourne-cup-calcutta/
LOCATION:Sundowner Hotel\, Quambone\, NSW\, 2829\, Australia
ATTACH;FMTTYPE=image/jpeg:https://www.coonambletimes.com.au/wp-content/uploads/2018/10/2018-Melbourne-Cup-Calcutta-Poster.jpg
END:VEVENT
BEGIN:VEVENT
DTSTART;TZID=Australia/Sydney:20181102T003000
DTEND;TZID=Australia/Sydney:20181102T040000
DTSTAMP:20260425T102128
CREATED:20181022T172630Z
LAST-MODIFIED:20181022T172630Z
UID:4228-1541118600-1541131200@www.coonambletimes.com.au
SUMMARY:Inland Rail Business - Round Table
DESCRIPTION:
URL:https://www.coonambletimes.com.au/event/inland-rail-business-round-table/
LOCATION:Coonamble Bowling Club\, Aberford Street\, Coonamble\, New South Wales\, 2829\, Australia
ATTACH;FMTTYPE=image/jpeg:https://www.coonambletimes.com.au/wp-content/uploads/2018/10/CouncilRailMeetin-Ad.jpg
ORGANIZER;CN="Coonamble Council":MAILTO:Jill@coonambleshire.nsw.au
END:VEVENT
BEGIN:VEVENT
DTSTART;TZID=Australia/Sydney:20181031T210000
DTEND;TZID=Australia/Sydney:20181101T000000
DTSTAMP:20260425T102128
CREATED:20181015T141458Z
LAST-MODIFIED:20181015T141458Z
UID:4029-1541019600-1541030400@www.coonambletimes.com.au
SUMMARY:Wellbeing Day
DESCRIPTION:Everyone is invited to come along to McDonald Park for a fin filled morning\, there will be activities and PRIZES!
URL:https://www.coonambletimes.com.au/event/wellbeing-day/
LOCATION:Mcdonald Park\, Castlereagh Highway\, Coonamble\, NSW\, 2829\, Australia
ATTACH;FMTTYPE=image/jpeg:https://www.coonambletimes.com.au/wp-content/uploads/2018/10/CommuntiyWellbeingDay_171018.jpg
END:VEVENT
BEGIN:VEVENT
DTSTART;TZID=Australia/Sydney:20181027T173000
DTEND;TZID=Australia/Sydney:20181027T173000
DTSTAMP:20260425T102128
CREATED:20181022T180359Z
LAST-MODIFIED:20181022T180359Z
UID:4233-1540661400-1540661400@www.coonambletimes.com.au
SUMMARY:Baradine Scrubbers Ball
DESCRIPTION:Missed out on the Raindance\, Join the scrubbers ball This Saturday!!
URL:https://www.coonambletimes.com.au/event/baradine-scrubbers-ball/
ATTACH;FMTTYPE=image/jpeg:https://www.coonambletimes.com.au/wp-content/uploads/2018/10/Baradine-Scrubbers-Ball_Ad_190918.jpg
END:VEVENT
BEGIN:VEVENT
DTSTART;VALUE=DATE:20181022
DTEND;VALUE=DATE:20181104
DTSTAMP:20260425T102128
CREATED:20181022T164658Z
LAST-MODIFIED:20181022T164658Z
UID:4210-1540206000-1541242799@www.coonambletimes.com.au
SUMMARY:Coonamble Preschool Enrolments
DESCRIPTION:Looking at enrolling you child into preschool? Why not visit Coonamble Preschool and check out their families and programs.
URL:https://www.coonambletimes.com.au/event/coonamble-preschool-enrolments/
LOCATION:Coonamble Pre School\, Coonamble\, NSW\, 2829\, Australia
ATTACH;FMTTYPE=image/jpeg:https://www.coonambletimes.com.au/wp-content/uploads/2018/10/CoonamblePreschool_Enrolment_241018.jpg
END:VEVENT
BEGIN:VEVENT
DTSTART;VALUE=DATE:20181020
DTEND;VALUE=DATE:20181022
DTSTAMP:20260425T102128
CREATED:20181015T141810Z
LAST-MODIFIED:20181015T141810Z
UID:4034-1540033200-1540119599@www.coonambletimes.com.au
SUMMARY:Community Markets
DESCRIPTION:Coonamble Markets are on again don’t miss out on all the goodies!
URL:https://www.coonambletimes.com.au/event/community-markets/
LOCATION:Coonamble Mainstreet\, Castlereagh Street\, Coonamble\, NSW\, 2829\, Australia
ATTACH;FMTTYPE=image/jpeg:https://www.coonambletimes.com.au/wp-content/uploads/2018/10/markets-Ad.jpg
END:VEVENT
BEGIN:VEVENT
DTSTART;TZID=Australia/Sydney:20181014T000000
DTEND;TZID=Australia/Sydney:20181014T020000
DTSTAMP:20260425T102128
CREATED:20181008T183006Z
LAST-MODIFIED:20181008T183006Z
UID:4016-1539475200-1539482400@www.coonambletimes.com.au
SUMMARY:Anyone but NATS - Community Forum
DESCRIPTION:
URL:https://www.coonambletimes.com.au/event/anyone-but-nats-community-forum/
LOCATION:Cooee Park\, Cooee Park sound stage\, Gilgandra\, NSW\, 2827\, Australia
ATTACH;FMTTYPE=image/jpeg:https://www.coonambletimes.com.au/wp-content/uploads/2018/10/Any-One-But-Nats-Half-Page.jpg
END:VEVENT
BEGIN:VEVENT
DTSTART;VALUE=DATE:20181013
DTEND;VALUE=DATE:20181015
DTSTAMP:20260425T102128
CREATED:20181003T184618Z
LAST-MODIFIED:20181003T184618Z
UID:4011-1539428400-1539514799@www.coonambletimes.com.au
SUMMARY:Gulargambone Halcroft and Bennent Gold Cup Race Meeting
DESCRIPTION:
URL:https://www.coonambletimes.com.au/event/gulargambone-halcroft-and-bennent-gold-cup-race-meeting/
LOCATION:Gulargambone Racecourse
ATTACH;FMTTYPE=image/png:https://www.coonambletimes.com.au/wp-content/uploads/2018/10/2018-gold-Cup-Facebook-advert-2.png
END:VEVENT
BEGIN:VEVENT
DTSTART;VALUE=DATE:20181013
DTEND;VALUE=DATE:20181015
DTSTAMP:20260425T102128
CREATED:20180827T204803Z
LAST-MODIFIED:20180827T204803Z
UID:3619-1539428400-1539514799@www.coonambletimes.com.au
SUMMARY:Annual Strawberry Fair
DESCRIPTION:
URL:https://www.coonambletimes.com.au/event/annual-strawberry-fair/
LOCATION:St Barnabas Anglican Church\, Coonamble
ATTACH;FMTTYPE=image/jpeg:https://www.coonambletimes.com.au/wp-content/uploads/2018/08/StrawberryFair_220818.jpg
END:VEVENT
BEGIN:VEVENT
DTSTART;TZID=Australia/Sydney:20181007T190000
DTEND;TZID=Australia/Sydney:20181008T040000
DTSTAMP:20260425T102128
CREATED:20180807T165459Z
LAST-MODIFIED:20180807T165459Z
UID:3231-1538938800-1538971200@www.coonambletimes.com.au
SUMMARY:Coonamble Gold Cup Race Meeting
DESCRIPTION:
URL:https://www.coonambletimes.com.au/event/coonamble-gold-cup-race-meeting/
LOCATION:Coonamble Jockey Club\, Coonamble\, NSW
END:VEVENT
BEGIN:VEVENT
DTSTART;VALUE=DATE:20181006
DTEND;VALUE=DATE:20181008
DTSTAMP:20260425T102128
CREATED:20180807T165756Z
LAST-MODIFIED:20180827T203512Z
UID:3234-1538820000-1538909999@www.coonambletimes.com.au
SUMMARY:Yesterdays Heroes Ball - Rain Dance
DESCRIPTION:Kick up some dust\, dance up a storm and break the drought in Coonamble
URL:https://www.coonambletimes.com.au/event/save-the-date-yesterdays-heroes-ball-coonamble/
LOCATION:Coonamble Showground
ATTACH;FMTTYPE=image/jpeg:https://www.coonambletimes.com.au/wp-content/uploads/2018/08/YesterdaysHeroesBall_150818.jpg
END:VEVENT
BEGIN:VEVENT
DTSTART;VALUE=DATE:20181004
DTEND;VALUE=DATE:20181006
DTSTAMP:20260425T102128
CREATED:20180910T195204Z
LAST-MODIFIED:20180910T200326Z
UID:3859-1538647200-1538733599@www.coonambletimes.com.au
SUMMARY:Southwell land and water Auction
DESCRIPTION:
URL:https://www.coonambletimes.com.au/event/southwell-land-and-water-auction/
LOCATION:“Warrington”\, "Warrington"\, Coonamble\, NSW\, 2829\, Australia
ATTACH;FMTTYPE=image/jpeg:https://www.coonambletimes.com.au/wp-content/uploads/2018/09/Southwell_CoonambleTimes_Hlfpg_262x185_260639615_v3b_PRINT.jpg
END:VEVENT
BEGIN:VEVENT
DTSTART;VALUE=DATE:20180928
DTEND;VALUE=DATE:20181003
DTSTAMP:20260425T102128
CREATED:20180917T165103Z
LAST-MODIFIED:20180917T165103Z
UID:3939-1538128800-1538474399@www.coonambletimes.com.au
SUMMARY:Carinda Let's Dance
DESCRIPTION:Spend a night out dancing to the beat of David Bowie.
URL:https://www.coonambletimes.com.au/event/carinda-lets-dance/
LOCATION:carinda\, 13 Castlereagh Street\, Carinda\, NSW\, Australia
ATTACH;FMTTYPE=image/jpeg:https://www.coonambletimes.com.au/wp-content/uploads/2018/09/bowie-unzipped-Carinda-2018.jpg
END:VEVENT
BEGIN:VEVENT
DTSTART;VALUE=DATE:20180928
DTEND;VALUE=DATE:20181001
DTSTAMP:20260425T102128
CREATED:20180924T203142Z
LAST-MODIFIED:20180924T203142Z
UID:3981-1538128800-1538301599@www.coonambletimes.com.au
SUMMARY:Greyhound Club - October long weekend carnival
DESCRIPTION:
URL:https://www.coonambletimes.com.au/event/greyhound-club-october-long-weekend-carnival/
LOCATION:Greyhound race course\, Castlereagh Highway\, Coonamble\, NSW\, 2829\, Australia
ATTACH;FMTTYPE=image/jpeg:https://www.coonambletimes.com.au/wp-content/uploads/2018/09/Greyhound_OctoberLongWeekend_260918.jpg
END:VEVENT
BEGIN:VEVENT
DTSTART;VALUE=DATE:20180928
DTEND;VALUE=DATE:20180930
DTSTAMP:20260425T102128
CREATED:20180910T194623Z
LAST-MODIFIED:20180910T195959Z
UID:3854-1538128800-1538215199@www.coonambletimes.com.au
SUMMARY:WDI Clinic
DESCRIPTION:
URL:https://www.coonambletimes.com.au/event/wdi-clinic/
LOCATION:Mink & Me\, 100 Castlereagh street\, Coonamble\, NSW\, 2829\, Australia
ATTACH;FMTTYPE=image/jpeg:https://www.coonambletimes.com.au/wp-content/uploads/2018/09/WDI-Clinic-2col-x-10cm.jpg
ORGANIZER;CN="WDI":MAILTO:WDICLINIC.COM.AU
END:VEVENT
BEGIN:VEVENT
DTSTART;VALUE=DATE:20180924
DTEND;VALUE=DATE:20181028
DTSTAMP:20260425T102128
CREATED:20180806T203239Z
LAST-MODIFIED:20180806T203239Z
UID:3207-1537783200-1540637999@www.coonambletimes.com.au
SUMMARY:Outback Archies
DESCRIPTION:Art Prize and Exhibition // $5\,000 Prizepool \nEntries are open to all regional artists living in the Far West and surrounds. \n 
URL:https://www.coonambletimes.com.au/event/outback-archies/
LOCATION:Outback Arts\, 26/30 Castleregh Street\, Coonamble\, New South Wales\, 2829\, Australia
END:VEVENT
BEGIN:VEVENT
DTSTART;TZID=Australia/Sydney:20180923T010000
DTEND;TZID=Australia/Sydney:20180923T010000
DTSTAMP:20260425T102128
CREATED:20180910T191353Z
LAST-MODIFIED:20180910T192908Z
UID:3833-1537664400-1537664400@www.coonambletimes.com.au
SUMMARY:An arvo on the green
DESCRIPTION:
URL:https://www.coonambletimes.com.au/event/an-arvo-on-the-green/
ATTACH;FMTTYPE=image/jpeg:https://www.coonambletimes.com.au/wp-content/uploads/2018/09/An-Arvo-on-the-Green.jpg
END:VEVENT
BEGIN:VEVENT
DTSTART;TZID=Australia/Sydney:20180922T043000
DTEND;TZID=Australia/Sydney:20180922T043000
DTSTAMP:20260425T102128
CREATED:20180917T164417Z
LAST-MODIFIED:20180917T164417Z
UID:3937-1537590600-1537590600@www.coonambletimes.com.au
SUMMARY:Coonamble Rams Presentation Night
DESCRIPTION:Join the Rams in celebrating the end to another season of football.
URL:https://www.coonambletimes.com.au/event/coonamble-rams-presentation-night/
ATTACH;FMTTYPE=image/png:https://www.coonambletimes.com.au/wp-content/uploads/2018/09/PRESENTATION-NIGHT-ad.png
END:VEVENT
BEGIN:VEVENT
DTSTART;VALUE=DATE:20180921
DTEND;VALUE=DATE:20180923
DTSTAMP:20260425T102128
CREATED:20180827T204312Z
LAST-MODIFIED:20180827T204312Z
UID:3616-1537524000-1537610399@www.coonambletimes.com.au
SUMMARY:Sydney Hotshots
DESCRIPTION:
URL:https://www.coonambletimes.com.au/event/sydney-hotshots/
LOCATION:Terminus Hotel Coonamble\, 25/27 Railway St\, Coonamble\, NSW\, 2829\, Australia
ATTACH;FMTTYPE=image/jpeg:https://www.coonambletimes.com.au/wp-content/uploads/2018/08/Full-Team-Shot-1.jpg
END:VEVENT
BEGIN:VEVENT
DTSTART;TZID=Australia/Sydney:20180919T200000
DTEND;TZID=Australia/Sydney:20180920T030000
DTSTAMP:20260425T102128
CREATED:20180904T190302Z
LAST-MODIFIED:20180904T190302Z
UID:3655-1537387200-1537412400@www.coonambletimes.com.au
SUMMARY:Community Health Checks
DESCRIPTION:
URL:https://www.coonambletimes.com.au/event/community-health-checks/
LOCATION:Outback Arts\, 26/30 Castleregh Street\, Coonamble\, New South Wales\, 2829\, Australia
ATTACH;FMTTYPE=image/jpeg:https://www.coonambletimes.com.au/wp-content/uploads/2018/09/CAHS_CommuntiyHealthChecks_050918.jpg
END:VEVENT
END:VCALENDAR