BEGIN:VCALENDAR
VERSION:2.0
PRODID:-//The Coonamble Times - ECPv6.13.2.1//NONSGML v1.0//EN
CALSCALE:GREGORIAN
METHOD:PUBLISH
X-ORIGINAL-URL:https://www.coonambletimes.com.au
X-WR-CALDESC:Events for The Coonamble Times
REFRESH-INTERVAL;VALUE=DURATION:PT1H
X-Robots-Tag:noindex
X-PUBLISHED-TTL:PT1H
BEGIN:VTIMEZONE
TZID:Australia/Sydney
BEGIN:STANDARD
TZOFFSETFROM:+1100
TZOFFSETTO:+1000
TZNAME:AEST
DTSTART:20210403T160000
END:STANDARD
BEGIN:DAYLIGHT
TZOFFSETFROM:+1000
TZOFFSETTO:+1100
TZNAME:AEDT
DTSTART:20211002T160000
END:DAYLIGHT
BEGIN:STANDARD
TZOFFSETFROM:+1100
TZOFFSETTO:+1000
TZNAME:AEST
DTSTART:20220402T160000
END:STANDARD
BEGIN:DAYLIGHT
TZOFFSETFROM:+1000
TZOFFSETTO:+1100
TZNAME:AEDT
DTSTART:20221001T160000
END:DAYLIGHT
END:VTIMEZONE
BEGIN:VEVENT
DTSTART;TZID=Australia/Sydney:20210729T133000
DTEND;TZID=Australia/Sydney:20210729T150000
DTSTAMP:20260426T124938
CREATED:20210722T061301Z
LAST-MODIFIED:20210722T061301Z
UID:21404-1627565400-1627570800@www.coonambletimes.com.au
SUMMARY:Coonamble Cattle Sale
DESCRIPTION:Coonamble Cattle Yards (Railway ST)
URL:https://www.coonambletimes.com.au/event/coonamble-cattle-sale/
END:VEVENT
BEGIN:VEVENT
DTSTART;TZID=Australia/Sydney:20210730T080000
DTEND;TZID=Australia/Sydney:20210801T170000
DTSTAMP:20260426T124938
CREATED:20210624T045830Z
LAST-MODIFIED:20210624T045830Z
UID:20756-1627632000-1627837200@www.coonambletimes.com.au
SUMMARY:Coonamble Challenge & Campdraft
DESCRIPTION:30th July to the 1st of August \nHeld at the Coonamble Showground- 9565 Castlereagh Hwy\, Coonamble NSW 2829
URL:https://www.coonambletimes.com.au/event/coonamble-challenge-campdraft-2/
LOCATION:Coonamble Showground
END:VEVENT
BEGIN:VEVENT
DTSTART;TZID=Australia/Sydney:20210801T093000
DTEND;TZID=Australia/Sydney:20210801T120000
DTSTAMP:20260426T124938
CREATED:20210722T061447Z
LAST-MODIFIED:20210722T061447Z
UID:21406-1627810200-1627819200@www.coonambletimes.com.au
SUMMARY:Dallas Clearing sale
DESCRIPTION:295 Castlereagh hwy
URL:https://www.coonambletimes.com.au/event/dallas-clearing-sale/
END:VEVENT
BEGIN:VEVENT
DTSTART;TZID=Australia/Sydney:20210825T110000
DTEND;TZID=Australia/Sydney:20210825T120000
DTSTAMP:20260426T124938
CREATED:20210722T061556Z
LAST-MODIFIED:20210722T061556Z
UID:21408-1629889200-1629892800@www.coonambletimes.com.au
SUMMARY:Cresline Auction
DESCRIPTION:Held at the Coonamble Bowling Club 
URL:https://www.coonambletimes.com.au/event/cresline-auction/
END:VEVENT
BEGIN:VEVENT
DTSTART;TZID=Australia/Sydney:20210828T170000
DTEND;TZID=Australia/Sydney:20210828T220000
DTSTAMP:20260426T124938
CREATED:20210715T054423Z
LAST-MODIFIED:20210715T054558Z
UID:21272-1630170000-1630188000@www.coonambletimes.com.au
SUMMARY:Madame Flute - Divine French Music
DESCRIPTION:Enjoy an evening of French music accompanied by French inspired meals by Poveys @ Two Birds
URL:https://www.coonambletimes.com.au/event/madame-flute-divine-french-music/
END:VEVENT
BEGIN:VEVENT
DTSTART;TZID=Australia/Sydney:20220708T103000
DTEND;TZID=Australia/Sydney:20220708T170000
DTSTAMP:20260426T124938
CREATED:20220707T020358Z
LAST-MODIFIED:20220707T020358Z
UID:32415-1657276200-1657299600@www.coonambletimes.com.au
SUMMARY:NAIDOC Community Day
DESCRIPTION:In celebration of NAIDOC week\, there will be a march starting at the LALC at 11am and ending at McDonald Park where everyone is invited to participate in a community day. There will be lots of activities and prizes so come along for a great day of community and culture.
URL:https://www.coonambletimes.com.au/event/naidoc-community-day/
LOCATION:Mcdonald Park\, Castlereagh Highway\, Coonamble\, NSW\, 2829\, Australia
END:VEVENT
BEGIN:VEVENT
DTSTART;TZID=Australia/Sydney:20220709T110000
DTEND;TZID=Australia/Sydney:20220709T190000
DTSTAMP:20260426T124938
CREATED:20220706T235548Z
LAST-MODIFIED:20220707T021909Z
UID:32405-1657364400-1657393200@www.coonambletimes.com.au
SUMMARY:Qube Ladies Day Coonamble
DESCRIPTION:Join us for a sparkly ladies day at the rugby on Saturday 9 July from 11am.\nRams will be playing Warren\, girls kick off 12:30pm\, with the boys to follow at 2pm.
URL:https://www.coonambletimes.com.au/event/qube-ladies-day-coonamble/
LOCATION:Coonamble Sportsground\, Castlereagh Highway\, Coonamble\, New South Wales\, 2829\, Australia
END:VEVENT
BEGIN:VEVENT
DTSTART;TZID=Australia/Sydney:20220709T160000
DTEND;TZID=Australia/Sydney:20220709T183000
DTSTAMP:20260426T124938
CREATED:20220707T020808Z
LAST-MODIFIED:20220707T020808Z
UID:32417-1657382400-1657391400@www.coonambletimes.com.au
SUMMARY:Coonamble Bears vs Baradine Magpies
DESCRIPTION:The Coonamble Bears go head to head with the Baradine Magpies this Saturday. The leaguetag ladies will be kicking off at 4pm\, with the senior boys to follow at 5:15pm.
URL:https://www.coonambletimes.com.au/event/coonamble-bears-vs-baradine-magpies-2/
LOCATION:Coonamble Sportsground\, Castlereagh Highway\, Coonamble\, New South Wales\, 2829\, Australia
END:VEVENT
BEGIN:VEVENT
DTSTART;TZID=Australia/Sydney:20220713T090000
DTEND;TZID=Australia/Sydney:20220713T150000
DTSTAMP:20260426T124938
CREATED:20220707T022834Z
LAST-MODIFIED:20220707T022955Z
UID:32425-1657702800-1657724400@www.coonambletimes.com.au
SUMMARY:Coonamble Shire Council Meeting
DESCRIPTION:Members of the public are welcome to attend as observers. If you wish to speak to an item\, please apply during the week before the meeting. See further details here.\nDownload a copy of the Agenda and Business Paper here (available on the Friday before the meeting date).
URL:https://www.coonambletimes.com.au/event/coonamble-shire-council-meeting/
LOCATION:Coonamble Shire Council\, 80 Castlereagh Street\, Coonamble\, NSW\, 2829\, Australia
END:VEVENT
BEGIN:VEVENT
DTSTART;TZID=Australia/Sydney:20220715T180000
DTEND;TZID=Australia/Sydney:20220715T220000
DTSTAMP:20260426T124938
CREATED:20220707T021510Z
LAST-MODIFIED:20220707T022004Z
UID:32419-1657908000-1657922400@www.coonambletimes.com.au
SUMMARY:NASCA NAIDOC Disco
DESCRIPTION:Get your groove on this Friday at the Coonamble Bowling Club for NASCA’s NAIDOC week disco. All school ages welcome*\, with dinner provided for kids in attendance. \n*younger kids must have a parent/carer present.
URL:https://www.coonambletimes.com.au/event/nasca-naidoc-disco/
LOCATION:Coonamble Bowling Club\, Aberford Street\, Coonamble\, New South Wales\, 2829\, Australia
END:VEVENT
BEGIN:VEVENT
DTSTART;TZID=Australia/Sydney:20220810T090000
DTEND;TZID=Australia/Sydney:20220810T150000
DTSTAMP:20260426T124938
CREATED:20220707T023254Z
LAST-MODIFIED:20220707T023254Z
UID:32430-1660122000-1660143600@www.coonambletimes.com.au
SUMMARY:Coonamble Shire Council Meeting
DESCRIPTION:Members of the public are welcome to attend as observers. If you wish to speak to an item\, please apply during the week before the meeting. See further details here.\nDownload a copy of the Agenda and Business Paper here (available on the Friday before the meeting date).
URL:https://www.coonambletimes.com.au/event/coonamble-shire-council-meeting-2/
LOCATION:Coonamble Shire Council\, 80 Castlereagh Street\, Coonamble\, NSW\, 2829\, Australia
END:VEVENT
BEGIN:VEVENT
DTSTART;TZID=Australia/Sydney:20220930T140000
DTEND;TZID=Australia/Sydney:20220930T140000
DTSTAMP:20260426T124938
CREATED:20220929T014940Z
LAST-MODIFIED:20220929T020251Z
UID:35802-1664546400-1664546400@www.coonambletimes.com.au
SUMMARY:Coonamble Greyhound Afternoon Races
DESCRIPTION:
URL:https://www.coonambletimes.com.au/event/coonamble-greyhound-afternoon-races/
LOCATION:Coonamble Greyhound Race Track\, 160 Castlereagh Hwy\, Coonamble\, NSW\, 2829\, Australia
END:VEVENT
BEGIN:VEVENT
DTSTART;TZID=Australia/Sydney:20220930T193000
DTEND;TZID=Australia/Sydney:20220930T193000
DTSTAMP:20260426T124938
CREATED:20220929T015244Z
LAST-MODIFIED:20220929T020313Z
UID:35818-1664566200-1664566200@www.coonambletimes.com.au
SUMMARY:Coonamble Greyhound Evening Races
DESCRIPTION:
URL:https://www.coonambletimes.com.au/event/coonamble-greyhound-evening-races/
LOCATION:Coonamble Greyhound Race Track\, 160 Castlereagh Hwy\, Coonamble\, NSW\, 2829\, Australia
END:VEVENT
BEGIN:VEVENT
DTSTART;TZID=Australia/Sydney:20221001T100000
DTEND;TZID=Australia/Sydney:20221001T100000
DTSTAMP:20260426T124938
CREATED:20220929T015553Z
LAST-MODIFIED:20220929T020335Z
UID:35825-1664618400-1664618400@www.coonambletimes.com.au
SUMMARY:Coonamble Greyhound Morning Races
DESCRIPTION:
URL:https://www.coonambletimes.com.au/event/coonamble-greyhound-morning-races/
LOCATION:Coonamble Greyhound Race Track\, 160 Castlereagh Hwy\, Coonamble\, NSW\, 2829\, Australia
END:VEVENT
BEGIN:VEVENT
DTSTART;TZID=Australia/Sydney:20221001T140000
DTEND;TZID=Australia/Sydney:20221001T170000
DTSTAMP:20260426T124938
CREATED:20220929T015800Z
LAST-MODIFIED:20220929T021436Z
UID:35831-1664632800-1664643600@www.coonambletimes.com.au
SUMMARY:Coonamble Greyhound Afternoon Races
DESCRIPTION:
URL:https://www.coonambletimes.com.au/event/coonamble-greyhound-afternoon-races-2/
LOCATION:Coonamble Greyhound Race Track\, 160 Castlereagh Hwy\, Coonamble\, NSW\, 2829\, Australia
END:VEVENT
BEGIN:VEVENT
DTSTART;TZID=Australia/Sydney:20221002T080000
DTEND;TZID=Australia/Sydney:20221002T110000
DTSTAMP:20260426T124938
CREATED:20220929T010742Z
LAST-MODIFIED:20220929T023537Z
UID:35790-1664697600-1664708400@www.coonambletimes.com.au
SUMMARY:All You Can Eat Breakfast
DESCRIPTION:
URL:https://www.coonambletimes.com.au/event/all-you-can-eat-breakfast/
LOCATION:Coonamble Bowling Club\, Aberford Street\, Coonamble\, New South Wales\, 2829\, Australia
END:VEVENT
BEGIN:VEVENT
DTSTART;TZID=Australia/Sydney:20221002T180000
DTEND;TZID=Australia/Sydney:20221002T180000
DTSTAMP:20260426T124938
CREATED:20220929T024740Z
LAST-MODIFIED:20220929T233937Z
UID:35901-1664733600-1664733600@www.coonambletimes.com.au
SUMMARY:Live Band 'Just Us'
DESCRIPTION:
URL:https://www.coonambletimes.com.au/event/live-band-just-us/
LOCATION:Coonamble Bowling Club\, Aberford Street\, Coonamble\, New South Wales\, 2829\, Australia
ATTACH;FMTTYPE=application/pdf:https://www.coonambletimes.com.au/wp-content/uploads/2022/10/Bowling-Club-Banner-28.09.22.pdf
END:VEVENT
BEGIN:VEVENT
DTSTART;TZID=Australia/Sydney:20221003T000000
DTEND;TZID=Australia/Sydney:20221003T000000
DTSTAMP:20260426T124938
CREATED:20220929T021619Z
LAST-MODIFIED:20220929T021619Z
UID:35862-1664755200-1664755200@www.coonambletimes.com.au
SUMMARY:Coonamble Greyhound Gold Cup Races
DESCRIPTION:
URL:https://www.coonambletimes.com.au/event/coonamble-greyhound-gold-cup-races/
LOCATION:Coonamble Greyhound Race Track\, 160 Castlereagh Hwy\, Coonamble\, NSW\, 2829\, Australia
END:VEVENT
BEGIN:VEVENT
DTSTART;TZID=Australia/Sydney:20221005T173000
DTEND;TZID=Australia/Sydney:20221005T173000
DTSTAMP:20260426T124938
CREATED:20220929T023050Z
LAST-MODIFIED:20220929T023131Z
UID:35866-1664991000-1664991000@www.coonambletimes.com.au
SUMMARY:CWA Coonamble Evening Branch Annual General Meeting
DESCRIPTION:
URL:https://www.coonambletimes.com.au/event/cwa-coonamble-evening-branch-annual-general-meeting/
LOCATION:Coonamble CWA Hall\, 93 Castlereagh St\, Coonamble\, NSW\, 2829\, Australia
END:VEVENT
BEGIN:VEVENT
DTSTART;TZID=Australia/Sydney:20221006T183000
DTEND;TZID=Australia/Sydney:20221006T183000
DTSTAMP:20260426T124938
CREATED:20220929T023414Z
LAST-MODIFIED:20220929T023627Z
UID:35887-1665081000-1665081000@www.coonambletimes.com.au
SUMMARY:Coonamble Rams Rugby Football Club Annual General Meeting
DESCRIPTION:
URL:https://www.coonambletimes.com.au/event/coonamble-rams-rugby-football-club-annual-general-meeting/
LOCATION:Coonamble racecourse
END:VEVENT
BEGIN:VEVENT
DTSTART;TZID=Australia/Sydney:20221007T083000
DTEND;TZID=Australia/Sydney:20221007T110000
DTSTAMP:20260426T124938
CREATED:20220929T001950Z
LAST-MODIFIED:20220929T233605Z
UID:35773-1665131400-1665140400@www.coonambletimes.com.au
SUMMARY:The Great Gulargambone Pigeon Race Calcutta
DESCRIPTION:
URL:https://www.coonambletimes.com.au/event/the-great-gulargambone-pigeon-race-calcutta/
LOCATION:Gulargambone Bowling Club\, 41 Armitree St\, Gulargambone\, NSW\, 2828\, Australia
ATTACH;FMTTYPE=application/pdf:https://www.coonambletimes.com.au/wp-content/uploads/2022/10/Pigeon-Race-_3col-x-7cm-2-1.pdf
END:VEVENT
BEGIN:VEVENT
DTSTART;TZID=Australia/Sydney:20221007T190000
DTEND;TZID=Australia/Sydney:20221007T190000
DTSTAMP:20260426T124938
CREATED:20221005T232017Z
LAST-MODIFIED:20221005T232239Z
UID:36093-1665169200-1665169200@www.coonambletimes.com.au
SUMMARY:'Max Jackson' LIVE
DESCRIPTION:
URL:https://www.coonambletimes.com.au/event/max-jackson-live/
LOCATION:Coonamble Bowling Club\, Aberford Street\, Coonamble\, New South Wales\, 2829\, Australia
END:VEVENT
BEGIN:VEVENT
DTSTART;TZID=Australia/Sydney:20221010T000000
DTEND;TZID=Australia/Sydney:20221010T235959
DTSTAMP:20260426T124938
CREATED:20220929T002411Z
LAST-MODIFIED:20221005T041449Z
UID:35781-1665360000-1665446399@www.coonambletimes.com.au
SUMMARY:The Great Gulargambone Pigeon Race
DESCRIPTION:
URL:https://www.coonambletimes.com.au/event/the-great-gulargambone-pigeon-race/
END:VEVENT
BEGIN:VEVENT
DTSTART;TZID=Australia/Sydney:20221011T100000
DTEND;TZID=Australia/Sydney:20221011T100000
DTSTAMP:20260426T124938
CREATED:20220929T012508Z
LAST-MODIFIED:20221012T002615Z
UID:35792-1665482400-1665482400@www.coonambletimes.com.au
SUMMARY:POSTPONED Official Opening Of Extensions And Renovations At St Brigids
DESCRIPTION:
URL:https://www.coonambletimes.com.au/event/official-opening-of-extensions-and-renovations-at-st-brigids/
LOCATION:St Brigids Catholic Primary School\, 8 Tooloon St\, Coonamble\, NSW\, 2829\, Australia
ATTACH;FMTTYPE=application/pdf:https://www.coonambletimes.com.au/wp-content/uploads/2022/10/St-Brigids-opening-ad-1-1.pdf
ORGANIZER;CN="St Brigids Catholic Primary School":MAILTO:stbrigidschool@bth.catholic.edu.au
END:VEVENT
BEGIN:VEVENT
DTSTART;TZID=Australia/Sydney:20221013T083000
DTEND;TZID=Australia/Sydney:20221013T170000
DTSTAMP:20260426T124938
CREATED:20220929T000407Z
LAST-MODIFIED:20220929T233324Z
UID:35764-1665649800-1665680400@www.coonambletimes.com.au
SUMMARY:Covid Vaccination Clinic
DESCRIPTION:
URL:https://www.coonambletimes.com.au/event/covid-vaccination-clinic/
LOCATION:Coonamble Aboriginal Health Services\, 17 Tooloon Street\, Coonamble\, NSW\, 2829
ATTACH;FMTTYPE=application/pdf:https://www.coonambletimes.com.au/wp-content/uploads/2022/10/CAHS-vaccine-ad-2.pdf
END:VEVENT
BEGIN:VEVENT
DTSTART;TZID=Australia/Sydney:20221015T000000
DTEND;TZID=Australia/Sydney:20221015T000000
DTSTAMP:20260426T124938
CREATED:20221005T231548Z
LAST-MODIFIED:20221005T231548Z
UID:36090-1665792000-1665792000@www.coonambletimes.com.au
SUMMARY:Coonamble Bears Awards & Presentation Night
DESCRIPTION:
URL:https://www.coonambletimes.com.au/event/coonamble-bears-awards-presentation-night/
LOCATION:Coonamble Bowling Club\, Aberford Street\, Coonamble\, New South Wales\, 2829\, Australia
END:VEVENT
BEGIN:VEVENT
DTSTART;TZID=Australia/Sydney:20221017T173000
DTEND;TZID=Australia/Sydney:20221017T173000
DTSTAMP:20260426T124938
CREATED:20221012T004155Z
LAST-MODIFIED:20221012T004155Z
UID:36361-1666027800-1666027800@www.coonambletimes.com.au
SUMMARY:Coonamble Children's Services Annual General Meeting
DESCRIPTION:
URL:https://www.coonambletimes.com.au/event/coonamble-childrens-services-annual-general-meeting/
LOCATION:CCS Centre\, 45A Dubbo St\, Coonamble\, NSW\, 2829\, Australia
END:VEVENT
BEGIN:VEVENT
DTSTART;TZID=Australia/Sydney:20221018T180000
DTEND;TZID=Australia/Sydney:20221018T180000
DTSTAMP:20260426T124938
CREATED:20221005T232754Z
LAST-MODIFIED:20221005T232754Z
UID:36096-1666116000-1666116000@www.coonambletimes.com.au
SUMMARY:Annual General Meeting of Koonambil Aged Care LTD
DESCRIPTION:
URL:https://www.coonambletimes.com.au/event/annual-general-meeting-of-koonambil-aged-care-ltd/
LOCATION:Koonambil meeting Room\, Coonamble\, NSW\, 2829\, Australia
END:VEVENT
BEGIN:VEVENT
DTSTART;TZID=Australia/Sydney:20221018T180000
DTEND;TZID=Australia/Sydney:20221018T180000
DTSTAMP:20260426T124938
CREATED:20221005T233450Z
LAST-MODIFIED:20221005T233450Z
UID:36110-1666116000-1666116000@www.coonambletimes.com.au
SUMMARY:Coonamble Community Radio Annual General Meeting
DESCRIPTION:
URL:https://www.coonambletimes.com.au/event/coonamble-community-radio-annual-general-meeting/
LOCATION:Coonamble Bowling Club\, Aberford Street\, Coonamble\, New South Wales\, 2829\, Australia
END:VEVENT
BEGIN:VEVENT
DTSTART;TZID=Australia/Sydney:20221018T183000
DTEND;TZID=Australia/Sydney:20221018T183000
DTSTAMP:20260426T124938
CREATED:20221005T233036Z
LAST-MODIFIED:20221005T233036Z
UID:36105-1666117800-1666117800@www.coonambletimes.com.au
SUMMARY:Coonamble Rugby League Football Club Annual General Meeting 2023
DESCRIPTION:
URL:https://www.coonambletimes.com.au/event/coonamble-rugby-league-football-club-annual-general-meeting-2023/
LOCATION:Coonamble Bowling Club\, Aberford Street\, Coonamble\, New South Wales\, 2829\, Australia
END:VEVENT
END:VCALENDAR