BEGIN:VCALENDAR
VERSION:2.0
PRODID:-//The Coonamble Times - ECPv6.13.2.1//NONSGML v1.0//EN
CALSCALE:GREGORIAN
METHOD:PUBLISH
X-ORIGINAL-URL:https://www.coonambletimes.com.au
X-WR-CALDESC:Events for The Coonamble Times
REFRESH-INTERVAL;VALUE=DURATION:PT1H
X-Robots-Tag:noindex
X-PUBLISHED-TTL:PT1H
BEGIN:VTIMEZONE
TZID:Australia/Sydney
BEGIN:STANDARD
TZOFFSETFROM:+1100
TZOFFSETTO:+1000
TZNAME:AEST
DTSTART:20220402T160000
END:STANDARD
BEGIN:DAYLIGHT
TZOFFSETFROM:+1000
TZOFFSETTO:+1100
TZNAME:AEDT
DTSTART:20221001T160000
END:DAYLIGHT
END:VTIMEZONE
BEGIN:VEVENT
DTSTART;TZID=Australia/Sydney:20221002T180000
DTEND;TZID=Australia/Sydney:20221002T180000
DTSTAMP:20260426T140338
CREATED:20220929T024740Z
LAST-MODIFIED:20220929T233937Z
UID:35901-1664733600-1664733600@www.coonambletimes.com.au
SUMMARY:Live Band 'Just Us'
DESCRIPTION:
URL:https://www.coonambletimes.com.au/event/live-band-just-us/
LOCATION:Coonamble Bowling Club\, Aberford Street\, Coonamble\, New South Wales\, 2829\, Australia
ATTACH;FMTTYPE=application/pdf:https://www.coonambletimes.com.au/wp-content/uploads/2022/10/Bowling-Club-Banner-28.09.22.pdf
END:VEVENT
BEGIN:VEVENT
DTSTART;TZID=Australia/Sydney:20221003T000000
DTEND;TZID=Australia/Sydney:20221003T000000
DTSTAMP:20260426T140338
CREATED:20220929T021619Z
LAST-MODIFIED:20220929T021619Z
UID:35862-1664755200-1664755200@www.coonambletimes.com.au
SUMMARY:Coonamble Greyhound Gold Cup Races
DESCRIPTION:
URL:https://www.coonambletimes.com.au/event/coonamble-greyhound-gold-cup-races/
LOCATION:Coonamble Greyhound Race Track\, 160 Castlereagh Hwy\, Coonamble\, NSW\, 2829\, Australia
END:VEVENT
BEGIN:VEVENT
DTSTART;TZID=Australia/Sydney:20221005T173000
DTEND;TZID=Australia/Sydney:20221005T173000
DTSTAMP:20260426T140338
CREATED:20220929T023050Z
LAST-MODIFIED:20220929T023131Z
UID:35866-1664991000-1664991000@www.coonambletimes.com.au
SUMMARY:CWA Coonamble Evening Branch Annual General Meeting
DESCRIPTION:
URL:https://www.coonambletimes.com.au/event/cwa-coonamble-evening-branch-annual-general-meeting/
LOCATION:Coonamble CWA Hall\, 93 Castlereagh St\, Coonamble\, NSW\, 2829\, Australia
END:VEVENT
BEGIN:VEVENT
DTSTART;TZID=Australia/Sydney:20221006T183000
DTEND;TZID=Australia/Sydney:20221006T183000
DTSTAMP:20260426T140338
CREATED:20220929T023414Z
LAST-MODIFIED:20220929T023627Z
UID:35887-1665081000-1665081000@www.coonambletimes.com.au
SUMMARY:Coonamble Rams Rugby Football Club Annual General Meeting
DESCRIPTION:
URL:https://www.coonambletimes.com.au/event/coonamble-rams-rugby-football-club-annual-general-meeting/
LOCATION:Coonamble racecourse
END:VEVENT
BEGIN:VEVENT
DTSTART;TZID=Australia/Sydney:20221007T083000
DTEND;TZID=Australia/Sydney:20221007T110000
DTSTAMP:20260426T140338
CREATED:20220929T001950Z
LAST-MODIFIED:20220929T233605Z
UID:35773-1665131400-1665140400@www.coonambletimes.com.au
SUMMARY:The Great Gulargambone Pigeon Race Calcutta
DESCRIPTION:
URL:https://www.coonambletimes.com.au/event/the-great-gulargambone-pigeon-race-calcutta/
LOCATION:Gulargambone Bowling Club\, 41 Armitree St\, Gulargambone\, NSW\, 2828\, Australia
ATTACH;FMTTYPE=application/pdf:https://www.coonambletimes.com.au/wp-content/uploads/2022/10/Pigeon-Race-_3col-x-7cm-2-1.pdf
END:VEVENT
BEGIN:VEVENT
DTSTART;TZID=Australia/Sydney:20221007T190000
DTEND;TZID=Australia/Sydney:20221007T190000
DTSTAMP:20260426T140338
CREATED:20221005T232017Z
LAST-MODIFIED:20221005T232239Z
UID:36093-1665169200-1665169200@www.coonambletimes.com.au
SUMMARY:'Max Jackson' LIVE
DESCRIPTION:
URL:https://www.coonambletimes.com.au/event/max-jackson-live/
LOCATION:Coonamble Bowling Club\, Aberford Street\, Coonamble\, New South Wales\, 2829\, Australia
END:VEVENT
BEGIN:VEVENT
DTSTART;TZID=Australia/Sydney:20221010T000000
DTEND;TZID=Australia/Sydney:20221010T235959
DTSTAMP:20260426T140338
CREATED:20220929T002411Z
LAST-MODIFIED:20221005T041449Z
UID:35781-1665360000-1665446399@www.coonambletimes.com.au
SUMMARY:The Great Gulargambone Pigeon Race
DESCRIPTION:
URL:https://www.coonambletimes.com.au/event/the-great-gulargambone-pigeon-race/
END:VEVENT
BEGIN:VEVENT
DTSTART;TZID=Australia/Sydney:20221011T100000
DTEND;TZID=Australia/Sydney:20221011T100000
DTSTAMP:20260426T140338
CREATED:20220929T012508Z
LAST-MODIFIED:20221012T002615Z
UID:35792-1665482400-1665482400@www.coonambletimes.com.au
SUMMARY:POSTPONED Official Opening Of Extensions And Renovations At St Brigids
DESCRIPTION:
URL:https://www.coonambletimes.com.au/event/official-opening-of-extensions-and-renovations-at-st-brigids/
LOCATION:St Brigids Catholic Primary School\, 8 Tooloon St\, Coonamble\, NSW\, 2829\, Australia
ATTACH;FMTTYPE=application/pdf:https://www.coonambletimes.com.au/wp-content/uploads/2022/10/St-Brigids-opening-ad-1-1.pdf
ORGANIZER;CN="St Brigids Catholic Primary School":MAILTO:stbrigidschool@bth.catholic.edu.au
END:VEVENT
BEGIN:VEVENT
DTSTART;TZID=Australia/Sydney:20221013T083000
DTEND;TZID=Australia/Sydney:20221013T170000
DTSTAMP:20260426T140338
CREATED:20220929T000407Z
LAST-MODIFIED:20220929T233324Z
UID:35764-1665649800-1665680400@www.coonambletimes.com.au
SUMMARY:Covid Vaccination Clinic
DESCRIPTION:
URL:https://www.coonambletimes.com.au/event/covid-vaccination-clinic/
LOCATION:Coonamble Aboriginal Health Services\, 17 Tooloon Street\, Coonamble\, NSW\, 2829
ATTACH;FMTTYPE=application/pdf:https://www.coonambletimes.com.au/wp-content/uploads/2022/10/CAHS-vaccine-ad-2.pdf
END:VEVENT
BEGIN:VEVENT
DTSTART;TZID=Australia/Sydney:20221015T000000
DTEND;TZID=Australia/Sydney:20221015T000000
DTSTAMP:20260426T140338
CREATED:20221005T231548Z
LAST-MODIFIED:20221005T231548Z
UID:36090-1665792000-1665792000@www.coonambletimes.com.au
SUMMARY:Coonamble Bears Awards & Presentation Night
DESCRIPTION:
URL:https://www.coonambletimes.com.au/event/coonamble-bears-awards-presentation-night/
LOCATION:Coonamble Bowling Club\, Aberford Street\, Coonamble\, New South Wales\, 2829\, Australia
END:VEVENT
BEGIN:VEVENT
DTSTART;TZID=Australia/Sydney:20221017T173000
DTEND;TZID=Australia/Sydney:20221017T173000
DTSTAMP:20260426T140338
CREATED:20221012T004155Z
LAST-MODIFIED:20221012T004155Z
UID:36361-1666027800-1666027800@www.coonambletimes.com.au
SUMMARY:Coonamble Children's Services Annual General Meeting
DESCRIPTION:
URL:https://www.coonambletimes.com.au/event/coonamble-childrens-services-annual-general-meeting/
LOCATION:CCS Centre\, 45A Dubbo St\, Coonamble\, NSW\, 2829\, Australia
END:VEVENT
BEGIN:VEVENT
DTSTART;TZID=Australia/Sydney:20221018T180000
DTEND;TZID=Australia/Sydney:20221018T180000
DTSTAMP:20260426T140338
CREATED:20221005T232754Z
LAST-MODIFIED:20221005T232754Z
UID:36096-1666116000-1666116000@www.coonambletimes.com.au
SUMMARY:Annual General Meeting of Koonambil Aged Care LTD
DESCRIPTION:
URL:https://www.coonambletimes.com.au/event/annual-general-meeting-of-koonambil-aged-care-ltd/
LOCATION:Koonambil meeting Room\, Coonamble\, NSW\, 2829\, Australia
END:VEVENT
BEGIN:VEVENT
DTSTART;TZID=Australia/Sydney:20221018T180000
DTEND;TZID=Australia/Sydney:20221018T180000
DTSTAMP:20260426T140338
CREATED:20221005T233450Z
LAST-MODIFIED:20221005T233450Z
UID:36110-1666116000-1666116000@www.coonambletimes.com.au
SUMMARY:Coonamble Community Radio Annual General Meeting
DESCRIPTION:
URL:https://www.coonambletimes.com.au/event/coonamble-community-radio-annual-general-meeting/
LOCATION:Coonamble Bowling Club\, Aberford Street\, Coonamble\, New South Wales\, 2829\, Australia
END:VEVENT
BEGIN:VEVENT
DTSTART;TZID=Australia/Sydney:20221018T183000
DTEND;TZID=Australia/Sydney:20221018T183000
DTSTAMP:20260426T140338
CREATED:20221005T233036Z
LAST-MODIFIED:20221005T233036Z
UID:36105-1666117800-1666117800@www.coonambletimes.com.au
SUMMARY:Coonamble Rugby League Football Club Annual General Meeting 2023
DESCRIPTION:
URL:https://www.coonambletimes.com.au/event/coonamble-rugby-league-football-club-annual-general-meeting-2023/
LOCATION:Coonamble Bowling Club\, Aberford Street\, Coonamble\, New South Wales\, 2829\, Australia
END:VEVENT
BEGIN:VEVENT
DTSTART;TZID=Australia/Sydney:20221020T120000
DTEND;TZID=Australia/Sydney:20221020T120000
DTSTAMP:20260426T140338
CREATED:20221020T020029Z
LAST-MODIFIED:20221020T025009Z
UID:36698-1666267200-1666267200@www.coonambletimes.com.au
SUMMARY:First BUY LOCAL Draw
DESCRIPTION:
URL:https://www.coonambletimes.com.au/event/first-buy-local-draw/
END:VEVENT
BEGIN:VEVENT
DTSTART;TZID=Australia/Sydney:20221021T000000
DTEND;TZID=Australia/Sydney:20221021T000000
DTSTAMP:20260426T140338
CREATED:20221012T005558Z
LAST-MODIFIED:20221020T231425Z
UID:36391-1666310400-1666310400@www.coonambletimes.com.au
SUMMARY:POSTPONED Breast Cancer Awareness Bowls
DESCRIPTION:
URL:https://www.coonambletimes.com.au/event/breast-cancer-awareness-bowls/
LOCATION:Coonamble Bowling Club\, Aberford Street\, Coonamble\, New South Wales\, 2829\, Australia
ATTACH;FMTTYPE=application/pdf:https://www.coonambletimes.com.au/wp-content/uploads/2022/10/Bowling-Club-Banner-12.10.22-1.pdf
END:VEVENT
BEGIN:VEVENT
DTSTART;TZID=Australia/Sydney:20221022T183000
DTEND;TZID=Australia/Sydney:20221022T183000
DTSTAMP:20260426T140338
CREATED:20220929T004413Z
LAST-MODIFIED:20220929T020105Z
UID:35785-1666463400-1666463400@www.coonambletimes.com.au
SUMMARY:Royal Far West Dinner And Auction
DESCRIPTION:
URL:https://www.coonambletimes.com.au/event/royal-far-west-dinner-and-auction/
LOCATION:Coonamble Bowling Club\, Aberford Street\, Coonamble\, New South Wales\, 2829\, Australia
END:VEVENT
BEGIN:VEVENT
DTSTART;TZID=Australia/Sydney:20221025T170000
DTEND;TZID=Australia/Sydney:20221025T170000
DTSTAMP:20260426T140338
CREATED:20221020T030210Z
LAST-MODIFIED:20221020T030210Z
UID:36715-1666717200-1666717200@www.coonambletimes.com.au
SUMMARY:Annual General Meeting of Coonamble Aboriginal Land Council
DESCRIPTION:
URL:https://www.coonambletimes.com.au/event/annual-general-meeting-of-coonamble-aboriginal-land-council/
LOCATION:CLALC Office\, 16 Castlereagh St\, Coonamble\, NSW\, 2829\, Australia
END:VEVENT
BEGIN:VEVENT
DTSTART;TZID=Australia/Sydney:20221026T080000
DTEND;TZID=Australia/Sydney:20221026T080000
DTSTAMP:20260426T140338
CREATED:20221020T020258Z
LAST-MODIFIED:20221020T020440Z
UID:36702-1666771200-1666771200@www.coonambletimes.com.au
SUMMARY:800 Fat Cattle Sale
DESCRIPTION:
URL:https://www.coonambletimes.com.au/event/coonamble-fat-sale-2/
LOCATION:Coonamble Sale Yards\, Railway Street\, Coonamble\, Australia
END:VEVENT
BEGIN:VEVENT
DTSTART;TZID=Australia/Sydney:20221028T190000
DTEND;TZID=Australia/Sydney:20221028T190000
DTSTAMP:20260426T140338
CREATED:20221027T004610Z
LAST-MODIFIED:20221027T004610Z
UID:36947-1666983600-1666983600@www.coonambletimes.com.au
SUMMARY:Comedy Outback Show
DESCRIPTION:
URL:https://www.coonambletimes.com.au/event/comedy-outback-show/
LOCATION:Coonamble Bowling Club\, Aberford Street\, Coonamble\, New South Wales\, 2829\, Australia
END:VEVENT
BEGIN:VEVENT
DTSTART;TZID=Australia/Sydney:20221030T110000
DTEND;TZID=Australia/Sydney:20221030T110000
DTSTAMP:20260426T140338
CREATED:20221012T004747Z
LAST-MODIFIED:20221012T004813Z
UID:36382-1667127600-1667127600@www.coonambletimes.com.au
SUMMARY:Coonamble Bowling Club Annual General Meeting 2023
DESCRIPTION:
URL:https://www.coonambletimes.com.au/event/coonamble-bowling-club-annual-general-meeting-2023/
LOCATION:Coonamble Bowling Club\, Aberford Street\, Coonamble\, New South Wales\, 2829\, Australia
END:VEVENT
BEGIN:VEVENT
DTSTART;TZID=Australia/Sydney:20221031T193000
DTEND;TZID=Australia/Sydney:20221031T193000
DTSTAMP:20260426T140338
CREATED:20221027T004717Z
LAST-MODIFIED:20221027T004717Z
UID:36949-1667244600-1667244600@www.coonambletimes.com.au
SUMMARY:Melbourne Cup Calcutta
DESCRIPTION:
URL:https://www.coonambletimes.com.au/event/melbourne-cup-calcutta-2/
LOCATION:Coonamble Bowling Club\, Aberford Street\, Coonamble\, New South Wales\, 2829\, Australia
END:VEVENT
BEGIN:VEVENT
DTSTART;TZID=Australia/Sydney:20221101T120000
DTEND;TZID=Australia/Sydney:20221101T150000
DTSTAMP:20260426T140338
CREATED:20221027T004321Z
LAST-MODIFIED:20221027T004321Z
UID:36945-1667304000-1667314800@www.coonambletimes.com.au
SUMMARY:Melbourne Cup Lunch
DESCRIPTION:
URL:https://www.coonambletimes.com.au/event/melbourne-cup-lunch/
LOCATION:Terminus Hotel Coonamble\, 25/27 Railway St\, Coonamble\, NSW\, 2829\, Australia
END:VEVENT
BEGIN:VEVENT
DTSTART;TZID=Australia/Sydney:20221102T173000
DTEND;TZID=Australia/Sydney:20221102T173000
DTSTAMP:20260426T140338
CREATED:20221027T005650Z
LAST-MODIFIED:20221027T005650Z
UID:36957-1667410200-1667410200@www.coonambletimes.com.au
SUMMARY:Coonamble Team Penning Annual General Meeting
DESCRIPTION:
URL:https://www.coonambletimes.com.au/event/coonamble-team-penning-annual-general-meeting/
LOCATION:Terminus Hotel Coonamble\, 25/27 Railway St\, Coonamble\, NSW\, 2829\, Australia
END:VEVENT
BEGIN:VEVENT
DTSTART;TZID=Australia/Sydney:20221102T173000
DTEND;TZID=Australia/Sydney:20221102T173000
DTSTAMP:20260426T140338
CREATED:20221027T005959Z
LAST-MODIFIED:20221027T005959Z
UID:36962-1667410200-1667410200@www.coonambletimes.com.au
SUMMARY:Coonamble Royal Far West Annual General Meeting
DESCRIPTION:
URL:https://www.coonambletimes.com.au/event/coonamble-royal-far-west-annual-general-meeting/
LOCATION:Coonamble Bowling Club\, Aberford Street\, Coonamble\, New South Wales\, 2829\, Australia
END:VEVENT
BEGIN:VEVENT
DTSTART;TZID=Australia/Sydney:20221103T000000
DTEND;TZID=Australia/Sydney:20221103T000000
DTSTAMP:20260426T140338
CREATED:20221020T025219Z
LAST-MODIFIED:20221027T004848Z
UID:36706-1667433600-1667433600@www.coonambletimes.com.au
SUMMARY:Second BUY LOCAL Draw
DESCRIPTION:
URL:https://www.coonambletimes.com.au/event/second-buy-local-draw/
LOCATION:Joe’s Butchers
END:VEVENT
BEGIN:VEVENT
DTSTART;TZID=Australia/Sydney:20221103T100000
DTEND;TZID=Australia/Sydney:20221103T100000
DTSTAMP:20260426T140338
CREATED:20221020T030915Z
LAST-MODIFIED:20221020T030915Z
UID:36719-1667469600-1667469600@www.coonambletimes.com.au
SUMMARY:Coonamble Mens Shed Annual General Meeting
DESCRIPTION:
URL:https://www.coonambletimes.com.au/event/coonamble-mens-shed-annual-general-meeting/
LOCATION:The Mens Shed\, Coonamble\, NSW\, 2829\, Australia
END:VEVENT
BEGIN:VEVENT
DTSTART;TZID=Australia/Sydney:20221103T180000
DTEND;TZID=Australia/Sydney:20221103T180000
DTSTAMP:20260426T140338
CREATED:20221027T005822Z
LAST-MODIFIED:20221027T005822Z
UID:36959-1667498400-1667498400@www.coonambletimes.com.au
SUMMARY:Coonamble Aquatic Club Annual General Meeting
DESCRIPTION:
URL:https://www.coonambletimes.com.au/event/coonamble-aquatic-club-annual-general-meeting/
LOCATION:Coonamble Bowling Club Board room
END:VEVENT
BEGIN:VEVENT
DTSTART;TZID=Australia/Sydney:20221103T183000
DTEND;TZID=Australia/Sydney:20221103T183000
DTSTAMP:20260426T140338
CREATED:20221027T010417Z
LAST-MODIFIED:20221027T010417Z
UID:36968-1667500200-1667500200@www.coonambletimes.com.au
SUMMARY:Coonamble Rams Rugby Football Club Annual General Meeting
DESCRIPTION:
URL:https://www.coonambletimes.com.au/event/coonamble-rams-rugby-football-club-annual-general-meeting-2/
LOCATION:Coonamble Golf Club\, Caswell Street\, Coonamble\, New South Wales\, 2829\, Australia
END:VEVENT
BEGIN:VEVENT
DTSTART;TZID=Australia/Sydney:20221106T123000
DTEND;TZID=Australia/Sydney:20221106T123000
DTSTAMP:20260426T140338
CREATED:20221101T231235Z
LAST-MODIFIED:20221101T231235Z
UID:37039-1667737800-1667737800@www.coonambletimes.com.au
SUMMARY:Golf Monthly Medal
DESCRIPTION:
URL:https://www.coonambletimes.com.au/event/golf-monthly-medal/
LOCATION:Coonamble Golf Club\, Caswell Street\, Coonamble\, New South Wales\, 2829\, Australia
END:VEVENT
END:VCALENDAR