BEGIN:VCALENDAR
VERSION:2.0
PRODID:-//The Coonamble Times - ECPv6.13.2.1//NONSGML v1.0//EN
CALSCALE:GREGORIAN
METHOD:PUBLISH
X-WR-CALNAME:The Coonamble Times
X-ORIGINAL-URL:https://www.coonambletimes.com.au
X-WR-CALDESC:Events for The Coonamble Times
REFRESH-INTERVAL;VALUE=DURATION:PT1H
X-Robots-Tag:noindex
X-PUBLISHED-TTL:PT1H
BEGIN:VTIMEZONE
TZID:Australia/Sydney
BEGIN:STANDARD
TZOFFSETFROM:+1100
TZOFFSETTO:+1000
TZNAME:AEST
DTSTART:20180331T160000
END:STANDARD
BEGIN:DAYLIGHT
TZOFFSETFROM:+1000
TZOFFSETTO:+1100
TZNAME:AEDT
DTSTART:20181006T160000
END:DAYLIGHT
END:VTIMEZONE
BEGIN:VEVENT
DTSTART;VALUE=DATE:20181013
DTEND;VALUE=DATE:20181015
DTSTAMP:20260425T204512
CREATED:20180827T204803Z
LAST-MODIFIED:20180827T204803Z
UID:3619-1539428400-1539514799@www.coonambletimes.com.au
SUMMARY:Annual Strawberry Fair
DESCRIPTION:
URL:https://www.coonambletimes.com.au/event/annual-strawberry-fair/
LOCATION:St Barnabas Anglican Church\, Coonamble
ATTACH;FMTTYPE=image/jpeg:https://www.coonambletimes.com.au/wp-content/uploads/2018/08/StrawberryFair_220818.jpg
END:VEVENT
BEGIN:VEVENT
DTSTART;TZID=Australia/Sydney:20181007T190000
DTEND;TZID=Australia/Sydney:20181008T040000
DTSTAMP:20260425T204512
CREATED:20180807T165459Z
LAST-MODIFIED:20180807T165459Z
UID:3231-1538938800-1538971200@www.coonambletimes.com.au
SUMMARY:Coonamble Gold Cup Race Meeting
DESCRIPTION:
URL:https://www.coonambletimes.com.au/event/coonamble-gold-cup-race-meeting/
LOCATION:Coonamble Jockey Club\, Coonamble\, NSW
END:VEVENT
BEGIN:VEVENT
DTSTART;VALUE=DATE:20181006
DTEND;VALUE=DATE:20181008
DTSTAMP:20260425T204512
CREATED:20180807T165756Z
LAST-MODIFIED:20180827T203512Z
UID:3234-1538820000-1538909999@www.coonambletimes.com.au
SUMMARY:Yesterdays Heroes Ball - Rain Dance
DESCRIPTION:Kick up some dust\, dance up a storm and break the drought in Coonamble
URL:https://www.coonambletimes.com.au/event/save-the-date-yesterdays-heroes-ball-coonamble/
LOCATION:Coonamble Showground
ATTACH;FMTTYPE=image/jpeg:https://www.coonambletimes.com.au/wp-content/uploads/2018/08/YesterdaysHeroesBall_150818.jpg
END:VEVENT
BEGIN:VEVENT
DTSTART;VALUE=DATE:20181004
DTEND;VALUE=DATE:20181006
DTSTAMP:20260425T204512
CREATED:20180910T195204Z
LAST-MODIFIED:20180910T200326Z
UID:3859-1538647200-1538733599@www.coonambletimes.com.au
SUMMARY:Southwell land and water Auction
DESCRIPTION:
URL:https://www.coonambletimes.com.au/event/southwell-land-and-water-auction/
LOCATION:“Warrington”\, "Warrington"\, Coonamble\, NSW\, 2829\, Australia
ATTACH;FMTTYPE=image/jpeg:https://www.coonambletimes.com.au/wp-content/uploads/2018/09/Southwell_CoonambleTimes_Hlfpg_262x185_260639615_v3b_PRINT.jpg
END:VEVENT
BEGIN:VEVENT
DTSTART;VALUE=DATE:20180928
DTEND;VALUE=DATE:20181003
DTSTAMP:20260425T204512
CREATED:20180917T165103Z
LAST-MODIFIED:20180917T165103Z
UID:3939-1538128800-1538474399@www.coonambletimes.com.au
SUMMARY:Carinda Let's Dance
DESCRIPTION:Spend a night out dancing to the beat of David Bowie.
URL:https://www.coonambletimes.com.au/event/carinda-lets-dance/
LOCATION:carinda\, 13 Castlereagh Street\, Carinda\, NSW\, Australia
ATTACH;FMTTYPE=image/jpeg:https://www.coonambletimes.com.au/wp-content/uploads/2018/09/bowie-unzipped-Carinda-2018.jpg
END:VEVENT
BEGIN:VEVENT
DTSTART;VALUE=DATE:20180928
DTEND;VALUE=DATE:20181001
DTSTAMP:20260425T204512
CREATED:20180924T203142Z
LAST-MODIFIED:20180924T203142Z
UID:3981-1538128800-1538301599@www.coonambletimes.com.au
SUMMARY:Greyhound Club - October long weekend carnival
DESCRIPTION:
URL:https://www.coonambletimes.com.au/event/greyhound-club-october-long-weekend-carnival/
LOCATION:Greyhound race course\, Castlereagh Highway\, Coonamble\, NSW\, 2829\, Australia
ATTACH;FMTTYPE=image/jpeg:https://www.coonambletimes.com.au/wp-content/uploads/2018/09/Greyhound_OctoberLongWeekend_260918.jpg
END:VEVENT
BEGIN:VEVENT
DTSTART;VALUE=DATE:20180928
DTEND;VALUE=DATE:20180930
DTSTAMP:20260425T204512
CREATED:20180910T194623Z
LAST-MODIFIED:20180910T195959Z
UID:3854-1538128800-1538215199@www.coonambletimes.com.au
SUMMARY:WDI Clinic
DESCRIPTION:
URL:https://www.coonambletimes.com.au/event/wdi-clinic/
LOCATION:Mink & Me\, 100 Castlereagh street\, Coonamble\, NSW\, 2829\, Australia
ATTACH;FMTTYPE=image/jpeg:https://www.coonambletimes.com.au/wp-content/uploads/2018/09/WDI-Clinic-2col-x-10cm.jpg
ORGANIZER;CN="WDI":MAILTO:WDICLINIC.COM.AU
END:VEVENT
BEGIN:VEVENT
DTSTART;VALUE=DATE:20180924
DTEND;VALUE=DATE:20181028
DTSTAMP:20260425T204512
CREATED:20180806T203239Z
LAST-MODIFIED:20180806T203239Z
UID:3207-1537783200-1540637999@www.coonambletimes.com.au
SUMMARY:Outback Archies
DESCRIPTION:Art Prize and Exhibition // $5\,000 Prizepool \nEntries are open to all regional artists living in the Far West and surrounds. \n 
URL:https://www.coonambletimes.com.au/event/outback-archies/
LOCATION:Outback Arts\, 26/30 Castleregh Street\, Coonamble\, New South Wales\, 2829\, Australia
END:VEVENT
BEGIN:VEVENT
DTSTART;TZID=Australia/Sydney:20180923T010000
DTEND;TZID=Australia/Sydney:20180923T010000
DTSTAMP:20260425T204512
CREATED:20180910T191353Z
LAST-MODIFIED:20180910T192908Z
UID:3833-1537664400-1537664400@www.coonambletimes.com.au
SUMMARY:An arvo on the green
DESCRIPTION:
URL:https://www.coonambletimes.com.au/event/an-arvo-on-the-green/
LOCATION:New South Wales
ATTACH;FMTTYPE=image/jpeg:https://www.coonambletimes.com.au/wp-content/uploads/2018/09/An-Arvo-on-the-Green.jpg
END:VEVENT
BEGIN:VEVENT
DTSTART;TZID=Australia/Sydney:20180922T043000
DTEND;TZID=Australia/Sydney:20180922T043000
DTSTAMP:20260425T204512
CREATED:20180917T164417Z
LAST-MODIFIED:20180917T164417Z
UID:3937-1537590600-1537590600@www.coonambletimes.com.au
SUMMARY:Coonamble Rams Presentation Night
DESCRIPTION:Join the Rams in celebrating the end to another season of football.
URL:https://www.coonambletimes.com.au/event/coonamble-rams-presentation-night/
LOCATION:New South Wales
ATTACH;FMTTYPE=image/png:https://www.coonambletimes.com.au/wp-content/uploads/2018/09/PRESENTATION-NIGHT-ad.png
END:VEVENT
BEGIN:VEVENT
DTSTART;VALUE=DATE:20180921
DTEND;VALUE=DATE:20180923
DTSTAMP:20260425T204512
CREATED:20180827T204312Z
LAST-MODIFIED:20180827T204312Z
UID:3616-1537524000-1537610399@www.coonambletimes.com.au
SUMMARY:Sydney Hotshots
DESCRIPTION:
URL:https://www.coonambletimes.com.au/event/sydney-hotshots/
LOCATION:Terminus Hotel Coonamble\, 25/27 Railway St\, Coonamble\, NSW\, 2829\, Australia
ATTACH;FMTTYPE=image/jpeg:https://www.coonambletimes.com.au/wp-content/uploads/2018/08/Full-Team-Shot-1.jpg
END:VEVENT
BEGIN:VEVENT
DTSTART;TZID=Australia/Sydney:20180919T200000
DTEND;TZID=Australia/Sydney:20180920T030000
DTSTAMP:20260425T204512
CREATED:20180904T190302Z
LAST-MODIFIED:20180904T190302Z
UID:3655-1537387200-1537412400@www.coonambletimes.com.au
SUMMARY:Community Health Checks
DESCRIPTION:
URL:https://www.coonambletimes.com.au/event/community-health-checks/
LOCATION:Outback Arts\, 26/30 Castleregh Street\, Coonamble\, New South Wales\, 2829\, Australia
ATTACH;FMTTYPE=image/jpeg:https://www.coonambletimes.com.au/wp-content/uploads/2018/09/CAHS_CommuntiyHealthChecks_050918.jpg
END:VEVENT
BEGIN:VEVENT
DTSTART;TZID=Australia/Sydney:20180916T230000
DTEND;TZID=Australia/Sydney:20180917T070000
DTSTAMP:20260425T204512
CREATED:20180904T190138Z
LAST-MODIFIED:20180904T190138Z
UID:3649-1537138800-1537167600@www.coonambletimes.com.au
SUMMARY:Adam Brand
DESCRIPTION:
URL:https://www.coonambletimes.com.au/event/adam-brand/
LOCATION:Armatree Hotel\, Armatree
ATTACH;FMTTYPE=image/jpeg:https://www.coonambletimes.com.au/wp-content/uploads/2018/09/AdamBrand-Armatree-Sep16-2018-2-FINAL-Facebook-1.jpg
END:VEVENT
BEGIN:VEVENT
DTSTART;VALUE=DATE:20180914
DTEND;VALUE=DATE:20180916
DTSTAMP:20260425T204512
CREATED:20180910T194137Z
LAST-MODIFIED:20180910T194137Z
UID:3850-1536919200-1537005599@www.coonambletimes.com.au
SUMMARY:Yoga with Shanae
DESCRIPTION:
URL:https://www.coonambletimes.com.au/event/yoga-with-shanae/
LOCATION:New South Wales
ATTACH;FMTTYPE=image/jpeg:https://www.coonambletimes.com.au/wp-content/uploads/2018/09/SD_Yoga_120918.jpg
END:VEVENT
BEGIN:VEVENT
DTSTART;TZID=Australia/Sydney:20180908T180000
DTEND;TZID=Australia/Sydney:20180909T030000
DTSTAMP:20260425T204512
CREATED:20180904T190442Z
LAST-MODIFIED:20180904T190442Z
UID:3657-1536429600-1536462000@www.coonambletimes.com.au
SUMMARY:Rams Grand Final
DESCRIPTION:
URL:https://www.coonambletimes.com.au/event/rams-grand-final/
LOCATION:Coonamble Sportsground\, Castlereagh Highway\, Coonamble\, New South Wales\, 2829\, Australia
ATTACH;FMTTYPE=image/png:https://www.coonambletimes.com.au/wp-content/uploads/2018/09/Grand-Final-ad.png
END:VEVENT
BEGIN:VEVENT
DTSTART;TZID=Australia/Sydney:20180907T020000
DTEND;TZID=Australia/Sydney:20180907T040000
DTSTAMP:20260425T204512
CREATED:20180827T204042Z
LAST-MODIFIED:20180827T204042Z
UID:3614-1536285600-1536292800@www.coonambletimes.com.au
SUMMARY:Hogs for Farmers
DESCRIPTION:Football Coaching Clinic
URL:https://www.coonambletimes.com.au/event/hogs-for-farmers/
LOCATION:Coonamble Sportsground\, Castlereagh Highway\, Coonamble\, New South Wales\, 2829\, Australia
ATTACH;FMTTYPE=image/jpeg:https://www.coonambletimes.com.au/wp-content/uploads/2018/08/H4Farmers_Coonamble2018_v1b_small-1.jpg
END:VEVENT
BEGIN:VEVENT
DTSTART;VALUE=DATE:20180905
DTEND;VALUE=DATE:20180908
DTSTAMP:20260425T204512
CREATED:20180827T203710Z
LAST-MODIFIED:20180827T203710Z
UID:3611-1536141600-1536314399@www.coonambletimes.com.au
SUMMARY:mherv (Men's Health Van)
DESCRIPTION:Get checked\, see mherv!
URL:https://www.coonambletimes.com.au/event/mherv-mens-health-van/
LOCATION:Coonamble Visitor Information
ATTACH;FMTTYPE=image/png:https://www.coonambletimes.com.au/wp-content/uploads/2018/08/mherv_290818.png
END:VEVENT
BEGIN:VEVENT
DTSTART;TZID=Australia/Sydney:20180904T200000
DTEND;TZID=Australia/Sydney:20181002T220000
DTSTAMP:20260425T204512
CREATED:20180827T203123Z
LAST-MODIFIED:20180829T194556Z
UID:3602-1536091200-1538517600@www.coonambletimes.com.au
SUMMARY:New Parent Group
DESCRIPTION:
URL:https://www.coonambletimes.com.au/event/new-parent-group/
LOCATION:Coonamble Hospital
ATTACH;FMTTYPE=image/jpeg:https://www.coonambletimes.com.au/wp-content/uploads/2018/08/Parent-Group-e1535437724158.jpg
END:VEVENT
BEGIN:VEVENT
DTSTART;VALUE=DATE:20180904
DTEND;VALUE=DATE:20180924
DTSTAMP:20260425T204512
CREATED:20180910T191042Z
LAST-MODIFIED:20180910T193216Z
UID:3828-1536055200-1537696799@www.coonambletimes.com.au
SUMMARY:Great Artesian Basin Protection Group Online Auction
DESCRIPTION:
URL:https://www.coonambletimes.com.au/event/great-artesian-basin-protection-group-online-auction/
LOCATION:Online
ATTACH;FMTTYPE=image/jpeg:https://www.coonambletimes.com.au/wp-content/uploads/2018/09/GABPG_Auction_3colx15cm.jpg
END:VEVENT
BEGIN:VEVENT
DTSTART;VALUE=DATE:20180903
DTEND;VALUE=DATE:20180909
DTSTAMP:20260425T204512
CREATED:20180827T192931Z
LAST-MODIFIED:20180827T192931Z
UID:3585-1535968800-1536400799@www.coonambletimes.com.au
SUMMARY:Rain Dance Pop Up Shop
DESCRIPTION:Ticket office selling Rain Dance tickets. \nCocktail and formal dresses\, suits\, accessories and shoes for our drought-affected community – free of charge.
URL:https://www.coonambletimes.com.au/event/rain-dance-pop-up-shop/
LOCATION:New South Wales
ATTACH;FMTTYPE=image/jpeg:https://www.coonambletimes.com.au/wp-content/uploads/2018/08/RAINDANCE-POPUP-SHOP-ver-2.jpg
END:VEVENT
BEGIN:VEVENT
DTSTART;VALUE=DATE:20180902
DTEND;VALUE=DATE:20180904
DTSTAMP:20260425T204512
CREATED:20180806T201751Z
LAST-MODIFIED:20180806T201751Z
UID:3204-1535882400-1535968799@www.coonambletimes.com.au
SUMMARY:Cancer Foundation Colour Run
DESCRIPTION:Coonamble is hosting its annual colour run to support the Cancer foundation. Come and be a part of a fun colour filled day! \nHats\,  Caps\, Cakes\, Plants and Shirts will be available on the day.
URL:https://www.coonambletimes.com.au/event/cancer-foundation-colour-run/
LOCATION:Coonamble Golf Club\, Caswell Street\, Coonamble\, New South Wales\, 2829\, Australia
END:VEVENT
BEGIN:VEVENT
DTSTART;VALUE=DATE:20180901
DTEND;VALUE=DATE:20180903
DTSTAMP:20260425T204512
CREATED:20180827T202024Z
LAST-MODIFIED:20180827T202024Z
UID:3591-1535796000-1535882399@www.coonambletimes.com.au
SUMMARY:Spring into Spring\, with Active Farmers
DESCRIPTION:Launch event: Free group fitness class and breakfast.
URL:https://www.coonambletimes.com.au/event/spring-into-spring-with-active-farmers/
LOCATION:New South Wales
ATTACH;FMTTYPE=image/png:https://www.coonambletimes.com.au/wp-content/uploads/2018/08/ActiveFarmers_SpringIntoSpring_290818.png
END:VEVENT
BEGIN:VEVENT
DTSTART;TZID=Australia/Sydney:20180830T210000
DTEND;TZID=Australia/Sydney:20180830T210000
DTSTAMP:20260425T204512
CREATED:20180806T201134Z
LAST-MODIFIED:20180806T201134Z
UID:3200-1535662800-1535662800@www.coonambletimes.com.au
SUMMARY:Aboriginal Community Working Party (ACWP)
DESCRIPTION:All interested community members are invited to nominate to become a voice for our community\, as a member of the ACWP. \nNominations can be made in person at the Coonamble Aboriginal Lands Council or Email expressions of interest to: Admin.clalc@bigpond.com
URL:https://www.coonambletimes.com.au/event/aboriginal-community-working-party-acwp/
LOCATION:Aboriginal Lands Council\, Castlereagh Street\, Coonamble\, New South Wales\, 2829\, Australia
ORGANIZER;CN="Coonamble Lands Council":MAILTO:admin.clalc@bigpond.com
END:VEVENT
BEGIN:VEVENT
DTSTART;TZID=Australia/Sydney:20180828T180000
DTEND;TZID=Australia/Sydney:20180829T030000
DTSTAMP:20260425T204512
CREATED:20180903T170004Z
LAST-MODIFIED:20180827T202626Z
UID:3594-1535479200-1535511600@www.coonambletimes.com.au
SUMMARY:NDIS Information Session
DESCRIPTION:
URL:https://www.coonambletimes.com.au/event/ndis-information-session/
LOCATION:New South Wales
ATTACH;FMTTYPE=image/png:https://www.coonambletimes.com.au/wp-content/uploads/2018/08/NDIS_CHS_220818.png
END:VEVENT
BEGIN:VEVENT
DTSTART;TZID=Australia/Sydney:20180817T220000
DTEND;TZID=Australia/Sydney:20180818T020000
DTSTAMP:20260425T204512
CREATED:20180806T200417Z
LAST-MODIFIED:20180806T200417Z
UID:3196-1534543200-1534557600@www.coonambletimes.com.au
SUMMARY:Livestock Decision Making Workshop
DESCRIPTION:What should you consider when making decisions about your livestock? This free workshop will help you understand feeding costs vs the market return. The workshop will focus on: \n\nPlanning a cash flow budget to readjust strategies based on selling or feeding livestock\nResource budget of feed and water for based on requirements for stock\nResetting key trigger points for livestock\n\n 
URL:https://www.coonambletimes.com.au/event/livestock-decision-making-workshop/
LOCATION:Coonamble Bowling Club\, Aberford Street\, Coonamble\, New South Wales\, 2829\, Australia
ORGANIZER;CN="Vicky Hogland":MAILTO:coonamblelandcare@gmail.com
END:VEVENT
BEGIN:VEVENT
DTSTART;TZID=Australia/Sydney:20180811T190000
DTEND;TZID=Australia/Sydney:20180811T220000
DTSTAMP:20260425T204512
CREATED:20180806T181700Z
LAST-MODIFIED:20180806T182048Z
UID:3181-1534014000-1534024800@www.coonambletimes.com.au
SUMMARY:Wild Flora Forage Workshop
DESCRIPTION:Join us in small country halls & dry river banks under the gums and treat yourself to 3 hours of Floral bliss and creative meditation in Dandaloo\, Marthaguy\, Combara & Curban . In this series of workshops you will learn the techniques to create your own Edible Table Garlands\, Harvest Wreaths and Bush Flower Crowns. Nadine will also add in a masterclass or two\, time permitting. Workshops include demonstration\, prepare / care & design tips\, all floral materials / sundries\, delicious home baked treats from Whisk Away Vintage Van and of course our signature goodie box. In appreciation of the sadly dry but resilient nature surrounding us participants are also encouraged to forage on their property & surrounds for unlikely treasures [such as fruits\, nuts\, foliages\, branches] to use in their designs or share with the group.
URL:https://www.coonambletimes.com.au/event/wild-flora-forage-workshop/
LOCATION:Combara Hall\, Coonamble Warren Rd\, Combara\, 2829
END:VEVENT
BEGIN:VEVENT
DTSTART;TZID=Australia/Sydney:20180811T041500
DTEND;TZID=Australia/Sydney:20180811T070000
DTSTAMP:20260425T204512
CREATED:20180805T213643Z
LAST-MODIFIED:20180806T130402Z
UID:3172-1533960900-1533970800@www.coonambletimes.com.au
SUMMARY:Disney's High School Musical on Stage
DESCRIPTION:Students of Coonamble District Schools Present Disney’s High School Musical On Stage.  \nPurchase your tickets now and secure your seat.
URL:https://www.coonambletimes.com.au/event/disneys-high-school-musical-on-stage/
LOCATION:Coonamble High School\, Aberford St\, Coonamble\, NSW\, 2829\, Australia
ATTACH;FMTTYPE=image/jpeg:https://www.coonambletimes.com.au/wp-content/uploads/2018/08/chs-musical-1.jpg
END:VEVENT
BEGIN:VEVENT
DTSTART;TZID=Australia/Sydney:20180810T000000
DTEND;TZID=Australia/Sydney:20180810T030000
DTSTAMP:20260425T204512
CREATED:20180806T194611Z
LAST-MODIFIED:20180806T194611Z
UID:3189-1533859200-1533870000@www.coonambletimes.com.au
SUMMARY:Hospital Auxiliary Meeting
DESCRIPTION:Looking for someway to help out within the community\, this is the group that helps our local hospital and they are always looking for new members.
URL:https://www.coonambletimes.com.au/event/hospital-auxiliary-meeting/
LOCATION:Coonamble Bowling Club\, Aberford Street\, Coonamble\, New South Wales\, 2829\, Australia
END:VEVENT
END:VCALENDAR