BEGIN:VCALENDAR
VERSION:2.0
PRODID:-//The Coonamble Times - ECPv6.13.2.1//NONSGML v1.0//EN
CALSCALE:GREGORIAN
METHOD:PUBLISH
X-ORIGINAL-URL:https://www.coonambletimes.com.au
X-WR-CALDESC:Events for The Coonamble Times
REFRESH-INTERVAL;VALUE=DURATION:PT1H
X-Robots-Tag:noindex
X-PUBLISHED-TTL:PT1H
BEGIN:VTIMEZONE
TZID:Australia/Sydney
BEGIN:STANDARD
TZOFFSETFROM:+1100
TZOFFSETTO:+1000
TZNAME:AEST
DTSTART:20240406T160000
END:STANDARD
BEGIN:DAYLIGHT
TZOFFSETFROM:+1000
TZOFFSETTO:+1100
TZNAME:AEDT
DTSTART:20241005T160000
END:DAYLIGHT
BEGIN:STANDARD
TZOFFSETFROM:+1100
TZOFFSETTO:+1000
TZNAME:AEST
DTSTART:20250405T160000
END:STANDARD
BEGIN:DAYLIGHT
TZOFFSETFROM:+1000
TZOFFSETTO:+1100
TZNAME:AEDT
DTSTART:20251004T160000
END:DAYLIGHT
END:VTIMEZONE
BEGIN:VEVENT
DTSTART;TZID=Australia/Sydney:20250316T120000
DTEND;TZID=Australia/Sydney:20250316T190000
DTSTAMP:20260424T175226
CREATED:20250219T042452Z
LAST-MODIFIED:20250219T042708Z
UID:64763-1742126400-1742151600@www.coonambletimes.com.au
SUMMARY:The Country Championships
DESCRIPTION:Are you ready to experience country racing at its finest? Make sure to head out West on Sunday 16 March for the Evergreen Turf Country Championships at Coonamble. Don’t miss the action\, atmosphere and a true taste of country racing.
URL:https://www.coonambletimes.com.au/event/the-country-championships-3/
LOCATION:Coonamble racecourse
ORGANIZER;CN="Coonamble Jockey Club":MAILTO:racing@coonamblejockeyclub.com.au
END:VEVENT
BEGIN:VEVENT
DTSTART;TZID=Australia/Sydney:20250311T011742
DTEND;TZID=Australia/Sydney:20250311T011742
DTSTAMP:20260424T175226
CREATED:20250227T030648Z
LAST-MODIFIED:20250311T011741Z
UID:65036-1741655862-1741655862@www.coonambletimes.com.au
SUMMARY:Drag Queen Bingo with Timberlina - Postponed until further notice
DESCRIPTION:Get ready for an evening of glitz\, glamour\, and giggles at Timberlina’s Drag Bingo Extravaganza! Timberlina’s over-the-top style and dazzling repertoire\, coupled with her naughty quick wit\, will keep you fabulously entertained for hours.\n\nSip on your favorite cocktail and get ready for three rounds of bingo like you’ve never experienced before. Timberlina’s cheeky commentary and sparkling presence will have you in stitches as you play. Whether you’re a seasoned bingo pro or a first timer\, everyone is welcome to join in the fun.\nTickets for Timberlina’s Drag Queen Bingo are just $30pp includes a drink on arrival\, three games and performances\, so be sure to leave your children at home.\n\nThere will be some fantastic prizes – remember those daubers or markers or lipstick!\n\n\n6:30pm Doors\n7:00pm Show\n\n\nThis is an 18+ event\n\nGrab you tickets at timberproductions.com.au
URL:https://www.coonambletimes.com.au/event/drag-queen-bingo-with-timerlina/
LOCATION:Coonamble Bowling Club\, Aberford Street\, Coonamble\, New South Wales\, 2829\, Australia
END:VEVENT
BEGIN:VEVENT
DTSTART;TZID=Australia/Sydney:20250307T160000
DTEND;TZID=Australia/Sydney:20250307T180000
DTSTAMP:20260424T175226
CREATED:20250227T032540Z
LAST-MODIFIED:20250227T032540Z
UID:65043-1741363200-1741370400@www.coonambletimes.com.au
SUMMARY:Come & Try Netball
DESCRIPTION:Ages 5-12 years welcomed. \nFree afternoon of fun for the kids. \nPlease bring a water bottle\, hat and sunscreen. \nWear joggers and comfortable clothing\, suitable for running.
URL:https://www.coonambletimes.com.au/event/come-try-netball/
LOCATION:Smith Park Netball Courts
END:VEVENT
BEGIN:VEVENT
DTSTART;TZID=Australia/Sydney:20250217T090000
DTEND;TZID=Australia/Sydney:20250315T120000
DTSTAMP:20260424T175226
CREATED:20250306T012136Z
LAST-MODIFIED:20250306T012136Z
UID:65282-1739782800-1742040000@www.coonambletimes.com.au
SUMMARY:Leonard's Store Summer Sale!
DESCRIPTION:Look local first at our Annual Summer Sale! \n**Cash/Card only** \nMen’s\, Ladies and kids summer seasonal wear all slashed to clear by up to 50% off. \nIncludes selected footwear\, fashions\, kidswear and gifts. \nCALL IN FOR A BARGAIN WHILE LIMITED STOCK LASTS!
URL:https://www.coonambletimes.com.au/event/leonards-store-summer-sale-2/
LOCATION:Leonards Store
END:VEVENT
BEGIN:VEVENT
DTSTART;TZID=Australia/Sydney:20250126T080000
DTEND;TZID=Australia/Sydney:20250126T113000
DTSTAMP:20260424T175226
CREATED:20241220T060209Z
LAST-MODIFIED:20241220T060209Z
UID:63476-1737878400-1737891000@www.coonambletimes.com.au
SUMMARY:Gulargambone's Australia Day Awards Gathering
DESCRIPTION:The Gulargambone Australia Day Committee invites all Australia Day Award nominees\, their families\, local Elders of the Wayilwan Nation and members of the community to Gulargambone’s Australia Day Awards Gathering. \nThe morning begins with a free breakfast from 8am to 9am at the Lions Park. This will be followed by an address by the Gulargambone’s Australia Day Ambassador and presentation of the Australia Day Awards. \nThe event is sponsored by Coonamble Shire Council\, the National Australia Day Council and local businesses and organisation. \nThe organising committee and Coonamble Shire Council advises that photographs will be taken on the day and will be published in publicly available media during and after the event; attendees acknowledge this.
URL:https://www.coonambletimes.com.au/event/gulargambones-australia-day-awards-gathering/
LOCATION:Gulargambone Lions Park\, Bourbah Street\, Gulargambone
END:VEVENT
BEGIN:VEVENT
DTSTART;TZID=Australia/Sydney:20250126T080000
DTEND;TZID=Australia/Sydney:20250126T113000
DTSTAMP:20260424T175226
CREATED:20241220T060020Z
LAST-MODIFIED:20241220T060020Z
UID:63473-1737878400-1737891000@www.coonambletimes.com.au
SUMMARY:Coonamble's Australia Day Awards Gathering
DESCRIPTION:Coonamble Shire Council invites all Australia Day Award nominees\, their families\, local Elders of the Wayilwan and Gamilaraay Nations and members of the community to Coonamble’s Australia Day Awards Gathering. \nThe morning begins with a free breakfast from 8am to 9am at the Coonamble Showground Pavilion\, prepared by the Rotary Club of Coonamble. This will be followed by a Citizenship Ceremony about 9am\, then presentation of the Australia Day Awards. CWA Coonamble provides a free morning tea after the Awards. \nPeople interested in nominating an outstanding community member or organisation for an award should do so before 8 January 2025. Search for ‘Australia Day Awards Nomination Form’ on Council’s website. \nThe event is sponsored by Coonamble Shire Council and the National Australia Day Council. \nCouncil advises that photographs will be taken on the day and will be published in publicly available media during and after the event; attendees acknowledge this.
URL:https://www.coonambletimes.com.au/event/coonambles-australia-day-awards-gathering/
LOCATION:New South Wales
END:VEVENT
BEGIN:VEVENT
DTSTART;TZID=Australia/Sydney:20250124T140000
DTEND;TZID=Australia/Sydney:20250124T183000
DTSTAMP:20260424T175226
CREATED:20241220T055852Z
LAST-MODIFIED:20241220T055852Z
UID:63469-1737727200-1737743400@www.coonambletimes.com.au
SUMMARY:Gulargambone's Reflect\, Respect\, Celebrate Pool Party (free entry)
DESCRIPTION:Coonamble Shire Council invites local children\, youth and their families to attend a free Reflect\, Respect\, Celebrate Pool Party at Gulargambone Pool on Friday afternoon\, 24 January 2025\, from 2pm. Some social activities are planned\, along with a free barbecue. All attendees should follow the pool guidelines available on Council’s website. \nCouncil advises that photographs will be taken on the day and will be published in publicly available media during and after the event; attendees acknowledge this.
URL:https://www.coonambletimes.com.au/event/gulargambones-reflect-respect-celebrate-pool-party-free-entry/
LOCATION:Gulargambone Pool
END:VEVENT
BEGIN:VEVENT
DTSTART;TZID=Australia/Sydney:20250124T140000
DTEND;TZID=Australia/Sydney:20250124T183000
DTSTAMP:20260424T175226
CREATED:20241220T055531Z
LAST-MODIFIED:20241220T055531Z
UID:63465-1737727200-1737743400@www.coonambletimes.com.au
SUMMARY:Coonamble's Reflect\, Respect\, Celebrate Pool Party (free entry)
DESCRIPTION:Coonamble Shire Council invites local children\, youth and their families to attend a free Reflect\, Respect\, Celebrate Pool Party at Coonamble Pool on Friday afternoon\, 24 January 2025\, from 2pm. Some social activities are planned\, along with a free barbecue. All attendees should follow the pool guidelines available on Council’s website. \nCouncil advises that photographs will be taken on the day and will be published in publicly available media during and after the event; attendees acknowledge this.
URL:https://www.coonambletimes.com.au/event/coonambles-reflect-respect-celebrate-pool-party-free-entry/
LOCATION:Coonamble Pool
END:VEVENT
BEGIN:VEVENT
DTSTART;TZID=Australia/Sydney:20241112T180000
DTEND;TZID=Australia/Sydney:20241112T180000
DTSTAMP:20260424T175226
CREATED:20241010T054053Z
LAST-MODIFIED:20241010T054053Z
UID:61020-1731434400-1731434400@www.coonambletimes.com.au
SUMMARY:Koonambil Aged Care Limited Annual General Meeting
DESCRIPTION:
URL:https://www.coonambletimes.com.au/event/koonambil-aged-care-limited-annual-general-meeting/
LOCATION:Koonambil meeting Room\, Coonamble\, NSW\, 2829\, Australia
END:VEVENT
BEGIN:VEVENT
DTSTART;VALUE=DATE:20241101
DTEND;VALUE=DATE:20241102
DTSTAMP:20260424T175226
CREATED:20241010T052422Z
LAST-MODIFIED:20241010T052422Z
UID:60995-1730419200-1730505599@www.coonambletimes.com.au
SUMMARY:2023/24 Business Awards
DESCRIPTION:
URL:https://www.coonambletimes.com.au/event/2023-24-business-awards/
LOCATION:Coonamble Bowling Club\, Aberford Street\, Coonamble\, New South Wales\, 2829\, Australia
ATTACH;FMTTYPE=application/pdf:https://www.coonambletimes.com.au/wp-content/uploads/2024/10/CCOC-2024-Business-Awards_Tickets-101024.pdf
END:VEVENT
BEGIN:VEVENT
DTSTART;TZID=Australia/Sydney:20241028T073000
DTEND;TZID=Australia/Sydney:20241028T073000
DTSTAMP:20260424T175226
CREATED:20241010T053001Z
LAST-MODIFIED:20241010T053257Z
UID:61006-1730100600-1730100600@www.coonambletimes.com.au
SUMMARY:Free Breakfast- Work Related Stress
DESCRIPTION:
URL:https://www.coonambletimes.com.au/event/free-breakfast-work-related-stress/
LOCATION:Coonamble Two Birds
ATTACH;FMTTYPE=application/pdf:https://www.coonambletimes.com.au/wp-content/uploads/2024/10/CCOC_Free-Brekkie_101024-3.pdf
END:VEVENT
BEGIN:VEVENT
DTSTART;VALUE=DATE:20241028
DTEND;VALUE=DATE:20241029
DTSTAMP:20260424T175226
CREATED:20241010T052824Z
LAST-MODIFIED:20241010T052824Z
UID:61001-1730073600-1730159999@www.coonambletimes.com.au
SUMMARY:3G Shutdown
DESCRIPTION:
URL:https://www.coonambletimes.com.au/event/3g-shutdown/
LOCATION:Everywhere
END:VEVENT
BEGIN:VEVENT
DTSTART;TZID=Australia/Sydney:20241027T100000
DTEND;TZID=Australia/Sydney:20241027T100000
DTSTAMP:20260424T175226
CREATED:20241010T053630Z
LAST-MODIFIED:20241010T053630Z
UID:61012-1730023200-1730023200@www.coonambletimes.com.au
SUMMARY:Coonamble Bowling Club Annual General Meeting
DESCRIPTION:
URL:https://www.coonambletimes.com.au/event/coonamble-bowling-club-annual-general-meeting-2/
LOCATION:Coonamble Bowling Club\, Aberford Street\, Coonamble\, New South Wales\, 2829\, Australia
END:VEVENT
BEGIN:VEVENT
DTSTART;TZID=Australia/Sydney:20241022T183000
DTEND;TZID=Australia/Sydney:20241022T183000
DTSTAMP:20260424T175226
CREATED:20241010T053825Z
LAST-MODIFIED:20241010T053825Z
UID:61016-1729621800-1729621800@www.coonambletimes.com.au
SUMMARY:Coonamble R.L.F.C Inc. Annual General Meeting
DESCRIPTION:
URL:https://www.coonambletimes.com.au/event/coonamble-r-l-f-c-inc-annual-general-meeting/
LOCATION:Coonamble Bowling Club\, Aberford Street\, Coonamble\, New South Wales\, 2829\, Australia
END:VEVENT
BEGIN:VEVENT
DTSTART;VALUE=DATE:20241019
DTEND;VALUE=DATE:20241020
DTSTAMP:20260424T175226
CREATED:20241002T042058Z
LAST-MODIFIED:20241002T042058Z
UID:60698-1729296000-1729382399@www.coonambletimes.com.au
SUMMARY:Mayfield Clearing Sale
DESCRIPTION:
URL:https://www.coonambletimes.com.au/event/mayfield-clearing-sale/
LOCATION:“Mayfield” Gulargambone\, 49 Quambone Road\, Gulargambone
ATTACH;FMTTYPE=application/pdf:https://www.coonambletimes.com.au/wp-content/uploads/2024/10/Mayfield-Clearing-Sale-2024-3.pdf
END:VEVENT
BEGIN:VEVENT
DTSTART;TZID=Australia/Sydney:20241015T180000
DTEND;TZID=Australia/Sydney:20241015T180000
DTSTAMP:20260424T175226
CREATED:20241010T054437Z
LAST-MODIFIED:20241010T054529Z
UID:61024-1729015200-1729015200@www.coonambletimes.com.au
SUMMARY:Drag Queen Paint & Sip
DESCRIPTION:
URL:https://www.coonambletimes.com.au/event/drag-queen-paint-sip/
LOCATION:Coonamble Bowling Club\, Aberford Street\, Coonamble\, New South Wales\, 2829\, Australia
END:VEVENT
BEGIN:VEVENT
DTSTART;TZID=Australia/Sydney:20241013T120000
DTEND;TZID=Australia/Sydney:20241013T170000
DTSTAMP:20260424T175226
CREATED:20240918T014254Z
LAST-MODIFIED:20240918T020122Z
UID:60201-1728820800-1728838800@www.coonambletimes.com.au
SUMMARY:Coonamble Gold Cup
DESCRIPTION:
URL:https://www.coonambletimes.com.au/event/coonamble-gold-cup-2/
LOCATION:Coonamble racecourse
ATTACH;FMTTYPE=application/pdf:https://www.coonambletimes.com.au/wp-content/uploads/2024/09/180924-CT-back-page-ad.pdf
END:VEVENT
BEGIN:VEVENT
DTSTART;TZID=Australia/Sydney:20241012T193000
DTEND;TZID=Australia/Sydney:20241012T193000
DTSTAMP:20260424T175226
CREATED:20240918T011137Z
LAST-MODIFIED:20240918T011137Z
UID:60173-1728761400-1728761400@www.coonambletimes.com.au
SUMMARY:Coonamble Gold Cup Calcutta
DESCRIPTION:
URL:https://www.coonambletimes.com.au/event/coonamble-gold-cup-calcutta/
LOCATION:Terminus Hotel Coonamble\, 25/27 Railway St\, Coonamble\, NSW\, 2829\, Australia
END:VEVENT
BEGIN:VEVENT
DTSTART;VALUE=DATE:20241012
DTEND;VALUE=DATE:20241013
DTSTAMP:20260424T175226
CREATED:20241002T030349Z
LAST-MODIFIED:20241002T030349Z
UID:60685-1728691200-1728777599@www.coonambletimes.com.au
SUMMARY:Coonamble Carp Buster
DESCRIPTION:
URL:https://www.coonambletimes.com.au/event/coonamble-carp-buster/
LOCATION:New South Wales
ATTACH;FMTTYPE=application/pdf:https://www.coonambletimes.com.au/wp-content/uploads/2024/10/Carp-Buster_021024.pdf
END:VEVENT
BEGIN:VEVENT
DTSTART;VALUE=DATE:20241011
DTEND;VALUE=DATE:20241012
DTSTAMP:20260424T175226
CREATED:20241002T041823Z
LAST-MODIFIED:20241002T041823Z
UID:60694-1728604800-1728691199@www.coonambletimes.com.au
SUMMARY:Coonamble Bears Presentation
DESCRIPTION:
URL:https://www.coonambletimes.com.au/event/coonamble-bears-presentation-2/
LOCATION:Coonamble Bowling Club\, Aberford Street\, Coonamble\, New South Wales\, 2829\, Australia
ATTACH;FMTTYPE=application/pdf:https://www.coonambletimes.com.au/wp-content/uploads/2024/10/Bears-Presentation-Night_2024.pdf
END:VEVENT
BEGIN:VEVENT
DTSTART;TZID=Australia/Sydney:20241006T193000
DTEND;TZID=Australia/Sydney:20241006T193000
DTSTAMP:20260424T175226
CREATED:20241002T030654Z
LAST-MODIFIED:20241002T030654Z
UID:60691-1728243000-1728243000@www.coonambletimes.com.au
SUMMARY:NRL Grandfinal
DESCRIPTION:
URL:https://www.coonambletimes.com.au/event/nrl-grandfinal/
LOCATION:Coonamble Golf Club\, Caswell Street\, Coonamble\, New South Wales\, 2829\, Australia
END:VEVENT
BEGIN:VEVENT
DTSTART;VALUE=DATE:20241006
DTEND;VALUE=DATE:20241007
DTSTAMP:20260424T175226
CREATED:20240918T011008Z
LAST-MODIFIED:20240918T015841Z
UID:60167-1728172800-1728259199@www.coonambletimes.com.au
SUMMARY:Harvest Long Lunch
DESCRIPTION:
URL:https://www.coonambletimes.com.au/event/harvest-long-lunch/
LOCATION:Pilliga Road\, Coonamble
ATTACH;FMTTYPE=image/png:https://www.coonambletimes.com.au/wp-content/uploads/2024/09/Ad-for-paper19.4-x-9.2-cm.png
END:VEVENT
BEGIN:VEVENT
DTSTART;TZID=Australia/Sydney:20241005T180000
DTEND;TZID=Australia/Sydney:20241005T180000
DTSTAMP:20260424T175226
CREATED:20240911T065615Z
LAST-MODIFIED:20241002T030526Z
UID:60032-1728151200-1728151200@www.coonambletimes.com.au
SUMMARY:Vision Splendid Coonamble
DESCRIPTION:
URL:https://www.coonambletimes.com.au/event/vision-splendid-coonamble/
LOCATION:New South Wales
ATTACH;FMTTYPE=image/png:https://www.coonambletimes.com.au/wp-content/uploads/2024/09/Vision-Splendid-CT-Front-page-banner-19.4-x-9.2-cm.png
END:VEVENT
BEGIN:VEVENT
DTSTART;TZID=Australia/Sydney:20241004T190000
DTEND;TZID=Australia/Sydney:20241004T190000
DTSTAMP:20260424T175226
CREATED:20240911T070014Z
LAST-MODIFIED:20240911T070014Z
UID:60036-1728068400-1728068400@www.coonambletimes.com.au
SUMMARY:Tinderella & the eight unique ways to use Tinder
DESCRIPTION:
URL:https://www.coonambletimes.com.au/event/tinderella-the-eight-unique-ways-to-use-tinder/
LOCATION:Coonamble Plaza Theatre
ATTACH;FMTTYPE=application/pdf:https://www.coonambletimes.com.au/wp-content/uploads/2024/09/Tinderella_110924.pdf
END:VEVENT
BEGIN:VEVENT
DTSTART;VALUE=DATE:20241004
DTEND;VALUE=DATE:20241008
DTSTAMP:20260424T175226
CREATED:20241002T030219Z
LAST-MODIFIED:20241002T030219Z
UID:60681-1728000000-1728345599@www.coonambletimes.com.au
SUMMARY:Coonamble Greyhound Racing Carnival
DESCRIPTION:
URL:https://www.coonambletimes.com.au/event/coonamble-greyhound-racing-carnival-2/
LOCATION:Coonamble Greyhound Race Track\, 160 Castlereagh Hwy\, Coonamble\, NSW\, 2829\, Australia
ATTACH;FMTTYPE=application/pdf:https://www.coonambletimes.com.au/wp-content/uploads/2024/10/Cble-Greyhound-Carnival_021024-1.pdf
END:VEVENT
BEGIN:VEVENT
DTSTART;TZID=Australia/Sydney:20241001T180000
DTEND;TZID=Australia/Sydney:20241001T180000
DTSTAMP:20260424T175226
CREATED:20240904T061248Z
LAST-MODIFIED:20240904T061248Z
UID:59833-1727805600-1727805600@www.coonambletimes.com.au
SUMMARY:MTMFM Coonamble Community Radio Station Annual General Meeting
DESCRIPTION:
URL:https://www.coonambletimes.com.au/event/mtmfm-coonamble-community-radio-station-annual-general-meeting/
LOCATION:Coonamble Bowling Club\, Aberford Street\, Coonamble\, New South Wales\, 2829\, Australia
END:VEVENT
BEGIN:VEVENT
DTSTART;TZID=Australia/Sydney:20240928T140000
DTEND;TZID=Australia/Sydney:20240928T214500
DTSTAMP:20260424T175226
CREATED:20240918T013335Z
LAST-MODIFIED:20240918T013335Z
UID:60183-1727532000-1727559900@www.coonambletimes.com.au
SUMMARY:Under the Gums
DESCRIPTION:
URL:https://www.coonambletimes.com.au/event/under-the-gums/
LOCATION:Gilgandra
ATTACH;FMTTYPE=application/pdf:https://www.coonambletimes.com.au/wp-content/uploads/2024/09/Under-the-Gums_180924-1.pdf
END:VEVENT
BEGIN:VEVENT
DTSTART;TZID=Australia/Sydney:20240928T110000
DTEND;TZID=Australia/Sydney:20240928T170000
DTSTAMP:20260424T175226
CREATED:20240918T013624Z
LAST-MODIFIED:20240918T013624Z
UID:60194-1727521200-1727542800@www.coonambletimes.com.au
SUMMARY:Come By Chance Picnic Races
DESCRIPTION:
URL:https://www.coonambletimes.com.au/event/come-by-chance-picnic-races-2/
LOCATION:Come By Chance Racecourse
ATTACH;FMTTYPE=application/pdf:https://www.coonambletimes.com.au/wp-content/uploads/2024/09/Come-By-Chance-Races_18.09.24.pdf
END:VEVENT
BEGIN:VEVENT
DTSTART;TZID=Australia/Sydney:20240927T100000
DTEND;TZID=Australia/Sydney:20240927T100000
DTSTAMP:20260424T175226
CREATED:20240918T014754Z
LAST-MODIFIED:20240918T014754Z
UID:60209-1727431200-1727431200@www.coonambletimes.com.au
SUMMARY:Coonamble Bowling Club Annual General Meeting
DESCRIPTION:
URL:https://www.coonambletimes.com.au/event/coonamble-bowling-club-annual-general-meeting/
LOCATION:New South Wales
END:VEVENT
BEGIN:VEVENT
DTSTART;TZID=Australia/Sydney:20240927T080000
DTEND;TZID=Australia/Sydney:20240927T170000
DTSTAMP:20260424T175226
CREATED:20240821T043232Z
LAST-MODIFIED:20240821T043251Z
UID:59358-1727424000-1727456400@www.coonambletimes.com.au
SUMMARY:Block Auction
DESCRIPTION:
URL:https://www.coonambletimes.com.au/event/block-auction/
LOCATION:Gulargambone Bowling Club\, 41 Armitree St\, Gulargambone\, NSW\, 2828\, Australia
ATTACH;FMTTYPE=application/pdf:https://www.coonambletimes.com.au/wp-content/uploads/2024/08/HB-Auctions_210824.pdf
END:VEVENT
END:VCALENDAR