BEGIN:VCALENDAR
VERSION:2.0
PRODID:-//The Coonamble Times - ECPv6.13.2.1//NONSGML v1.0//EN
CALSCALE:GREGORIAN
METHOD:PUBLISH
X-ORIGINAL-URL:https://www.coonambletimes.com.au
X-WR-CALDESC:Events for The Coonamble Times
REFRESH-INTERVAL;VALUE=DURATION:PT1H
X-Robots-Tag:noindex
X-PUBLISHED-TTL:PT1H
BEGIN:VTIMEZONE
TZID:Australia/Sydney
BEGIN:STANDARD
TZOFFSETFROM:+1100
TZOFFSETTO:+1000
TZNAME:AEST
DTSTART:20190406T160000
END:STANDARD
BEGIN:DAYLIGHT
TZOFFSETFROM:+1000
TZOFFSETTO:+1100
TZNAME:AEDT
DTSTART:20191005T160000
END:DAYLIGHT
END:VTIMEZONE
BEGIN:VEVENT
DTSTART;TZID=Australia/Sydney:20190907T200000
DTEND;TZID=Australia/Sydney:20190907T200000
DTSTAMP:20260425T215524
CREATED:20190819T190448Z
LAST-MODIFIED:20190829T143201Z
UID:5732-1567886400-1567886400@www.coonambletimes.com.au
SUMMARY:Bowls Day
DESCRIPTION:Get your teams together for the upcoming bowls day\, its sure to be an event for everyone!
URL:https://www.coonambletimes.com.au/event/bowls-day/
LOCATION:Coonamble Bowling Club\, Aberford Street\, Coonamble\, New South Wales\, 2829\, Australia
ATTACH;FMTTYPE=image/jpeg:https://www.coonambletimes.com.au/wp-content/uploads/2019/08/Bowls-Day_210819.jpg
END:VEVENT
BEGIN:VEVENT
DTSTART;TZID=Australia/Sydney:20190910T155353
DTEND;TZID=Australia/Sydney:20191031T110000
DTSTAMP:20260425T215524
CREATED:20190909T195353Z
LAST-MODIFIED:20190909T195353Z
UID:5948-1568130833-1572519600@www.coonambletimes.com.au
SUMMARY:Coonamble & District Education Foundation Scholarships
DESCRIPTION:Applications for the Coonamble & District Education Foundation scholarships are now open!
URL:https://www.coonambletimes.com.au/event/coonamble-district-education-foundation-scholarships/
LOCATION:New South Wales
ATTACH;FMTTYPE=image/jpeg:https://www.coonambletimes.com.au/wp-content/uploads/2019/09/Education-Fondation-Scholarships.jpg
END:VEVENT
BEGIN:VEVENT
DTSTART;TZID=Australia/Sydney:20190910T190000
DTEND;TZID=Australia/Sydney:20190910T220000
DTSTAMP:20260425T215524
CREATED:20190902T192445Z
LAST-MODIFIED:20190902T192517Z
UID:5932-1568142000-1568152800@www.coonambletimes.com.au
SUMMARY:Difficult decisions in tough times
DESCRIPTION:FREE Workshops for people of all ages and backgrounds with Petrea King  \nRSVP for catering to Amanda Glasson: 0438 082 731 or Louise Keady: 0408 225 487
URL:https://www.coonambletimes.com.au/event/difficult-decisions-in-tough-times-2/
LOCATION:Coonamble Bowling Club\, Aberford Street\, Coonamble\, New South Wales\, 2829\, Australia
ATTACH;FMTTYPE=image/jpeg:https://www.coonambletimes.com.au/wp-content/uploads/2019/08/Your-life-Matters.jpg
END:VEVENT
BEGIN:VEVENT
DTSTART;TZID=Australia/Sydney:20190910T230000
DTEND;TZID=Australia/Sydney:20190911T013000
DTSTAMP:20260425T215524
CREATED:20190902T192132Z
LAST-MODIFIED:20190902T192333Z
UID:5928-1568156400-1568165400@www.coonambletimes.com.au
SUMMARY:Difficult Decisions in Tough Times
DESCRIPTION:FREE Workshops for people of all ages and backgrounds with Petrea King  \nRSVP for catering to Amanda Glasson: 0438 082 731 or Louise Keady: 0408 225 487 \n          
URL:https://www.coonambletimes.com.au/event/difficult-decisions-in-tough-times/
LOCATION:Coonamble Bowling Club\, Aberford Street\, Coonamble\, New South Wales\, 2829\, Australia
ATTACH;FMTTYPE=image/jpeg:https://www.coonambletimes.com.au/wp-content/uploads/2019/08/Your-life-Matters.jpg
END:VEVENT
BEGIN:VEVENT
DTSTART;TZID=Australia/Sydney:20190911T040000
DTEND;TZID=Australia/Sydney:20190911T060000
DTSTAMP:20260425T215524
CREATED:20190902T192653Z
LAST-MODIFIED:20190902T192653Z
UID:5934-1568174400-1568181600@www.coonambletimes.com.au
SUMMARY:Your Life Matters
DESCRIPTION:FREE Workshops for people of all ages and backgrounds with Petrea King  \nRSVP for catering to Amanda Glasson: 0438 082 731 or Louise Keady: 0408 225 487
URL:https://www.coonambletimes.com.au/event/your-life-matters-2/
LOCATION:Coonamble Bowling Club\, Aberford Street\, Coonamble\, New South Wales\, 2829\, Australia
ATTACH;FMTTYPE=image/jpeg:https://www.coonambletimes.com.au/wp-content/uploads/2019/08/Your-life-Matters.jpg
END:VEVENT
BEGIN:VEVENT
DTSTART;TZID=Australia/Sydney:20190913T193000
DTEND;TZID=Australia/Sydney:20190914T013000
DTSTAMP:20260425T215524
CREATED:20190902T192822Z
LAST-MODIFIED:20190902T192822Z
UID:5936-1568403000-1568424600@www.coonambletimes.com.au
SUMMARY:Reclaim Your Brain
DESCRIPTION:FREE Workshops for people of all ages and backgrounds with Petrea King  \nRSVP for catering to Amanda Glasson: 0438 082 731 or Louise Keady: 0408 225 487
URL:https://www.coonambletimes.com.au/event/reclaim-your-brain/
LOCATION:Coonamble Bowling Club\, Aberford Street\, Coonamble\, New South Wales\, 2829\, Australia
ATTACH;FMTTYPE=image/jpeg:https://www.coonambletimes.com.au/wp-content/uploads/2019/08/Your-life-Matters.jpg
END:VEVENT
BEGIN:VEVENT
DTSTART;TZID=Australia/Sydney:20190914T050000
DTEND;TZID=Australia/Sydney:20190914T050000
DTSTAMP:20260425T215524
CREATED:20190909T200522Z
LAST-MODIFIED:20190909T200522Z
UID:5961-1568437200-1568437200@www.coonambletimes.com.au
SUMMARY:Marthaguy Picnic Race club AGM
DESCRIPTION:Upcoming Annual General Meeting 
URL:https://www.coonambletimes.com.au/event/marthaguy-picnic-race-club-agm/
LOCATION:Quambone Fire shed\, Tucka Tucka Street
ATTACH;FMTTYPE=image/jpeg:https://www.coonambletimes.com.au/wp-content/uploads/2019/09/AGM_Marthaguy-Races.jpg
END:VEVENT
BEGIN:VEVENT
DTSTART;TZID=Australia/Sydney:20190915T040000
DTEND;TZID=Australia/Sydney:20190915T040000
DTSTAMP:20260425T215524
CREATED:20190902T182005Z
LAST-MODIFIED:20190902T193443Z
UID:5804-1568520000-1568520000@www.coonambletimes.com.au
SUMMARY:School of Rock Trivia night
DESCRIPTION:Think you know music?  put your skills to the test with some music trivia hosted by the CEF. 
URL:https://www.coonambletimes.com.au/event/school-of-rock-trivia-night/
LOCATION:Coonamble Golf club
ATTACH;FMTTYPE=image/jpeg:https://www.coonambletimes.com.au/wp-content/uploads/2019/09/TRIVA-NIGHT.jpg
END:VEVENT
BEGIN:VEVENT
DTSTART;TZID=Australia/Sydney:20190916T100000
DTEND;TZID=Australia/Sydney:20190920T100000
DTSTAMP:20260425T215524
CREATED:20190909T194955Z
LAST-MODIFIED:20190909T194955Z
UID:5945-1568628000-1568973600@www.coonambletimes.com.au
SUMMARY:Coonamble Pre school enrolments
DESCRIPTION:Is your child ready for Pre school?\nEnrolment week is coming up so be sure to head into the office and grab an enrolment pack.
URL:https://www.coonambletimes.com.au/event/coonamble-pre-school-enrolments/
LOCATION:Coonamble Pre School\, Coonamble\, NSW\, 2829\, Australia
ATTACH;FMTTYPE=image/jpeg:https://www.coonambletimes.com.au/wp-content/uploads/2019/09/Coonamble-Preschool-Enrolments.jpg
END:VEVENT
BEGIN:VEVENT
DTSTART;TZID=Australia/Sydney:20190919T170000
DTEND;TZID=Australia/Sydney:20190919T170000
DTSTAMP:20260425T215524
CREATED:20190819T191208Z
LAST-MODIFIED:20190819T191208Z
UID:5737-1568912400-1568912400@www.coonambletimes.com.au
SUMMARY:CWS Lightning Ridge trip
DESCRIPTION:Community trip to explore Lightning Ridge\, check out the flyer for more information!!
URL:https://www.coonambletimes.com.au/event/cws-lightning-ridge-trip/
LOCATION:Coonamble Womens Shed
ATTACH;FMTTYPE=image/jpeg:https://www.coonambletimes.com.au/wp-content/uploads/2019/08/CWS-LIGHTNING-RIDGE-TRIP-COONAMBLE-TIMES-AD-FINAL-2.jpg
END:VEVENT
BEGIN:VEVENT
DTSTART;TZID=Australia/Sydney:20190919T193000
DTEND;TZID=Australia/Sydney:20190920T010000
DTSTAMP:20260425T215524
CREATED:20190909T195609Z
LAST-MODIFIED:20190909T195609Z
UID:5951-1568921400-1568941200@www.coonambletimes.com.au
SUMMARY:Ladies Wellbeing day
DESCRIPTION:Free community event for Ladies Wellbeing day\, all welcome!
URL:https://www.coonambletimes.com.au/event/ladies-wellbeing-day/
LOCATION:New South Wales
ATTACH;FMTTYPE=image/jpeg:https://www.coonambletimes.com.au/wp-content/uploads/2019/09/Ladies-Welllbeing-Day.jpg
END:VEVENT
BEGIN:VEVENT
DTSTART;TZID=Australia/Sydney:20190922T043000
DTEND;TZID=Australia/Sydney:20190922T043000
DTSTAMP:20260425T215524
CREATED:20190916T200048Z
LAST-MODIFIED:20190916T200048Z
UID:6023-1569126600-1569126600@www.coonambletimes.com.au
SUMMARY:Rams Presentation night
DESCRIPTION:Get your tickets now so you don’t miss out on the Coonamble Rams Rugby presentation night this Saturday!
URL:https://www.coonambletimes.com.au/event/rams-presentation-night/
LOCATION:Coonamble Golf Club\, Caswell Street\, Coonamble\, New South Wales\, 2829\, Australia
ATTACH;FMTTYPE=image/jpeg:https://www.coonambletimes.com.au/wp-content/uploads/2019/09/Rams-Presentation.jpg
END:VEVENT
BEGIN:VEVENT
DTSTART;VALUE=DATE:20190924
DTEND;VALUE=DATE:20191023
DTSTAMP:20260425T215524
CREATED:20190923T192633Z
LAST-MODIFIED:20190923T192633Z
UID:6058-1569319200-1571741999@www.coonambletimes.com.au
SUMMARY:Art4Ag Exhibition
DESCRIPTION:Art4Ag entries are now open! More information in the ad below!
URL:https://www.coonambletimes.com.au/event/art4ag-exhibition/
LOCATION:Outback Arts
ATTACH;FMTTYPE=image/jpeg:https://www.coonambletimes.com.au/wp-content/uploads/2019/09/Art4Ag.jpg
END:VEVENT
BEGIN:VEVENT
DTSTART;TZID=Australia/Sydney:20190928T060000
DTEND;TZID=Australia/Sydney:20190928T060000
DTSTAMP:20260425T215524
CREATED:20190916T195851Z
LAST-MODIFIED:20190916T195851Z
UID:6019-1569650400-1569650400@www.coonambletimes.com.au
SUMMARY:Gular Pigeon races
DESCRIPTION:Come and join the fun at the Great Gulargambone Pigeon races!
URL:https://www.coonambletimes.com.au/event/gular-pigeon-races/
LOCATION:Gulargambone Bowling Club\, 41 Armitree St\, Gulargambone\, NSW\, 2828\, Australia
ATTACH;FMTTYPE=image/jpeg:https://www.coonambletimes.com.au/wp-content/uploads/2019/09/Gular-Pigeon-races.jpg
END:VEVENT
BEGIN:VEVENT
DTSTART;TZID=Australia/Sydney:20190929T013000
DTEND;TZID=Australia/Sydney:20190929T013000
DTSTAMP:20260425T215524
CREATED:20190916T195217Z
LAST-MODIFIED:20190916T195217Z
UID:6013-1569720600-1569720600@www.coonambletimes.com.au
SUMMARY:MND Firefighter Climb
DESCRIPTION:Get your teams ready to come and help our local firefighters raise money and awareness for Motor Neurone Disease with a day full of fun events
URL:https://www.coonambletimes.com.au/event/mnd-firefighter-climb/
LOCATION:Terminus Hotel Coonamble\, 25/27 Railway St\, Coonamble\, NSW\, 2829\, Australia
ATTACH;FMTTYPE=image/jpeg:https://www.coonambletimes.com.au/wp-content/uploads/2019/09/MND-Firefighter-Climb.jpg
END:VEVENT
BEGIN:VEVENT
DTSTART;TZID=Australia/Sydney:20190929T220000
DTEND;TZID=Australia/Sydney:20190929T220000
DTSTAMP:20260425T215524
CREATED:20190916T200428Z
LAST-MODIFIED:20190916T200428Z
UID:6026-1569794400-1569794400@www.coonambletimes.com.au
SUMMARY:Quota Club Garden Party
DESCRIPTION:Get behind the Quota girls to help support the Golf Club\, get your tickets now to have a day full of fun at the Garden Party!
URL:https://www.coonambletimes.com.au/event/quota-club-garden-party/
LOCATION:Coonamble Golf Club\, Caswell Street\, Coonamble\, New South Wales\, 2829\, Australia
ATTACH;FMTTYPE=image/jpeg:https://www.coonambletimes.com.au/wp-content/uploads/2019/09/Quota-Garden-Party.jpg
END:VEVENT
BEGIN:VEVENT
DTSTART;VALUE=DATE:20191001
DTEND;VALUE=DATE:20191216
DTSTAMP:20260425T215524
CREATED:20190923T192356Z
LAST-MODIFIED:20190923T192356Z
UID:6055-1569924000-1576407599@www.coonambletimes.com.au
SUMMARY:Buy Local Campaign
DESCRIPTION:Start collecting your receipts for the buy local campaign to go in the draw to win up to $13\,000! Ask your businesses if they are a apart of the promotion.
URL:https://www.coonambletimes.com.au/event/buy-local-campaign/
LOCATION:New South Wales
ATTACH;FMTTYPE=image/jpeg:https://www.coonambletimes.com.au/wp-content/uploads/2019/09/Buy-Local-Chamber.jpg
END:VEVENT
BEGIN:VEVENT
DTSTART;TZID=Australia/Sydney:20191002T030000
DTEND;TZID=Australia/Sydney:20191002T030000
DTSTAMP:20260425T215524
CREATED:20190909T200144Z
LAST-MODIFIED:20190909T200144Z
UID:5959-1569985200-1569985200@www.coonambletimes.com.au
SUMMARY:Coonamble Local Aboriginal Land council AGM
DESCRIPTION:Upcoming Annual General Meeting 
URL:https://www.coonambletimes.com.au/event/coonamble-local-aboriginal-land-council-agm/
LOCATION:16 Castlereagh Street
ATTACH;FMTTYPE=image/jpeg:https://www.coonambletimes.com.au/wp-content/uploads/2019/09/AGM_LAND-COUCNIL-ORDINARY-MEETING.jpg
END:VEVENT
BEGIN:VEVENT
DTSTART;TZID=Australia/Sydney:20191002T033000
DTEND;TZID=Australia/Sydney:20191002T033000
DTSTAMP:20260425T215524
CREATED:20190909T195942Z
LAST-MODIFIED:20190909T195942Z
UID:5954-1569987000-1569987000@www.coonambletimes.com.au
SUMMARY:Coonamble Local Aboriginal Landcouncil AGM
DESCRIPTION:Upcoming Annual General Meeting 
URL:https://www.coonambletimes.com.au/event/coonamble-local-aboriginal-landcouncil-agm/
LOCATION:16 Castlereagh Street
ATTACH;FMTTYPE=image/jpeg:https://www.coonambletimes.com.au/wp-content/uploads/2019/09/AGM_LAND-COUCNIL-Annual-Meeting.jpg
END:VEVENT
BEGIN:VEVENT
DTSTART;TZID=Australia/Sydney:20191002T050000
DTEND;TZID=Australia/Sydney:20191002T050000
DTSTAMP:20260425T215524
CREATED:20190923T193445Z
LAST-MODIFIED:20190923T193445Z
UID:6065-1569992400-1569992400@www.coonambletimes.com.au
SUMMARY:School holidays entertainment - 'Dumbo' on the big screen
DESCRIPTION:The Coonamble Bowling Club are holding some great school holiday events within the next few weeks!\nLooks like its going to be heaps of fun and a great way to keep the kids that little more entertained throughout the holidays.  \n‘Dumbo’ live on the big screen\, movie snacks available 
URL:https://www.coonambletimes.com.au/event/school-holidays-entertainment-dumbo-on-the-big-screen/
LOCATION:Coonamble Bowling Club\, Aberford Street\, Coonamble\, New South Wales\, 2829\, Australia
ATTACH;FMTTYPE=image/jpeg:https://www.coonambletimes.com.au/wp-content/uploads/2019/09/Bowling-Club-School-Holiday-Activites.jpg
END:VEVENT
BEGIN:VEVENT
DTSTART;TZID=Australia/Sydney:20191003T030000
DTEND;TZID=Australia/Sydney:20191003T030000
DTSTAMP:20260425T215524
CREATED:20190916T194245Z
LAST-MODIFIED:20190916T194245Z
UID:6003-1570071600-1570071600@www.coonambletimes.com.au
SUMMARY:Royal Far West
DESCRIPTION:Annual General Meeting 
URL:https://www.coonambletimes.com.au/event/royal-far-west/
LOCATION:Coonamble Bowling Club Board room
ATTACH;FMTTYPE=image/jpeg:https://www.coonambletimes.com.au/wp-content/uploads/2019/09/AGM_Royal-Far-West.jpg
END:VEVENT
BEGIN:VEVENT
DTSTART;TZID=Australia/Sydney:20191003T040000
DTEND;TZID=Australia/Sydney:20191003T040000
DTSTAMP:20260425T215524
CREATED:20190916T194035Z
LAST-MODIFIED:20190916T194035Z
UID:5998-1570075200-1570075200@www.coonambletimes.com.au
SUMMARY:Country Womens Association
DESCRIPTION:Annual General Meeting 
URL:https://www.coonambletimes.com.au/event/country-womens-association/
LOCATION:Coonamble Bowling Club Board room
ATTACH;FMTTYPE=image/jpeg:https://www.coonambletimes.com.au/wp-content/uploads/2019/09/AGM_Country-Womens-Association.jpg
END:VEVENT
BEGIN:VEVENT
DTSTART;VALUE=DATE:20191004
DTEND;VALUE=DATE:20191009
DTSTAMP:20260425T215524
CREATED:20190916T195627Z
LAST-MODIFIED:20190916T195627Z
UID:6016-1570183200-1570532399@www.coonambletimes.com.au
SUMMARY:Coonamble Greyhound Racing Club
DESCRIPTION:SAVE THE DATE! The Coonamble Greyhound annual races are coming up this long weekend!
URL:https://www.coonambletimes.com.au/event/coonamble-greyhound-racing-club/
LOCATION:New South Wales
ATTACH;FMTTYPE=image/jpeg:https://www.coonambletimes.com.au/wp-content/uploads/2019/09/Coonamble-Greyhound.jpg
END:VEVENT
BEGIN:VEVENT
DTSTART;VALUE=DATE:20191004
DTEND;VALUE=DATE:20191009
DTSTAMP:20260425T215524
CREATED:20190930T191010Z
LAST-MODIFIED:20190930T191010Z
UID:6145-1570183200-1570532399@www.coonambletimes.com.au
SUMMARY:Coonamble Greyhound Races Gold up
DESCRIPTION:If you are looking for something to do this Long Weekend\, the Coonamble Greyhounds Gold Cup Racing Carnival is on this coming Friday until Monday!
URL:https://www.coonambletimes.com.au/event/coonamble-greyhound-races-gold-up/
LOCATION:Greyhound race course\, Castlereagh Highway\, Coonamble\, NSW\, 2829\, Australia
ATTACH;FMTTYPE=image/jpeg:https://www.coonambletimes.com.au/wp-content/uploads/2019/10/Greyhound-Races_Gold-Cup.jpg
END:VEVENT
BEGIN:VEVENT
DTSTART;TZID=Australia/Sydney:20191004T210000
DTEND;TZID=Australia/Sydney:20191005T013000
DTSTAMP:20260425T215524
CREATED:20190923T193119Z
LAST-MODIFIED:20190923T193119Z
UID:6061-1570222800-1570239000@www.coonambletimes.com.au
SUMMARY:Inland Rail information session
DESCRIPTION:Want to find out more about the Inland Rail? This information session is coming up at the Baradine Bowling Club\, please be sure to RSVP. 
URL:https://www.coonambletimes.com.au/event/inland-rail-information-session/
LOCATION:Baradine Bowling Club
ATTACH;FMTTYPE=image/jpeg:https://www.coonambletimes.com.au/wp-content/uploads/2019/09/Inland-Rail.jpg
END:VEVENT
BEGIN:VEVENT
DTSTART;TZID=Australia/Sydney:20191010T043000
DTEND;TZID=Australia/Sydney:20191010T043000
DTSTAMP:20260425T215524
CREATED:20190916T194614Z
LAST-MODIFIED:20190916T194614Z
UID:6006-1570681800-1570681800@www.coonambletimes.com.au
SUMMARY:Towri Retirement Units Inc
DESCRIPTION:Annual General Meeting 
URL:https://www.coonambletimes.com.au/event/towri-retirement-units-inc/
LOCATION:Coonamble Bowling Club\, Aberford Street\, Coonamble\, New South Wales\, 2829\, Australia
ATTACH;FMTTYPE=image/jpeg:https://www.coonambletimes.com.au/wp-content/uploads/2019/09/AGM_Towri-Retirement.jpg
END:VEVENT
BEGIN:VEVENT
DTSTART;TZID=Australia/Sydney:20191010T060000
DTEND;TZID=Australia/Sydney:20191010T060000
DTSTAMP:20260425T215524
CREATED:20190923T193636Z
LAST-MODIFIED:20190923T193636Z
UID:6068-1570687200-1570687200@www.coonambletimes.com.au
SUMMARY:School holiday entertainment - Toy bingo
DESCRIPTION:The Coonamble Bowling Club are holding some great school holiday events within the next few weeks!\nLooks like its going to be heaps of fun and a great way to keep the kids that little more entertained throughout the holidays. \n 
URL:https://www.coonambletimes.com.au/event/school-holiday-entertainment-toy-bingo/
LOCATION:Coonamble Bowling Club\, Aberford Street\, Coonamble\, New South Wales\, 2829\, Australia
ATTACH;FMTTYPE=image/jpeg:https://www.coonambletimes.com.au/wp-content/uploads/2019/09/Bowling-Club-School-Holiday-Activites.jpg
END:VEVENT
BEGIN:VEVENT
DTSTART;TZID=Australia/Sydney:20191011T050000
DTEND;TZID=Australia/Sydney:20191011T050000
DTSTAMP:20260425T215524
CREATED:20190923T194643Z
LAST-MODIFIED:20190923T194643Z
UID:6080-1570770000-1570770000@www.coonambletimes.com.au
SUMMARY:Coonamble Touch Football
DESCRIPTION:Annual General Meeting 
URL:https://www.coonambletimes.com.au/event/coonamble-touch-football/
LOCATION:Terminus Hotel Coonamble\, 25/27 Railway St\, Coonamble\, NSW\, 2829\, Australia
ATTACH;FMTTYPE=image/jpeg:https://www.coonambletimes.com.au/wp-content/uploads/2019/09/AGM_Coonamble-Touch-Football.jpg
END:VEVENT
BEGIN:VEVENT
DTSTART;TZID=Australia/Sydney:20191011T210000
DTEND;TZID=Australia/Sydney:20191011T210000
DTSTAMP:20260425T215524
CREATED:20190930T191601Z
LAST-MODIFIED:20190930T191601Z
UID:6152-1570827600-1570827600@www.coonambletimes.com.au
SUMMARY:Swanny's Foods Trade Show
DESCRIPTION:Head to the Swanny’s Foods trade show to taste some of the newest products that they have available! The event is open to the public\, there will also be lucky door prizes drawn throughout the day!!
URL:https://www.coonambletimes.com.au/event/swannys-foods-trade-show/
LOCATION:Coonamble Bowling Club\, Aberford Street\, Coonamble\, New South Wales\, 2829\, Australia
ATTACH;FMTTYPE=image/jpeg:https://www.coonambletimes.com.au/wp-content/uploads/2019/10/Swannys-Foods-Trade-Show.jpg
END:VEVENT
BEGIN:VEVENT
DTSTART;TZID=Australia/Sydney:20191012T200000
DTEND;TZID=Australia/Sydney:20191012T200000
DTSTAMP:20260425T215524
CREATED:20190930T191342Z
LAST-MODIFIED:20190930T191342Z
UID:6148-1570910400-1570910400@www.coonambletimes.com.au
SUMMARY:Annual Strawberry Fair & Fete
DESCRIPTION:St Barnabas Anglican Church is holding the Annual Strawberry Fair & Fete! There will be market stalls\, Hot Foods and lots more!
URL:https://www.coonambletimes.com.au/event/annual-strawberry-fair-fete/
LOCATION:St Barnabas Anglican Church\, Coonamble
ATTACH;FMTTYPE=image/jpeg:https://www.coonambletimes.com.au/wp-content/uploads/2019/10/Strawberry-Fair.jpg
END:VEVENT
END:VCALENDAR