BEGIN:VCALENDAR
VERSION:2.0
PRODID:-//The Coonamble Times - ECPv6.13.2.1//NONSGML v1.0//EN
CALSCALE:GREGORIAN
METHOD:PUBLISH
X-ORIGINAL-URL:https://www.coonambletimes.com.au
X-WR-CALDESC:Events for The Coonamble Times
REFRESH-INTERVAL;VALUE=DURATION:PT1H
X-Robots-Tag:noindex
X-PUBLISHED-TTL:PT1H
BEGIN:VTIMEZONE
TZID:Australia/Sydney
BEGIN:STANDARD
TZOFFSETFROM:+1100
TZOFFSETTO:+1000
TZNAME:AEST
DTSTART:20240406T160000
END:STANDARD
BEGIN:DAYLIGHT
TZOFFSETFROM:+1000
TZOFFSETTO:+1100
TZNAME:AEDT
DTSTART:20241005T160000
END:DAYLIGHT
END:VTIMEZONE
BEGIN:VEVENT
DTSTART;TZID=Australia/Sydney:20241006T193000
DTEND;TZID=Australia/Sydney:20241006T193000
DTSTAMP:20260424T212509
CREATED:20241002T030654Z
LAST-MODIFIED:20241002T030654Z
UID:60691-1728243000-1728243000@www.coonambletimes.com.au
SUMMARY:NRL Grandfinal
DESCRIPTION:
URL:https://www.coonambletimes.com.au/event/nrl-grandfinal/
LOCATION:Coonamble Golf Club\, Caswell Street\, Coonamble\, New South Wales\, 2829\, Australia
END:VEVENT
BEGIN:VEVENT
DTSTART;VALUE=DATE:20241006
DTEND;VALUE=DATE:20241007
DTSTAMP:20260424T212509
CREATED:20240918T011008Z
LAST-MODIFIED:20240918T015841Z
UID:60167-1728172800-1728259199@www.coonambletimes.com.au
SUMMARY:Harvest Long Lunch
DESCRIPTION:
URL:https://www.coonambletimes.com.au/event/harvest-long-lunch/
LOCATION:Pilliga Road\, Coonamble
ATTACH;FMTTYPE=image/png:https://www.coonambletimes.com.au/wp-content/uploads/2024/09/Ad-for-paper19.4-x-9.2-cm.png
END:VEVENT
BEGIN:VEVENT
DTSTART;TZID=Australia/Sydney:20241005T180000
DTEND;TZID=Australia/Sydney:20241005T180000
DTSTAMP:20260424T212509
CREATED:20240911T065615Z
LAST-MODIFIED:20241002T030526Z
UID:60032-1728151200-1728151200@www.coonambletimes.com.au
SUMMARY:Vision Splendid Coonamble
DESCRIPTION:
URL:https://www.coonambletimes.com.au/event/vision-splendid-coonamble/
LOCATION:New South Wales
ATTACH;FMTTYPE=image/png:https://www.coonambletimes.com.au/wp-content/uploads/2024/09/Vision-Splendid-CT-Front-page-banner-19.4-x-9.2-cm.png
END:VEVENT
BEGIN:VEVENT
DTSTART;TZID=Australia/Sydney:20241004T190000
DTEND;TZID=Australia/Sydney:20241004T190000
DTSTAMP:20260424T212509
CREATED:20240911T070014Z
LAST-MODIFIED:20240911T070014Z
UID:60036-1728068400-1728068400@www.coonambletimes.com.au
SUMMARY:Tinderella & the eight unique ways to use Tinder
DESCRIPTION:
URL:https://www.coonambletimes.com.au/event/tinderella-the-eight-unique-ways-to-use-tinder/
LOCATION:Coonamble Plaza Theatre
ATTACH;FMTTYPE=application/pdf:https://www.coonambletimes.com.au/wp-content/uploads/2024/09/Tinderella_110924.pdf
END:VEVENT
BEGIN:VEVENT
DTSTART;VALUE=DATE:20241004
DTEND;VALUE=DATE:20241008
DTSTAMP:20260424T212509
CREATED:20241002T030219Z
LAST-MODIFIED:20241002T030219Z
UID:60681-1728000000-1728345599@www.coonambletimes.com.au
SUMMARY:Coonamble Greyhound Racing Carnival
DESCRIPTION:
URL:https://www.coonambletimes.com.au/event/coonamble-greyhound-racing-carnival-2/
LOCATION:Coonamble Greyhound Race Track\, 160 Castlereagh Hwy\, Coonamble\, NSW\, 2829\, Australia
ATTACH;FMTTYPE=application/pdf:https://www.coonambletimes.com.au/wp-content/uploads/2024/10/Cble-Greyhound-Carnival_021024-1.pdf
END:VEVENT
BEGIN:VEVENT
DTSTART;TZID=Australia/Sydney:20241001T180000
DTEND;TZID=Australia/Sydney:20241001T180000
DTSTAMP:20260424T212509
CREATED:20240904T061248Z
LAST-MODIFIED:20240904T061248Z
UID:59833-1727805600-1727805600@www.coonambletimes.com.au
SUMMARY:MTMFM Coonamble Community Radio Station Annual General Meeting
DESCRIPTION:
URL:https://www.coonambletimes.com.au/event/mtmfm-coonamble-community-radio-station-annual-general-meeting/
LOCATION:Coonamble Bowling Club\, Aberford Street\, Coonamble\, New South Wales\, 2829\, Australia
END:VEVENT
BEGIN:VEVENT
DTSTART;TZID=Australia/Sydney:20240928T140000
DTEND;TZID=Australia/Sydney:20240928T214500
DTSTAMP:20260424T212509
CREATED:20240918T013335Z
LAST-MODIFIED:20240918T013335Z
UID:60183-1727532000-1727559900@www.coonambletimes.com.au
SUMMARY:Under the Gums
DESCRIPTION:
URL:https://www.coonambletimes.com.au/event/under-the-gums/
LOCATION:Gilgandra
ATTACH;FMTTYPE=application/pdf:https://www.coonambletimes.com.au/wp-content/uploads/2024/09/Under-the-Gums_180924-1.pdf
END:VEVENT
BEGIN:VEVENT
DTSTART;TZID=Australia/Sydney:20240928T110000
DTEND;TZID=Australia/Sydney:20240928T170000
DTSTAMP:20260424T212509
CREATED:20240918T013624Z
LAST-MODIFIED:20240918T013624Z
UID:60194-1727521200-1727542800@www.coonambletimes.com.au
SUMMARY:Come By Chance Picnic Races
DESCRIPTION:
URL:https://www.coonambletimes.com.au/event/come-by-chance-picnic-races-2/
LOCATION:Come By Chance Racecourse
ATTACH;FMTTYPE=application/pdf:https://www.coonambletimes.com.au/wp-content/uploads/2024/09/Come-By-Chance-Races_18.09.24.pdf
END:VEVENT
BEGIN:VEVENT
DTSTART;TZID=Australia/Sydney:20240927T100000
DTEND;TZID=Australia/Sydney:20240927T100000
DTSTAMP:20260424T212509
CREATED:20240918T014754Z
LAST-MODIFIED:20240918T014754Z
UID:60209-1727431200-1727431200@www.coonambletimes.com.au
SUMMARY:Coonamble Bowling Club Annual General Meeting
DESCRIPTION:
URL:https://www.coonambletimes.com.au/event/coonamble-bowling-club-annual-general-meeting/
LOCATION:New South Wales
END:VEVENT
BEGIN:VEVENT
DTSTART;TZID=Australia/Sydney:20240927T080000
DTEND;TZID=Australia/Sydney:20240927T170000
DTSTAMP:20260424T212509
CREATED:20240821T043232Z
LAST-MODIFIED:20240821T043251Z
UID:59358-1727424000-1727456400@www.coonambletimes.com.au
SUMMARY:Block Auction
DESCRIPTION:
URL:https://www.coonambletimes.com.au/event/block-auction/
LOCATION:Gulargambone Bowling Club\, 41 Armitree St\, Gulargambone\, NSW\, 2828\, Australia
ATTACH;FMTTYPE=application/pdf:https://www.coonambletimes.com.au/wp-content/uploads/2024/08/HB-Auctions_210824.pdf
END:VEVENT
BEGIN:VEVENT
DTSTART;TZID=Australia/Sydney:20240926T103000
DTEND;TZID=Australia/Sydney:20240926T143000
DTSTAMP:20260424T212509
CREATED:20240911T070227Z
LAST-MODIFIED:20240913T000839Z
UID:60040-1727346600-1727361000@www.coonambletimes.com.au
SUMMARY:Coonamble NAIDOC Community Fun Day
DESCRIPTION:
URL:https://www.coonambletimes.com.au/event/coonamble-naidoc-community-fun-day/
LOCATION:Coonamble Sportsground\, Castlereagh Highway\, Coonamble\, New South Wales\, 2829\, Australia
ATTACH;FMTTYPE=application/pdf:https://www.coonambletimes.com.au/wp-content/uploads/2024/09/Naidoc-fun-day_110924.pdf
END:VEVENT
BEGIN:VEVENT
DTSTART;TZID=Australia/Sydney:20240923T173000
DTEND;TZID=Australia/Sydney:20240923T173000
DTSTAMP:20260424T212509
CREATED:20240904T061453Z
LAST-MODIFIED:20240904T061453Z
UID:59836-1727112600-1727112600@www.coonambletimes.com.au
SUMMARY:Coonamble Childrens Services Inc Annual General Meeting
DESCRIPTION:
URL:https://www.coonambletimes.com.au/event/coonamble-childrens-services-inc-annual-general-meeting-2/
LOCATION:45a Dubbo St\, 45A Dubbo St\, Coonamble\, NSW\, 2829\, Australia
END:VEVENT
BEGIN:VEVENT
DTSTART;VALUE=DATE:20240921
DTEND;VALUE=DATE:20240922
DTSTAMP:20260424T212509
CREATED:20240717T010320Z
LAST-MODIFIED:20240904T052615Z
UID:58100-1726876800-1726963199@www.coonambletimes.com.au
SUMMARY:Royal Far West 90th Birthday High Tea Party
DESCRIPTION:
URL:https://www.coonambletimes.com.au/event/royal-far-west-90th-birthday-high-tea-party/
LOCATION:Coonamble Showground
ATTACH;FMTTYPE=application/pdf:https://www.coonambletimes.com.au/wp-content/uploads/2024/07/RFW_High-Tea_040924-1.pdf
END:VEVENT
BEGIN:VEVENT
DTSTART;TZID=Australia/Sydney:20240920T170000
DTEND;TZID=Australia/Sydney:20240920T170000
DTSTAMP:20260424T212509
CREATED:20240918T014629Z
LAST-MODIFIED:20240918T014629Z
UID:60206-1726851600-1726851600@www.coonambletimes.com.au
SUMMARY:Coonamble Junior Cricket Annual General Meeting
DESCRIPTION:
URL:https://www.coonambletimes.com.au/event/coonamble-junior-cricket-annual-general-meeting/
LOCATION:Terminus Hotel Coonamble\, 25/27 Railway St\, Coonamble\, NSW\, 2829\, Australia
END:VEVENT
BEGIN:VEVENT
DTSTART;VALUE=DATE:20240920
DTEND;VALUE=DATE:20240921
DTSTAMP:20260424T212509
CREATED:20240918T013807Z
LAST-MODIFIED:20240918T015947Z
UID:60198-1726790400-1726876799@www.coonambletimes.com.au
SUMMARY:Coonamble Rams Presentation
DESCRIPTION:
URL:https://www.coonambletimes.com.au/event/coonamble-rams-presentation/
LOCATION:Coonamble Golf Club\, Caswell Street\, Coonamble\, New South Wales\, 2829\, Australia
ATTACH;FMTTYPE=application/pdf:https://www.coonambletimes.com.au/wp-content/uploads/2024/09/Rams-Preso_180924.pdf
END:VEVENT
BEGIN:VEVENT
DTSTART;TZID=Australia/Sydney:20240918T180000
DTEND;TZID=Australia/Sydney:20240918T180000
DTSTAMP:20260424T212509
CREATED:20240821T044324Z
LAST-MODIFIED:20240821T044324Z
UID:59367-1726682400-1726682400@www.coonambletimes.com.au
SUMMARY:Marthaguy Picnic Races Annual General Meeting
DESCRIPTION:
URL:https://www.coonambletimes.com.au/event/marthaguy-picnic-races-annual-general-meeting/
LOCATION:New South Wales
END:VEVENT
BEGIN:VEVENT
DTSTART;VALUE=DATE:20240916
DTEND;VALUE=DATE:20240917
DTSTAMP:20260424T212509
CREATED:20240904T060524Z
LAST-MODIFIED:20240904T060524Z
UID:59828-1726444800-1726531199@www.coonambletimes.com.au
SUMMARY:Cash Bingo
DESCRIPTION:
URL:https://www.coonambletimes.com.au/event/cash-bingo-3/
LOCATION:Coonamble Bowling Club\, Aberford Street\, Coonamble\, New South Wales\, 2829\, Australia
END:VEVENT
BEGIN:VEVENT
DTSTART;VALUE=DATE:20240914
DTEND;VALUE=DATE:20240915
DTSTAMP:20260424T212509
CREATED:20240724T012948Z
LAST-MODIFIED:20240724T012948Z
UID:58329-1726272000-1726358399@www.coonambletimes.com.au
SUMMARY:Local Government Elections
DESCRIPTION:
URL:https://www.coonambletimes.com.au/event/local-government-elections/
LOCATION:New South Wales
END:VEVENT
BEGIN:VEVENT
DTSTART;VALUE=DATE:20240914
DTEND;VALUE=DATE:20240915
DTSTAMP:20260424T212509
CREATED:20240724T012859Z
LAST-MODIFIED:20240724T012859Z
UID:58326-1726272000-1726358399@www.coonambletimes.com.au
SUMMARY:CEF Sportsman's Lunch
DESCRIPTION:
URL:https://www.coonambletimes.com.au/event/cef-sportsmans-lunch/
LOCATION:Coonamble
END:VEVENT
BEGIN:VEVENT
DTSTART;TZID=Australia/Sydney:20240911T130000
DTEND;TZID=Australia/Sydney:20240911T130000
DTSTAMP:20260424T212509
CREATED:20240821T042408Z
LAST-MODIFIED:20240821T043600Z
UID:59355-1726059600-1726059600@www.coonambletimes.com.au
SUMMARY:ELSTOW Bull Sale
DESCRIPTION:
URL:https://www.coonambletimes.com.au/event/elstow-bull-sale/
LOCATION:“Elstow”\, Baradine/ AuctionsPlus
ATTACH;FMTTYPE=application/pdf:https://www.coonambletimes.com.au/wp-content/uploads/2024/08/Elstow-Sale_21.08.24.pdf
END:VEVENT
BEGIN:VEVENT
DTSTART;TZID=Australia/Sydney:20240911T103000
DTEND;TZID=Australia/Sydney:20240911T103000
DTSTAMP:20260424T212509
CREATED:20240904T060342Z
LAST-MODIFIED:20240904T061022Z
UID:59825-1726050600-1726050600@www.coonambletimes.com.au
SUMMARY:Calga Dohne Production Sale (70 Rams)
DESCRIPTION:
URL:https://www.coonambletimes.com.au/event/calga-production-sale-70-rams/
LOCATION:New South Wales
ATTACH;FMTTYPE=image/png:https://www.coonambletimes.com.au/wp-content/uploads/2024/09/Coonamble-Times-Dohne-C33-194x139-1.png
END:VEVENT
BEGIN:VEVENT
DTSTART;TZID=Australia/Sydney:20240909T100000
DTEND;TZID=Australia/Sydney:20240909T100000
DTSTAMP:20260424T212509
CREATED:20240904T055841Z
LAST-MODIFIED:20240904T055841Z
UID:59821-1725876000-1725876000@www.coonambletimes.com.au
SUMMARY:Tooraweenah Angus Open Day
DESCRIPTION:
URL:https://www.coonambletimes.com.au/event/tooraweenah-angus-open-day/
LOCATION:Moorambilla Yards\, River Rd\, Coonamble\, Australia
ATTACH;FMTTYPE=application/pdf:https://www.coonambletimes.com.au/wp-content/uploads/2024/09/Tooraweenah-Angus_Open-Day_040924-2.pdf
END:VEVENT
BEGIN:VEVENT
DTSTART;VALUE=DATE:20240909
DTEND;VALUE=DATE:20241026
DTSTAMP:20260424T212509
CREATED:20240731T064250Z
LAST-MODIFIED:20240731T064250Z
UID:58633-1725840000-1729900799@www.coonambletimes.com.au
SUMMARY:Outback Archies
DESCRIPTION:
URL:https://www.coonambletimes.com.au/event/outback-archies-2/
LOCATION:Outback Arts
ATTACH;FMTTYPE=image/png:https://www.coonambletimes.com.au/wp-content/uploads/2024/07/2024-Archies-Newspaper-Ad-No-Pic-6.3-×-9.2-cm.png
END:VEVENT
BEGIN:VEVENT
DTSTART;TZID=Australia/Sydney:20240907T130000
DTEND;TZID=Australia/Sydney:20240907T130000
DTSTAMP:20260424T212509
CREATED:20240731T065034Z
LAST-MODIFIED:20240731T065034Z
UID:58649-1725714000-1725714000@www.coonambletimes.com.au
SUMMARY:LIVE- Colin Hewett
DESCRIPTION:
URL:https://www.coonambletimes.com.au/event/live-colin-hewett/
LOCATION:Coonamble Golf Club\, Caswell Street\, Coonamble\, New South Wales\, 2829\, Australia
END:VEVENT
BEGIN:VEVENT
DTSTART;TZID=Australia/Sydney:20240907T100000
DTEND;TZID=Australia/Sydney:20240907T100000
DTSTAMP:20260424T212509
CREATED:20240731T064739Z
LAST-MODIFIED:20240904T054112Z
UID:58643-1725703200-1725703200@www.coonambletimes.com.au
SUMMARY:Coonamble Annual Car Show
DESCRIPTION:
URL:https://www.coonambletimes.com.au/event/coonamble-annual-car-show/
LOCATION:Coonamble Golf Club\, Caswell Street\, Coonamble\, New South Wales\, 2829\, Australia
ATTACH;FMTTYPE=application/pdf:https://www.coonambletimes.com.au/wp-content/uploads/2024/07/Auto-Club-2024-Show_210824.pdf
END:VEVENT
BEGIN:VEVENT
DTSTART;TZID=Australia/Sydney:20240907T090000
DTEND;TZID=Australia/Sydney:20240907T170000
DTSTAMP:20260424T212509
CREATED:20240731T064916Z
LAST-MODIFIED:20240904T053356Z
UID:58646-1725699600-1725728400@www.coonambletimes.com.au
SUMMARY:Coonamble Golf Club Car Boot Sale
DESCRIPTION:
URL:https://www.coonambletimes.com.au/event/coonamble-golf-club-car-boot-sale/
LOCATION:Coonamble Golf Club\, Caswell Street\, Coonamble\, New South Wales\, 2829\, Australia
ATTACH;FMTTYPE=application/pdf:https://www.coonambletimes.com.au/wp-content/uploads/2024/07/Carboot-sale_040924.pdf
END:VEVENT
BEGIN:VEVENT
DTSTART;TZID=Australia/Sydney:20240905T180000
DTEND;TZID=Australia/Sydney:20240905T180000
DTSTAMP:20260424T212509
CREATED:20240821T041941Z
LAST-MODIFIED:20240821T041941Z
UID:59348-1725559200-1725559200@www.coonambletimes.com.au
SUMMARY:Meet the Candidates
DESCRIPTION:
URL:https://www.coonambletimes.com.au/event/meet-the-candidates/
LOCATION:Coonamble Bowling Club\, Aberford Street\, Coonamble\, New South Wales\, 2829\, Australia
ATTACH;FMTTYPE=application/pdf:https://www.coonambletimes.com.au/wp-content/uploads/2024/08/Meet-the-Candidates.pdf
END:VEVENT
BEGIN:VEVENT
DTSTART;TZID=Australia/Sydney:20240905T170000
DTEND;TZID=Australia/Sydney:20240905T170000
DTSTAMP:20260424T212509
CREATED:20240904T054821Z
LAST-MODIFIED:20240904T054821Z
UID:59817-1725555600-1725555600@www.coonambletimes.com.au
SUMMARY:Little A's Starts
DESCRIPTION:
URL:https://www.coonambletimes.com.au/event/little-as-starts/
LOCATION:Coonamble Sportsground\, Castlereagh Highway\, Coonamble\, New South Wales\, 2829\, Australia
ATTACH;FMTTYPE=application/pdf:https://www.coonambletimes.com.au/wp-content/uploads/2024/09/Little-Athletics_040924-3.pdf
END:VEVENT
BEGIN:VEVENT
DTSTART;TZID=Australia/Sydney:20240905T120000
DTEND;TZID=Australia/Sydney:20240905T120000
DTSTAMP:20260424T212509
CREATED:20240904T053008Z
LAST-MODIFIED:20240904T053008Z
UID:59810-1725537600-1725537600@www.coonambletimes.com.au
SUMMARY:Beer & Wine Tasting
DESCRIPTION:
URL:https://www.coonambletimes.com.au/event/beer-wine-tasting/
LOCATION:Coonamble Cellars\, 83 Aberford St\, Coonamble\, NSW\, 2829\, Australia
ATTACH;FMTTYPE=image/jpeg:https://www.coonambletimes.com.au/wp-content/uploads/2024/09/TOOHEYS-AND-BUNNAMAGOO-WINE-TASTING.jpg
END:VEVENT
BEGIN:VEVENT
DTSTART;TZID=Australia/Sydney:20240901T083000
DTEND;TZID=Australia/Sydney:20240901T083000
DTSTAMP:20260424T212509
CREATED:20240517T020708Z
LAST-MODIFIED:20240517T020823Z
UID:56278-1725179400-1725179400@www.coonambletimes.com.au
SUMMARY:Colour Run 2024
DESCRIPTION:
URL:https://www.coonambletimes.com.au/event/colour-run-2024/
LOCATION:Coonamble Golf Club\, Caswell Street\, Coonamble\, New South Wales\, 2829\, Australia
ATTACH;FMTTYPE=application/pdf:https://www.coonambletimes.com.au/wp-content/uploads/2024/05/Cble-Colour-Run_150524-1.pdf
END:VEVENT
END:VCALENDAR