BEGIN:VCALENDAR
VERSION:2.0
PRODID:-//The Coonamble Times - ECPv6.13.2.1//NONSGML v1.0//EN
CALSCALE:GREGORIAN
METHOD:PUBLISH
X-WR-CALNAME:The Coonamble Times
X-ORIGINAL-URL:https://www.coonambletimes.com.au
X-WR-CALDESC:Events for The Coonamble Times
REFRESH-INTERVAL;VALUE=DURATION:PT1H
X-Robots-Tag:noindex
X-PUBLISHED-TTL:PT1H
BEGIN:VTIMEZONE
TZID:Australia/Sydney
BEGIN:STANDARD
TZOFFSETFROM:+1100
TZOFFSETTO:+1000
TZNAME:AEST
DTSTART:20240406T160000
END:STANDARD
BEGIN:DAYLIGHT
TZOFFSETFROM:+1000
TZOFFSETTO:+1100
TZNAME:AEDT
DTSTART:20241005T160000
END:DAYLIGHT
END:VTIMEZONE
BEGIN:VEVENT
DTSTART;TZID=Australia/Sydney:20240911T103000
DTEND;TZID=Australia/Sydney:20240911T103000
DTSTAMP:20260425T005424
CREATED:20240904T060342Z
LAST-MODIFIED:20240904T061022Z
UID:59825-1726050600-1726050600@www.coonambletimes.com.au
SUMMARY:Calga Dohne Production Sale (70 Rams)
DESCRIPTION:
URL:https://www.coonambletimes.com.au/event/calga-production-sale-70-rams/
LOCATION:NSW
ATTACH;FMTTYPE=image/png:https://www.coonambletimes.com.au/wp-content/uploads/2024/09/Coonamble-Times-Dohne-C33-194x139-1.png
END:VEVENT
BEGIN:VEVENT
DTSTART;TZID=Australia/Sydney:20240909T100000
DTEND;TZID=Australia/Sydney:20240909T100000
DTSTAMP:20260425T005424
CREATED:20240904T055841Z
LAST-MODIFIED:20240904T055841Z
UID:59821-1725876000-1725876000@www.coonambletimes.com.au
SUMMARY:Tooraweenah Angus Open Day
DESCRIPTION:
URL:https://www.coonambletimes.com.au/event/tooraweenah-angus-open-day/
LOCATION:Moorambilla Yards\, River Rd\, Coonamble\, Australia
ATTACH;FMTTYPE=application/pdf:https://www.coonambletimes.com.au/wp-content/uploads/2024/09/Tooraweenah-Angus_Open-Day_040924-2.pdf
END:VEVENT
BEGIN:VEVENT
DTSTART;VALUE=DATE:20240909
DTEND;VALUE=DATE:20241026
DTSTAMP:20260425T005424
CREATED:20240731T064250Z
LAST-MODIFIED:20240731T064250Z
UID:58633-1725840000-1729900799@www.coonambletimes.com.au
SUMMARY:Outback Archies
DESCRIPTION:
URL:https://www.coonambletimes.com.au/event/outback-archies-2/
LOCATION:Outback Arts
ATTACH;FMTTYPE=image/png:https://www.coonambletimes.com.au/wp-content/uploads/2024/07/2024-Archies-Newspaper-Ad-No-Pic-6.3-×-9.2-cm.png
END:VEVENT
BEGIN:VEVENT
DTSTART;TZID=Australia/Sydney:20240907T130000
DTEND;TZID=Australia/Sydney:20240907T130000
DTSTAMP:20260425T005424
CREATED:20240731T065034Z
LAST-MODIFIED:20240731T065034Z
UID:58649-1725714000-1725714000@www.coonambletimes.com.au
SUMMARY:LIVE- Colin Hewett
DESCRIPTION:
URL:https://www.coonambletimes.com.au/event/live-colin-hewett/
LOCATION:Coonamble Golf Club\, Caswell Street\, Coonamble\, New South Wales\, 2829\, Australia
END:VEVENT
BEGIN:VEVENT
DTSTART;TZID=Australia/Sydney:20240907T100000
DTEND;TZID=Australia/Sydney:20240907T100000
DTSTAMP:20260425T005424
CREATED:20240731T064739Z
LAST-MODIFIED:20240904T054112Z
UID:58643-1725703200-1725703200@www.coonambletimes.com.au
SUMMARY:Coonamble Annual Car Show
DESCRIPTION:
URL:https://www.coonambletimes.com.au/event/coonamble-annual-car-show/
LOCATION:Coonamble Golf Club\, Caswell Street\, Coonamble\, New South Wales\, 2829\, Australia
ATTACH;FMTTYPE=application/pdf:https://www.coonambletimes.com.au/wp-content/uploads/2024/07/Auto-Club-2024-Show_210824.pdf
END:VEVENT
BEGIN:VEVENT
DTSTART;TZID=Australia/Sydney:20240907T090000
DTEND;TZID=Australia/Sydney:20240907T170000
DTSTAMP:20260425T005424
CREATED:20240731T064916Z
LAST-MODIFIED:20240904T053356Z
UID:58646-1725699600-1725728400@www.coonambletimes.com.au
SUMMARY:Coonamble Golf Club Car Boot Sale
DESCRIPTION:
URL:https://www.coonambletimes.com.au/event/coonamble-golf-club-car-boot-sale/
LOCATION:Coonamble Golf Club\, Caswell Street\, Coonamble\, New South Wales\, 2829\, Australia
ATTACH;FMTTYPE=application/pdf:https://www.coonambletimes.com.au/wp-content/uploads/2024/07/Carboot-sale_040924.pdf
END:VEVENT
BEGIN:VEVENT
DTSTART;TZID=Australia/Sydney:20240905T180000
DTEND;TZID=Australia/Sydney:20240905T180000
DTSTAMP:20260425T005424
CREATED:20240821T041941Z
LAST-MODIFIED:20240821T041941Z
UID:59348-1725559200-1725559200@www.coonambletimes.com.au
SUMMARY:Meet the Candidates
DESCRIPTION:
URL:https://www.coonambletimes.com.au/event/meet-the-candidates/
LOCATION:Coonamble Bowling Club\, Aberford Street\, Coonamble\, New South Wales\, 2829\, Australia
ATTACH;FMTTYPE=application/pdf:https://www.coonambletimes.com.au/wp-content/uploads/2024/08/Meet-the-Candidates.pdf
END:VEVENT
BEGIN:VEVENT
DTSTART;TZID=Australia/Sydney:20240905T170000
DTEND;TZID=Australia/Sydney:20240905T170000
DTSTAMP:20260425T005424
CREATED:20240904T054821Z
LAST-MODIFIED:20240904T054821Z
UID:59817-1725555600-1725555600@www.coonambletimes.com.au
SUMMARY:Little A's Starts
DESCRIPTION:
URL:https://www.coonambletimes.com.au/event/little-as-starts/
LOCATION:Coonamble Sportsground\, Castlereagh Highway\, Coonamble\, New South Wales\, 2829\, Australia
ATTACH;FMTTYPE=application/pdf:https://www.coonambletimes.com.au/wp-content/uploads/2024/09/Little-Athletics_040924-3.pdf
END:VEVENT
BEGIN:VEVENT
DTSTART;TZID=Australia/Sydney:20240905T120000
DTEND;TZID=Australia/Sydney:20240905T120000
DTSTAMP:20260425T005425
CREATED:20240904T053008Z
LAST-MODIFIED:20240904T053008Z
UID:59810-1725537600-1725537600@www.coonambletimes.com.au
SUMMARY:Beer & Wine Tasting
DESCRIPTION:
URL:https://www.coonambletimes.com.au/event/beer-wine-tasting/
LOCATION:Coonamble Cellars\, 83 Aberford St\, Coonamble\, NSW\, 2829\, Australia
ATTACH;FMTTYPE=image/jpeg:https://www.coonambletimes.com.au/wp-content/uploads/2024/09/TOOHEYS-AND-BUNNAMAGOO-WINE-TASTING.jpg
END:VEVENT
BEGIN:VEVENT
DTSTART;TZID=Australia/Sydney:20240901T083000
DTEND;TZID=Australia/Sydney:20240901T083000
DTSTAMP:20260425T005425
CREATED:20240517T020708Z
LAST-MODIFIED:20240517T020823Z
UID:56278-1725179400-1725179400@www.coonambletimes.com.au
SUMMARY:Colour Run 2024
DESCRIPTION:
URL:https://www.coonambletimes.com.au/event/colour-run-2024/
LOCATION:Coonamble Golf Club\, Caswell Street\, Coonamble\, New South Wales\, 2829\, Australia
ATTACH;FMTTYPE=application/pdf:https://www.coonambletimes.com.au/wp-content/uploads/2024/05/Cble-Colour-Run_150524-1.pdf
END:VEVENT
BEGIN:VEVENT
DTSTART;VALUE=DATE:20240901
DTEND;VALUE=DATE:20241101
DTSTAMP:20260425T005425
CREATED:20240918T012337Z
LAST-MODIFIED:20240918T012337Z
UID:60176-1725148800-1730419199@www.coonambletimes.com.au
SUMMARY:CADEF Scholarship Applications 2025
DESCRIPTION:
URL:https://www.coonambletimes.com.au/event/cadef-scholarship-applications-2025/
LOCATION:NSW
END:VEVENT
BEGIN:VEVENT
DTSTART;TZID=Australia/Sydney:20240831T120000
DTEND;TZID=Australia/Sydney:20240831T120000
DTSTAMP:20260425T005425
CREATED:20240821T025447Z
LAST-MODIFIED:20240821T041354Z
UID:59344-1725105600-1725105600@www.coonambletimes.com.au
SUMMARY:Gulargambone Gold Cup Races
DESCRIPTION:
URL:https://www.coonambletimes.com.au/event/gulargambone-gold-cup-races/
LOCATION:Gulargambone Racecourse
ATTACH;FMTTYPE=application/pdf:https://www.coonambletimes.com.au/wp-content/uploads/2024/08/Gulargambone-Gold-Cup-2024-1.pdf
END:VEVENT
BEGIN:VEVENT
DTSTART;VALUE=DATE:20240831
DTEND;VALUE=DATE:20240901
DTSTAMP:20260425T005425
CREATED:20240724T012651Z
LAST-MODIFIED:20240724T012743Z
UID:58323-1725062400-1725148799@www.coonambletimes.com.au
SUMMARY:LIVE- Brad Haling
DESCRIPTION:
URL:https://www.coonambletimes.com.au/event/live-brad-haling/
LOCATION:Gulargambone Bowling Club\, 41 Armitree St\, Gulargambone\, NSW\, 2828\, Australia
END:VEVENT
BEGIN:VEVENT
DTSTART;TZID=Australia/Sydney:20240828T080000
DTEND;TZID=Australia/Sydney:20240828T170000
DTSTAMP:20260425T005425
CREATED:20240821T042136Z
LAST-MODIFIED:20240821T044107Z
UID:59352-1724832000-1724864400@www.coonambletimes.com.au
SUMMARY:Coonamble Fat Sale
DESCRIPTION:
URL:https://www.coonambletimes.com.au/event/coonamble-fat-sale-3/
LOCATION:Coonamble Sale Yards\, Railway Street\, Coonamble\, Australia
ATTACH;FMTTYPE=image/png:https://www.coonambletimes.com.au/wp-content/uploads/2024/08/Fat-Sale-28082024.png
END:VEVENT
BEGIN:VEVENT
DTSTART;VALUE=DATE:20240828
DTEND;VALUE=DATE:20240901
DTSTAMP:20260425T005425
CREATED:20240724T012105Z
LAST-MODIFIED:20240724T012105Z
UID:58313-1724803200-1725148799@www.coonambletimes.com.au
SUMMARY:CATS presents Jest at the West
DESCRIPTION:
URL:https://www.coonambletimes.com.au/event/cats-presents-jest-at-the-west/
LOCATION:Coonamble Plaza Theatre
ATTACH;FMTTYPE=application/pdf:https://www.coonambletimes.com.au/wp-content/uploads/2024/07/JestintheWest_240724-2.pdf
END:VEVENT
BEGIN:VEVENT
DTSTART;TZID=Australia/Sydney:20240820T153000
DTEND;TZID=Australia/Sydney:20240820T153000
DTSTAMP:20260425T005425
CREATED:20240814T060359Z
LAST-MODIFIED:20240814T060359Z
UID:59171-1724167800-1724167800@www.coonambletimes.com.au
SUMMARY:Coonamble Swimming Club Annual General Meeting
DESCRIPTION:
URL:https://www.coonambletimes.com.au/event/coonamble-swimming-club-annual-general-meeting/
LOCATION:Coonamble Bowling Club\, Aberford Street\, Coonamble\, New South Wales\, 2829\, Australia
END:VEVENT
BEGIN:VEVENT
DTSTART;VALUE=DATE:20240819
DTEND;VALUE=DATE:20240820
DTSTAMP:20260425T005425
CREATED:20240731T064446Z
LAST-MODIFIED:20240731T064446Z
UID:58637-1724025600-1724111999@www.coonambletimes.com.au
SUMMARY:Outback Archies Entries Close
DESCRIPTION:
URL:https://www.coonambletimes.com.au/event/outback-archies-entries-close-2/
LOCATION:Outback Arts
END:VEVENT
BEGIN:VEVENT
DTSTART;VALUE=DATE:20240816
DTEND;VALUE=DATE:20240817
DTSTAMP:20260425T005425
CREATED:20240731T064603Z
LAST-MODIFIED:20240731T064603Z
UID:58640-1723766400-1723852799@www.coonambletimes.com.au
SUMMARY:LIVE- Royden Donohue
DESCRIPTION:
URL:https://www.coonambletimes.com.au/event/live-royden-donohue-2/
LOCATION:Coonamble Bowling Club\, Aberford Street\, Coonamble\, New South Wales\, 2829\, Australia
END:VEVENT
BEGIN:VEVENT
DTSTART;VALUE=DATE:20240814
DTEND;VALUE=DATE:20240815
DTSTAMP:20260425T005425
CREATED:20240807T023044Z
LAST-MODIFIED:20240807T023559Z
UID:58856-1723593600-1723679999@www.coonambletimes.com.au
SUMMARY:Outwest Angus Sale
DESCRIPTION:
URL:https://www.coonambletimes.com.au/event/outwest-angus-sale/
LOCATION:“Wombalano”\, 346 Warrabah Road\, Coonamble\, NSW\, 2829\, Australia
ATTACH;FMTTYPE=application/pdf:https://www.coonambletimes.com.au/wp-content/uploads/2024/08/OW_2024-T24-Ad_260x92mm.pdf
END:VEVENT
BEGIN:VEVENT
DTSTART;TZID=Australia/Sydney:20240806T130000
DTEND;TZID=Australia/Sydney:20240806T130000
DTSTAMP:20260425T005425
CREATED:20240724T013806Z
LAST-MODIFIED:20240724T013806Z
UID:58338-1722949200-1722949200@www.coonambletimes.com.au
SUMMARY:NAIDOC Committee NAIDOC Planning Meeting
DESCRIPTION:
URL:https://www.coonambletimes.com.au/event/naidoc-committee-naidoc-planning-meeting/
LOCATION:Coonamble Local Aboriginal Lands Council
END:VEVENT
BEGIN:VEVENT
DTSTART;TZID=Australia/Sydney:20240805T173000
DTEND;TZID=Australia/Sydney:20240805T173000
DTSTAMP:20260425T005425
CREATED:20240731T065501Z
LAST-MODIFIED:20240731T065529Z
UID:58652-1722879000-1722879000@www.coonambletimes.com.au
SUMMARY:Coonamble Team Penning Annual General Meeting
DESCRIPTION:
URL:https://www.coonambletimes.com.au/event/coonamble-team-penning-annual-general-meeting-3/
LOCATION:Terminus Hotel Coonamble\, 25/27 Railway St\, Coonamble\, NSW\, 2829\, Australia
END:VEVENT
BEGIN:VEVENT
DTSTART;TZID=Australia/Sydney:20240804T120000
DTEND;TZID=Australia/Sydney:20240804T120000
DTSTAMP:20260425T005425
CREATED:20240724T013639Z
LAST-MODIFIED:20240724T013639Z
UID:58332-1722772800-1722772800@www.coonambletimes.com.au
SUMMARY:Coonamble Aero Club Annual General Meeting
DESCRIPTION:
URL:https://www.coonambletimes.com.au/event/coonamble-aero-club-annual-general-meeting-2/
LOCATION:Aero Club
END:VEVENT
BEGIN:VEVENT
DTSTART;VALUE=DATE:20240803
DTEND;VALUE=DATE:20240804
DTSTAMP:20260425T005425
CREATED:20240724T012433Z
LAST-MODIFIED:20240724T012433Z
UID:58320-1722643200-1722729599@www.coonambletimes.com.au
SUMMARY:LIVE- Shane Riley
DESCRIPTION:
URL:https://www.coonambletimes.com.au/event/live-shane-riley/
LOCATION:Coonamble Golf Club\, Caswell Street\, Coonamble\, New South Wales\, 2829\, Australia
END:VEVENT
BEGIN:VEVENT
DTSTART;VALUE=DATE:20240803
DTEND;VALUE=DATE:20240804
DTSTAMP:20260425T005425
CREATED:20240717T011035Z
LAST-MODIFIED:20240717T011116Z
UID:58108-1722643200-1722729599@www.coonambletimes.com.au
SUMMARY:Coonamble Rams Ladies Day 2024
DESCRIPTION:
URL:https://www.coonambletimes.com.au/event/coonamble-rams-ladies-day-2024/
LOCATION:Coonamble Sportsground\, Castlereagh Highway\, Coonamble\, New South Wales\, 2829\, Australia
ATTACH;FMTTYPE=application/pdf:https://www.coonambletimes.com.au/wp-content/uploads/2024/07/Cble-Rams_Ladies-Day-2024-1.pdf
END:VEVENT
BEGIN:VEVENT
DTSTART;TZID=Australia/Sydney:20240730T160000
DTEND;TZID=Australia/Sydney:20240730T160000
DTSTAMP:20260425T005425
CREATED:20240717T010737Z
LAST-MODIFIED:20240717T010737Z
UID:58104-1722355200-1722355200@www.coonambletimes.com.au
SUMMARY:EmpowerHer Agribusiness Workshop
DESCRIPTION:
URL:https://www.coonambletimes.com.au/event/empowerher-agribusiness-workshop/
LOCATION:Coonamble Bowling Club\, Aberford Street\, Coonamble\, New South Wales\, 2829\, Australia
ATTACH;FMTTYPE=application/pdf:https://www.coonambletimes.com.au/wp-content/uploads/2024/07/NSW-Farmer-4.pdf
END:VEVENT
BEGIN:VEVENT
DTSTART;TZID=Australia/Sydney:20240726T180000
DTEND;TZID=Australia/Sydney:20240726T180000
DTSTAMP:20260425T005425
CREATED:20240724T012321Z
LAST-MODIFIED:20240724T014537Z
UID:58317-1722016800-1722016800@www.coonambletimes.com.au
SUMMARY:Coonamble Rams vs Warren Pumas
DESCRIPTION:
URL:https://www.coonambletimes.com.au/event/coonamble-rams-vs-warren-pumas/
LOCATION:Coonamble Sportsground\, Castlereagh Highway\, Coonamble\, New South Wales\, 2829\, Australia
ATTACH;FMTTYPE=application/pdf:https://www.coonambletimes.com.au/wp-content/uploads/2024/07/Cble-Rams-v-Walgett_2024.pdf
END:VEVENT
BEGIN:VEVENT
DTSTART;TZID=Australia/Sydney:20240722T110000
DTEND;TZID=Australia/Sydney:20240722T110000
DTSTAMP:20260425T005425
CREATED:20240710T011516Z
LAST-MODIFIED:20240710T011516Z
UID:57889-1721646000-1721646000@www.coonambletimes.com.au
SUMMARY:Changes to Bore Water Trusts Meeting
DESCRIPTION:
URL:https://www.coonambletimes.com.au/event/changes-to-bore-water-trusts-meeting/
LOCATION:Narrabri RSL
ATTACH;FMTTYPE=application/pdf:https://www.coonambletimes.com.au/wp-content/uploads/2024/07/Bore-Water-meeting_030724.pdf
END:VEVENT
BEGIN:VEVENT
DTSTART;TZID=Australia/Sydney:20240717T080000
DTEND;TZID=Australia/Sydney:20240717T080000
DTSTAMP:20260425T005425
CREATED:20240710T012640Z
LAST-MODIFIED:20240710T012701Z
UID:57897-1721203200-1721203200@www.coonambletimes.com.au
SUMMARY:Cattle Sale
DESCRIPTION:
URL:https://www.coonambletimes.com.au/event/cattle-sale-3/
LOCATION:Coonamble Cattle yards
END:VEVENT
BEGIN:VEVENT
DTSTART;TZID=Australia/Sydney:20240713T131500
DTEND;TZID=Australia/Sydney:20240713T131500
DTSTAMP:20260425T005425
CREATED:20240710T012438Z
LAST-MODIFIED:20240710T014404Z
UID:57894-1720876500-1720876500@www.coonambletimes.com.au
SUMMARY:Sponsors Day- Rams Vs Nyngan
DESCRIPTION:
URL:https://www.coonambletimes.com.au/event/sponsors-day-rams-vs-nyngan/
LOCATION:Coonamble Sportsground\, Castlereagh Highway\, Coonamble\, New South Wales\, 2829\, Australia
ATTACH;FMTTYPE=application/pdf:https://www.coonambletimes.com.au/wp-content/uploads/2024/07/Rams-Sponsors-Day_2024.pdf
END:VEVENT
BEGIN:VEVENT
DTSTART;VALUE=DATE:20240713
DTEND;VALUE=DATE:20240714
DTSTAMP:20260425T005425
CREATED:20240626T062253Z
LAST-MODIFIED:20240626T062253Z
UID:57482-1720828800-1720915199@www.coonambletimes.com.au
SUMMARY:LIVE Music- Tanya Andrews
DESCRIPTION:
URL:https://www.coonambletimes.com.au/event/live-music-tanya-andrews/
LOCATION:Coonamble Golf Club\, Caswell Street\, Coonamble\, New South Wales\, 2829\, Australia
END:VEVENT
END:VCALENDAR