BEGIN:VCALENDAR
VERSION:2.0
PRODID:-//The Coonamble Times - ECPv6.13.2.1//NONSGML v1.0//EN
CALSCALE:GREGORIAN
METHOD:PUBLISH
X-ORIGINAL-URL:https://www.coonambletimes.com.au
X-WR-CALDESC:Events for The Coonamble Times
REFRESH-INTERVAL;VALUE=DURATION:PT1H
X-Robots-Tag:noindex
X-PUBLISHED-TTL:PT1H
BEGIN:VTIMEZONE
TZID:Australia/Sydney
BEGIN:STANDARD
TZOFFSETFROM:+1100
TZOFFSETTO:+1000
TZNAME:AEST
DTSTART:20190406T160000
END:STANDARD
BEGIN:DAYLIGHT
TZOFFSETFROM:+1000
TZOFFSETTO:+1100
TZNAME:AEDT
DTSTART:20191005T160000
END:DAYLIGHT
BEGIN:STANDARD
TZOFFSETFROM:+1100
TZOFFSETTO:+1000
TZNAME:AEST
DTSTART:20200404T160000
END:STANDARD
BEGIN:DAYLIGHT
TZOFFSETFROM:+1000
TZOFFSETTO:+1100
TZNAME:AEDT
DTSTART:20201003T160000
END:DAYLIGHT
END:VTIMEZONE
BEGIN:VEVENT
DTSTART;TZID=Australia/Sydney:20191024T043000
DTEND;TZID=Australia/Sydney:20191024T043000
DTSTAMP:20260426T013939
CREATED:20191008T175046Z
LAST-MODIFIED:20191008T175046Z
UID:6193-1571891400-1571891400@www.coonambletimes.com.au
SUMMARY:Auto & Transport Business drought forum
DESCRIPTION:Auto & Transport Business drought forum to discuss challenges facing businesses in the automotive and transport sector in the current environment \n\n\n\n\n\n 
URL:https://www.coonambletimes.com.au/event/auto-transport-business-drought-forum/
LOCATION:Coonamble Golf Club\, Caswell Street\, Coonamble\, New South Wales\, 2829\, Australia
ATTACH;FMTTYPE=image/jpeg:https://www.coonambletimes.com.au/wp-content/uploads/2019/10/Business-HQ.jpg
END:VEVENT
BEGIN:VEVENT
DTSTART;TZID=Australia/Sydney:20191101T060000
DTEND;TZID=Australia/Sydney:20191101T060000
DTSTAMP:20260426T013939
CREATED:20191021T171359Z
LAST-MODIFIED:20191021T171359Z
UID:6307-1572588000-1572588000@www.coonambletimes.com.au
SUMMARY:POMS on the big screen
DESCRIPTION:
URL:https://www.coonambletimes.com.au/event/poms-on-the-big-screen/
LOCATION:Coonamble Bowling Club\, Aberford Street\, Coonamble\, New South Wales\, 2829\, Australia
ATTACH;FMTTYPE=image/jpeg:https://www.coonambletimes.com.au/wp-content/uploads/2019/10/Bowling-club-poms.jpg
END:VEVENT
BEGIN:VEVENT
DTSTART;TZID=Australia/Sydney:20191104T053000
DTEND;TZID=Australia/Sydney:20191104T053000
DTSTAMP:20260426T013939
CREATED:20191021T170949Z
LAST-MODIFIED:20191021T170949Z
UID:6301-1572845400-1572845400@www.coonambletimes.com.au
SUMMARY:Marthaguy Melbourne Cup Calcutta
DESCRIPTION:Head to the Sundowner Hotel for their Melbourne Cup Calcutta\, BBQ & Salad dinner\, lucky drink prizes and lots more
URL:https://www.coonambletimes.com.au/event/marthaguy-melbourne-cup-calcutta/
LOCATION:Sundowner Hotel\, Quambone\, NSW\, 2829\, Australia
ATTACH;FMTTYPE=image/jpeg:https://www.coonambletimes.com.au/wp-content/uploads/2019/10/Melbourne-cup-calcutta-marthaguy.jpg
END:VEVENT
BEGIN:VEVENT
DTSTART;TZID=Australia/Sydney:20191109T210000
DTEND;TZID=Australia/Sydney:20191110T010000
DTSTAMP:20260426T013939
CREATED:20191104T175058Z
LAST-MODIFIED:20191104T175058Z
UID:6435-1573333200-1573347600@www.coonambletimes.com.au
SUMMARY:Coonamble Auto Club Inaugural Car Show
DESCRIPTION:Gates open at 8am!!
URL:https://www.coonambletimes.com.au/event/coonamble-auto-club-inaugural-car-show/
LOCATION:Coonamble Golf Club\, Caswell Street\, Coonamble\, New South Wales\, 2829\, Australia
ATTACH;FMTTYPE=image/jpeg:https://www.coonambletimes.com.au/wp-content/uploads/2019/11/Car-club.jpg
END:VEVENT
BEGIN:VEVENT
DTSTART;TZID=Australia/Sydney:20191109T213000
DTEND;TZID=Australia/Sydney:20191109T213000
DTSTAMP:20260426T013939
CREATED:20191104T175544Z
LAST-MODIFIED:20191104T175544Z
UID:6441-1573335000-1573335000@www.coonambletimes.com.au
SUMMARY:3 Person Ambrose
DESCRIPTION:
URL:https://www.coonambletimes.com.au/event/3-person-ambrose/
LOCATION:Coonamble Golf Club\, Caswell Street\, Coonamble\, New South Wales\, 2829\, Australia
ATTACH;FMTTYPE=image/jpeg:https://www.coonambletimes.com.au/wp-content/uploads/2019/11/3-person-ambrose.jpg
END:VEVENT
BEGIN:VEVENT
DTSTART;TZID=Australia/Sydney:20191112T050000
DTEND;TZID=Australia/Sydney:20191112T050000
DTSTAMP:20260426T013939
CREATED:20191104T174130Z
LAST-MODIFIED:20191104T174130Z
UID:6422-1573534800-1573534800@www.coonambletimes.com.au
SUMMARY:Coonamble Community Radio MTMFM
DESCRIPTION:Annual General Meeting 
URL:https://www.coonambletimes.com.au/event/coonamble-community-radio-mtmfm/
LOCATION:Coonamble Bowling Club\, Aberford Street\, Coonamble\, New South Wales\, 2829\, Australia
ATTACH;FMTTYPE=image/jpeg:https://www.coonambletimes.com.au/wp-content/uploads/2019/11/Radio-AGM.jpg
END:VEVENT
BEGIN:VEVENT
DTSTART;TZID=Australia/Sydney:20191113T043000
DTEND;TZID=Australia/Sydney:20191113T060000
DTSTAMP:20260426T013939
CREATED:20191021T171222Z
LAST-MODIFIED:20191021T171222Z
UID:6304-1573619400-1573624800@www.coonambletimes.com.au
SUMMARY:Clontarf End Of Year awards
DESCRIPTION:Coonamble Clontarf Academy End Of Year Awards are coming up\, be sure to RSVP by 8 November to secure your spot!
URL:https://www.coonambletimes.com.au/event/clontarf-end-of-year-awards/
LOCATION:Coonamble Bowling Club\, Aberford Street\, Coonamble\, New South Wales\, 2829\, Australia
ATTACH;FMTTYPE=image/jpeg:https://www.coonambletimes.com.au/wp-content/uploads/2019/10/Clontarf-Presentation.jpg
END:VEVENT
BEGIN:VEVENT
DTSTART;TZID=Australia/Sydney:20191120T053000
DTEND;TZID=Australia/Sydney:20191120T053000
DTSTAMP:20260426T013939
CREATED:20191104T173338Z
LAST-MODIFIED:20191104T173338Z
UID:6416-1574227800-1574227800@www.coonambletimes.com.au
SUMMARY:Coonamble Rodeo Association
DESCRIPTION:Annual General Meeting 
URL:https://www.coonambletimes.com.au/event/coonamble-rodeo-association/
LOCATION:Coonamble Bowling Club\, Aberford Street\, Coonamble\, New South Wales\, 2829\, Australia
ATTACH;FMTTYPE=image/jpeg:https://www.coonambletimes.com.au/wp-content/uploads/2019/11/Rodeo-assoc-AGM.jpg
END:VEVENT
BEGIN:VEVENT
DTSTART;TZID=Australia/Sydney:20191121T213000
DTEND;TZID=Australia/Sydney:20191121T213000
DTSTAMP:20260426T013939
CREATED:20191104T174305Z
LAST-MODIFIED:20191104T174305Z
UID:6425-1574371800-1574371800@www.coonambletimes.com.au
SUMMARY:Coonamble Men's shed
DESCRIPTION:Annual General Meeting 
URL:https://www.coonambletimes.com.au/event/coonamble-mens-shed/
LOCATION:34 Yarran Street Coonamble
ATTACH;FMTTYPE=image/jpeg:https://www.coonambletimes.com.au/wp-content/uploads/2019/11/Mens-shed-AGM.jpg
END:VEVENT
BEGIN:VEVENT
DTSTART;TZID=Australia/Sydney:20191122T053000
DTEND;TZID=Australia/Sydney:20191122T053000
DTSTAMP:20260426T013939
CREATED:20191104T173928Z
LAST-MODIFIED:20191104T173928Z
UID:6419-1574400600-1574400600@www.coonambletimes.com.au
SUMMARY:Rams Rugby Union
DESCRIPTION:Annual General Meeting 
URL:https://www.coonambletimes.com.au/event/rams-rugby-union/
LOCATION:Coonamble Bowling Club\, Aberford Street\, Coonamble\, New South Wales\, 2829\, Australia
ATTACH;FMTTYPE=image/jpeg:https://www.coonambletimes.com.au/wp-content/uploads/2019/11/Rams-AGM.jpg
END:VEVENT
BEGIN:VEVENT
DTSTART;TZID=Australia/Sydney:20191122T053000
DTEND;TZID=Australia/Sydney:20191122T053000
DTSTAMP:20260426T013939
CREATED:20191104T174656Z
LAST-MODIFIED:20191104T174656Z
UID:6432-1574400600-1574400600@www.coonambletimes.com.au
SUMMARY:Coonamble CWA Evening Branch
DESCRIPTION:Grit & Grace dinner 
URL:https://www.coonambletimes.com.au/event/coonamble-cwa-evening-branch/
LOCATION:Outback Arts
ATTACH;FMTTYPE=image/jpeg:https://www.coonambletimes.com.au/wp-content/uploads/2019/11/Grit-grace-dinner.jpg
END:VEVENT
BEGIN:VEVENT
DTSTART;TZID=Australia/Sydney:20191128T040000
DTEND;TZID=Australia/Sydney:20191128T040000
DTSTAMP:20260426T013939
CREATED:20191111T165547Z
LAST-MODIFIED:20191111T165547Z
UID:6474-1574913600-1574913600@www.coonambletimes.com.au
SUMMARY:Gungalman boat & water ski club
DESCRIPTION:Annual General Meeting 
URL:https://www.coonambletimes.com.au/event/gungalman-boat-water-ski-club/
LOCATION:Gungalman Club
ATTACH;FMTTYPE=image/jpeg:https://www.coonambletimes.com.au/wp-content/uploads/2019/11/AGM-gungalman.jpg
END:VEVENT
BEGIN:VEVENT
DTSTART;TZID=Australia/Sydney:20191128T053000
DTEND;TZID=Australia/Sydney:20191128T053000
DTSTAMP:20260426T013939
CREATED:20191104T174509Z
LAST-MODIFIED:20191104T174509Z
UID:6429-1574919000-1574919000@www.coonambletimes.com.au
SUMMARY:Gulargambone Jockey Club
DESCRIPTION:Annual General Meeting 
URL:https://www.coonambletimes.com.au/event/gulargambone-jockey-club/
LOCATION:Armatree Hotel\, Armatree
ATTACH;FMTTYPE=image/jpeg:https://www.coonambletimes.com.au/wp-content/uploads/2019/11/Gular-jocket-club-AGM.jpg
END:VEVENT
BEGIN:VEVENT
DTSTART;TZID=Australia/Sydney:20191130T110000
DTEND;TZID=Australia/Sydney:20191130T110000
DTSTAMP:20260426T013939
CREATED:20191104T175425Z
LAST-MODIFIED:20191104T175425Z
UID:6438-1575111600-1575111600@www.coonambletimes.com.au
SUMMARY:Busby Marou
DESCRIPTION:Busby Marou is coming to Armatree!!\nPurchase this weeks edition of the Coonamble Times and fill out the entry form to go in the draw to win a double pass to Busby Marou!!
URL:https://www.coonambletimes.com.au/event/busby-marou-2/
LOCATION:Armatree Hotel\, Armatree
ATTACH;FMTTYPE=image/jpeg:https://www.coonambletimes.com.au/wp-content/uploads/2019/11/Busby-marou.jpg
END:VEVENT
BEGIN:VEVENT
DTSTART;TZID=Australia/Sydney:20191207T050000
DTEND;TZID=Australia/Sydney:20191207T050000
DTSTAMP:20260426T013939
CREATED:20191118T175539Z
LAST-MODIFIED:20191118T175539Z
UID:6588-1575694800-1575694800@www.coonambletimes.com.au
SUMMARY:Let's talk about sex!
DESCRIPTION:Save the date to have a chat with Dr Rosie King about sex. Yes you read that right.. a talk about sex!\nRosie is a GP and Sex Therapist and she is coming to Coonamble!
URL:https://www.coonambletimes.com.au/event/lets-talk-about-sex/
LOCATION:Coonamble Bowling Club\, Aberford Street\, Coonamble\, New South Wales\, 2829\, Australia
ATTACH;FMTTYPE=image/jpeg:https://www.coonambletimes.com.au/wp-content/uploads/2019/11/Save-the-date.jpg
END:VEVENT
BEGIN:VEVENT
DTSTART;TZID=Australia/Sydney:20191210T110000
DTEND;TZID=Australia/Sydney:20191210T110000
DTSTAMP:20260426T013939
CREATED:20191209T182103Z
LAST-MODIFIED:20191209T182103Z
UID:6900-1575975600-1575975600@www.coonambletimes.com.au
SUMMARY:Australia Day nominations
DESCRIPTION:Australia Day nominations are still open!! If you know someone that should be nominated pick up a nomination form and get it in before the 6 January!!
URL:https://www.coonambletimes.com.au/event/australia-day-nominations/
LOCATION:NSW
ATTACH;FMTTYPE=image/jpeg:https://www.coonambletimes.com.au/wp-content/uploads/2019/12/Aus-day-nominations.jpg
END:VEVENT
BEGIN:VEVENT
DTSTART;VALUE=DATE:20191212
DTEND;VALUE=DATE:20191214
DTSTAMP:20260426T013939
CREATED:20191202T181801Z
LAST-MODIFIED:20191202T181801Z
UID:6758-1576148400-1576234799@www.coonambletimes.com.au
SUMMARY:Christmas light judging- Coonamble
DESCRIPTION:
URL:https://www.coonambletimes.com.au/event/christmas-light-judging-coonamble/
LOCATION:Coonamble
ATTACH;FMTTYPE=image/jpeg:https://www.coonambletimes.com.au/wp-content/uploads/2019/12/christmas-light-judging.jpg
END:VEVENT
BEGIN:VEVENT
DTSTART;VALUE=DATE:20191213
DTEND;VALUE=DATE:20191215
DTSTAMP:20260426T013939
CREATED:20191202T182214Z
LAST-MODIFIED:20191202T182214Z
UID:6764-1576234800-1576321199@www.coonambletimes.com.au
SUMMARY:Christmas light judging - Gulargambone
DESCRIPTION:
URL:https://www.coonambletimes.com.au/event/christmas-light-judging-gulargambone/
LOCATION:Gulargambone
ATTACH;FMTTYPE=image/jpeg:https://www.coonambletimes.com.au/wp-content/uploads/2019/12/christmas-light-judging.jpg
END:VEVENT
BEGIN:VEVENT
DTSTART;VALUE=DATE:20191214
DTEND;VALUE=DATE:20191216
DTSTAMP:20260426T013939
CREATED:20191202T181652Z
LAST-MODIFIED:20191202T181652Z
UID:6755-1576321200-1576407599@www.coonambletimes.com.au
SUMMARY:Christmas light judging winners announced
DESCRIPTION:
URL:https://www.coonambletimes.com.au/event/christmas-light-judging-winners-announced/
LOCATION:Castlereagh street
ATTACH;FMTTYPE=image/jpeg:https://www.coonambletimes.com.au/wp-content/uploads/2019/12/christmas-light-judging.jpg
END:VEVENT
BEGIN:VEVENT
DTSTART;TZID=Australia/Sydney:20191214T193000
DTEND;TZID=Australia/Sydney:20191214T193000
DTSTAMP:20260426T013939
CREATED:20191111T165814Z
LAST-MODIFIED:20191111T165814Z
UID:6478-1576351800-1576351800@www.coonambletimes.com.au
SUMMARY:Christmas street party
DESCRIPTION:Save the date for the upcoming annual Christmas street party 
URL:https://www.coonambletimes.com.au/event/christmas-street-party/
LOCATION:Castlereagh street
ATTACH;FMTTYPE=image/jpeg:https://www.coonambletimes.com.au/wp-content/uploads/2019/11/Christmas-street-party.jpg
END:VEVENT
BEGIN:VEVENT
DTSTART;TZID=Australia/Sydney:20191215T220000
DTEND;TZID=Australia/Sydney:20191215T220000
DTSTAMP:20260426T013939
CREATED:20191202T180416Z
LAST-MODIFIED:20191202T180416Z
UID:6747-1576447200-1576447200@www.coonambletimes.com.au
SUMMARY:Coonamble Golf Club AGM
DESCRIPTION:
URL:https://www.coonambletimes.com.au/event/coonamble-golf-club-agm/
LOCATION:Coonamble Golf Club\, Caswell Street\, Coonamble\, New South Wales\, 2829\, Australia
ATTACH;FMTTYPE=image/jpeg:https://www.coonambletimes.com.au/wp-content/uploads/2019/12/Golf-club-AGM.jpg
END:VEVENT
BEGIN:VEVENT
DTSTART;TZID=Australia/Sydney:20191220T043000
DTEND;TZID=Australia/Sydney:20191220T043000
DTSTAMP:20260426T013939
CREATED:20191202T181353Z
LAST-MODIFIED:20191202T181353Z
UID:6751-1576816200-1576816200@www.coonambletimes.com.au
SUMMARY:Great Artesian Basin Protection Group Inc
DESCRIPTION:Annual General Meeting 
URL:https://www.coonambletimes.com.au/event/great-artesian-basin-protection-group-inc/
LOCATION:Coonamble Bowling Club\, Aberford Street\, Coonamble\, New South Wales\, 2829\, Australia
ATTACH;FMTTYPE=image/jpeg:https://www.coonambletimes.com.au/wp-content/uploads/2019/12/Artesian-basin-AGM.jpg
END:VEVENT
BEGIN:VEVENT
DTSTART;VALUE=DATE:20191221
DTEND;VALUE=DATE:20191223
DTSTAMP:20260426T013939
CREATED:20191202T182048Z
LAST-MODIFIED:20191202T182048Z
UID:6761-1576926000-1577012399@www.coonambletimes.com.au
SUMMARY:Christmas light judging - Quambone
DESCRIPTION:
URL:https://www.coonambletimes.com.au/event/christmas-light-judging-quambone/
LOCATION:Quambone
ATTACH;FMTTYPE=image/jpeg:https://www.coonambletimes.com.au/wp-content/uploads/2019/12/christmas-light-judging.jpg
END:VEVENT
BEGIN:VEVENT
DTSTART;TZID=Australia/Sydney:20200212T210000
DTEND;TZID=Australia/Sydney:20200213T000000
DTSTAMP:20260426T013939
CREATED:20200205T191815Z
LAST-MODIFIED:20200205T191815Z
UID:7427-1581541200-1581552000@www.coonambletimes.com.au
SUMMARY:Council's February Meeting
DESCRIPTION:Members of the public are welcome to attend as observers throughout the meeting. Anyone wishing to address the Council on an item in the business paper should make arrangements prior to 12 noon on the day before the meeting. Please ring Jill on 68 271 912.
URL:https://www.coonambletimes.com.au/event/councils-february-meeting/
LOCATION:Coonamble Shire Council\, 80 Castlereagh Street\, Coonamble\, NSW\, 2829\, Australia
END:VEVENT
BEGIN:VEVENT
DTSTART;TZID=Australia/Sydney:20200215T050000
DTEND;TZID=Australia/Sydney:20200215T080000
DTSTAMP:20260426T013939
CREATED:20200211T160525Z
LAST-MODIFIED:20200211T160525Z
UID:7512-1581742800-1581753600@www.coonambletimes.com.au
SUMMARY:Valentine's Day Dinner at the Terminus Hotel
DESCRIPTION:Enjoy a romantic dinner date for Valentine’s Day with your partner at the Terminus Hotel.  \n3 courses for $42 from the Valentines Day Special Menu \nBookings required\, please phone 6822 1041
URL:https://www.coonambletimes.com.au/event/valentines-day-dinner-at-the-terminus-hotel/
LOCATION:NSW
END:VEVENT
BEGIN:VEVENT
DTSTART;TZID=Australia/Sydney:20200215T050000
DTEND;TZID=Australia/Sydney:20200215T080000
DTSTAMP:20260426T013939
CREATED:20200211T165529Z
LAST-MODIFIED:20200211T165529Z
UID:7517-1581742800-1581753600@www.coonambletimes.com.au
SUMMARY:Valentine's Day Dinner at the Coonamble Bowling Club
DESCRIPTION:Bring your lover to the Coonamble Bowling Club for a delicious meal on the 14 February 2020. \nCheck out the Coonamble Bowling Club Facebook page to see how to enter the Valentine’s giveaway. \nBook a table now!
URL:https://www.coonambletimes.com.au/event/valentines-day-dinner-at-the-coonamble-bowling-club/
LOCATION:NSW
END:VEVENT
BEGIN:VEVENT
DTSTART;TZID=Australia/Sydney:20200215T230000
DTEND;TZID=Australia/Sydney:20200216T040000
DTSTAMP:20260426T013939
CREATED:20200210T191044Z
LAST-MODIFIED:20200210T191044Z
UID:7495-1581807600-1581825600@www.coonambletimes.com.au
SUMMARY:Coonamble Cornhole Championships
DESCRIPTION:Come along to the 2nd annual Coonamble Cornhole Championship 2020! \n$1000 prize money | Music | Food Specials including Prawn Buckets | Cornhole \nTeams of 2 | $20 registration fee \nRegistration at 1pm | Strict 2pm start \nSponsored by JW Jacksons & Sons\, Tp Catering\, Swanny’s Foods and PW Concrete & Gravel
URL:https://www.coonambletimes.com.au/event/coonamble-cornhole-championships/
LOCATION:Coonamble Golf Club\, Caswell Street\, Coonamble\, New South Wales\, 2829\, Australia
END:VEVENT
BEGIN:VEVENT
DTSTART;TZID=Australia/Sydney:20200219T040000
DTEND;TZID=Australia/Sydney:20200219T060000
DTSTAMP:20260426T013939
CREATED:20200210T192844Z
LAST-MODIFIED:20200210T192844Z
UID:7500-1582084800-1582092000@www.coonambletimes.com.au
SUMMARY:Local Aboriginal Lands Council Ordinary Meeting
DESCRIPTION:On Tuesday the 18th of February 2020\, at 5pm\, the Local Aboriginal Lands Council (LALC) will be holding a meeting to cover the following agenda: \nWelcomes\, Apologies\, Minutes of previous meeting\, Approval of the Coonamble Local Aboriginal lands Council’s Community Land & Business Plan (CLBP) Workshop 2020-2025\, as well as the date and time of the next meeting. \nAll members and Aboriginal persons who have a cultural association with the land within the LALC’s area are encouraged to attend and participate in the workshop. \nA copy of the CLBP or a summary is available for viewing on request at the CLALC during business hours.
URL:https://www.coonambletimes.com.au/event/local-aboriginal-lands-council-ordinary-meeting/
LOCATION:16 Castlereagh Street
END:VEVENT
BEGIN:VEVENT
DTSTART;TZID=Australia/Sydney:20200220T220000
DTEND;TZID=Australia/Sydney:20200221T040000
DTSTAMP:20260426T013939
CREATED:20200210T185545Z
LAST-MODIFIED:20200210T185545Z
UID:7491-1582236000-1582257600@www.coonambletimes.com.au
SUMMARY:Lei'd Back Hawaiian Luncheon
DESCRIPTION:Join the Coonamble Shire in celebrating ‘Seniors Week 2020’ for Shire Residents over 50 and their carers at a Lei’d back Hawaiian themed luncheon. There will be a free lunch\, fun\, and live music by Royden Donohue. The event will be held at the Coonamble Bowling Club and will commence at 11am. Free transport will be available from Gulargambone. The theme is Hawaiian\, though dressing up is optional (but encouraged). \nTo book for the Luncheon and reserve a bus seat\, call Council on 68271900 by 14 February. \n \n 
URL:https://www.coonambletimes.com.au/event/leid-back-hawaiian-luncheon/
LOCATION:Coonamble Bowling Club\, Aberford Street\, Coonamble\, New South Wales\, 2829\, Australia
END:VEVENT
BEGIN:VEVENT
DTSTART;TZID=Australia/Sydney:20200221T200000
DTEND;TZID=Australia/Sydney:20200222T030000
DTSTAMP:20260426T013939
CREATED:20200211T170648Z
LAST-MODIFIED:20200211T170648Z
UID:7520-1582315200-1582340400@www.coonambletimes.com.au
SUMMARY:Family Matters - Succession planning for family Businesses
DESCRIPTION:Succession Planning in family businesses is an important\, yet delicate process that is especially hard to manage during the drought. This workshop aims to assist you in creating options and a stronger future for your family business.
URL:https://www.coonambletimes.com.au/event/family-matters-succession-planning-for-family-businesses/
LOCATION:NSW
END:VEVENT
END:VCALENDAR